Report for Magpie-1.163200

Back
From: metabase:user:314402c4-2aae-11df-837a-5e0a49663a4f
Subject: PASS Magpie-1.163200 v5.10.1 GNU/Linux
Date: 2016-11-15T16:31:58Z

This distribution has been tested as part of the CPAN Testers
project, supporting the Perl programming language.  See
http://wiki.cpantesters.org/ for more information or email
questions to cpan-testers-discuss@perl.org


--
Dear Kip Hampton,

This is a computer-generated report for Magpie-1.163200
on perl 5.10.1, created by CPAN-Reporter-1.2018.

Thank you for uploading your work to CPAN.  Congratulations!
All tests were successful.

Sections of this report:

    * Tester comments
    * Program output
    * Prerequisites
    * Environment and other context

------------------------------
TESTER COMMENTS
------------------------------

Additional comments from tester:

none provided

------------------------------
PROGRAM OUTPUT
------------------------------

Output from '/usr/bin/make test':

PERL_DL_NONLAZY=1 "/bbbike/perl-5.10.1/bin/perl5.10.1" "-MExtUtils::Command::MM" "-MTest::Harness" "-e" "undef *Test::Harness::Switches; test_harness(0, 'blib/lib', 'blib/arch')" t/*.t t/config/*.t t/core/*.t t/plugins/*.t t/resources/*.t t/transformers/*.t
t/000use.t ............................ ok
t/args_middleware.t ................... ok
t/author-pod-coverage.t ............... skipped: these tests are for testing by the author
t/author-pod-syntax.t ................. skipped: these tests are for testing by the author
t/breadboard.t ........................ skipped: Test requires module 'Devel::Monitor' but it's not found
t/breadboard_middleware.t ............. ok
t/config/asset_basic_container_xml.t .. ok
t/config/asset_basic_xml.t ............ ok
t/config/asset_container_nested.t ..... ok
t/config/asset_service_block.t ........ ok
t/config/asset_service_constructor.t .. ok
t/config/asset_service_setter.t ....... ok
Use of uninitialized value $accept_variant in length at /tmpfs/.cpan-build-cpansand/2016111515/Magpie-1.163200-mWwpwQ/blib/lib/Magpie/Matcher.pm line 182.
Use of uninitialized value $accept_variant in length at /tmpfs/.cpan-build-cpansand/2016111515/Magpie-1.163200-mWwpwQ/blib/lib/Magpie/Matcher.pm line 182.
t/config/match_accept_xml.t ........... ok
t/config/match_env_xml.t .............. ok
Use of uninitialized value $accept_variant in length at /tmpfs/.cpan-build-cpansand/2016111515/Magpie-1.163200-mWwpwQ/blib/lib/Magpie/Matcher.pm line 182.
Use of uninitialized value $accept_variant in length at /tmpfs/.cpan-build-cpansand/2016111515/Magpie-1.163200-mWwpwQ/blib/lib/Magpie/Matcher.pm line 182.
Use of uninitialized value $accept_variant in length at /tmpfs/.cpan-build-cpansand/2016111515/Magpie-1.163200-mWwpwQ/blib/lib/Magpie/Matcher.pm line 182.
Use of uninitialized value $accept_variant in length at /tmpfs/.cpan-build-cpansand/2016111515/Magpie-1.163200-mWwpwQ/blib/lib/Magpie/Matcher.pm line 182.
t/config/match_nested_xml.t ........... ok
t/config/match_template_xml.t ......... ok
t/config/match_xml.t .................. ok
t/config/pipeline_reset.t ............. ok
t/context_middleware.t ................ ok
t/core/basic.t ........................ ok
t/core/custom_matcher.t ............... ok
t/core/declined.t ..................... ok
t/core/done.t ......................... ok
t/core/http.t ......................... ok
t/core/mixed_pipeline.t ............... ok
t/core/no_match_404.t ................. ok
t/core/output.t ....................... ok
t/core/pipeline_args.t ................ ok
t/core/pipeloader.t ................... ok
t/core/sugar_match.t .................. ok
Use of uninitialized value $accept_variant in length at /tmpfs/.cpan-build-cpansand/2016111515/Magpie-1.163200-mWwpwQ/blib/lib/Magpie/Matcher.pm line 182.
Use of uninitialized value $accept_variant in length at /tmpfs/.cpan-build-cpansand/2016111515/Magpie-1.163200-mWwpwQ/blib/lib/Magpie/Matcher.pm line 182.
t/core/sugar_match_accept.t ........... ok
t/core/sugar_match_env.t .............. ok
Use of uninitialized value $accept_variant in length at /tmpfs/.cpan-build-cpansand/2016111515/Magpie-1.163200-mWwpwQ/blib/lib/Magpie/Matcher.pm line 182.
Use of uninitialized value $accept_variant in length at /tmpfs/.cpan-build-cpansand/2016111515/Magpie-1.163200-mWwpwQ/blib/lib/Magpie/Matcher.pm line 182.
Use of uninitialized value $accept_variant in length at /tmpfs/.cpan-build-cpansand/2016111515/Magpie-1.163200-mWwpwQ/blib/lib/Magpie/Matcher.pm line 182.
Use of uninitialized value $accept_variant in length at /tmpfs/.cpan-build-cpansand/2016111515/Magpie-1.163200-mWwpwQ/blib/lib/Magpie/Matcher.pm line 182.
t/core/sugar_match_nested.t ........... ok
t/core/sugar_match_reset.t ............ ok
t/core/sugar_match_template.t ......... ok
t/core/template_regex_edge.t .......... ok
t/dbic.t .............................. ok
t/error.t ............................. ok
t/event.t ............................. ok
t/kioku.t ............................. skipped: Test requires module 'KiokuDB' but it's not found
t/machine.t ........................... ok
t/middleware.t ........................ ok
t/middleware_component.t .............. ok
t/plack_basic.t ....................... ok
t/plugins/resource_cache.t ............ skipped: Test requires module 'Memcached::libmemcached' but it's not found
t/plugins/uri_template.t .............. ok
t/queue.t ............................. ok
t/resource_abstract.t ................. ok
t/resource_basic.t .................... ok
t/resource_file.t ..................... ok
t/resource_middleware.t ............... ok
t/resources/kioku_bb.t ................ skipped: Test requires module 'KiokuDB' but it's not found
t/traits_middleware.t ................. ok
t/transformers/tt2.t .................. ok
t/transformers/xslt_alternates.t ...... ok
t/transformers/xslt_file.t ............ ok
t/transformers/xslt_upstream.t ........ ok
t/transformers/xslt_xinclude.t ........ ok
t/transformers/xsp_basic.t ............ skipped: Test requires module 'XML::XSP' but it's not found
t/transformers/xsp_taglibs.t .......... skipped: Test requires module 'XML::XSP' but it's not found
All tests successful.
Files=60, Tests=247, 33 wallclock secs ( 0.11 usr  0.26 sys + 28.12 cusr  2.80 csys = 31.29 CPU)
Result: PASS

------------------------------
PREREQUISITES
------------------------------

Prerequisite modules loaded:

requires:

    Module                      Need   Have    
    --------------------------- ------ --------
    Bread::Board                0.25   0.34    
    Carp                        1.24   1.38    
    Class::Load                 0.20   0.23    
    Data::Printer               0      0.38    
    HTTP::Negotiate             6.00   6.01    
    HTTP::Throwable             0.016  0.026   
    Moose                       2.0402 2.1806  
    MooseX::Role::Parameterized 0      1.08    
    MooseX::Traits              0.11   0.13    
    MooseX::Types::Path::Class  0.05   0.08    
    Plack                       0.9985 1.0042  
    Scalar::Util                1.23   1.46    
    Try::Tiny                   0.11   0.27    
    URI                         1.59   1.71    

build_requires:

    Module                      Need   Have    
    --------------------------- ------ --------
    ExtUtils::MakeMaker         0      7.24    
    HTTP::Request::Common       6.02   6.11    
    Test::Requires              0      0.10    
    Test::Simple                0.98   1.302062

configure_requires:

    Module                      Need   Have    
    --------------------------- ------ --------
    ExtUtils::MakeMaker         0      7.24    


------------------------------
ENVIRONMENT AND OTHER CONTEXT
------------------------------

Environment variables:

    LANG = C
    LC_ALL = de_DE.UTF-8
    PATH = /usr/local/bin:/usr/bin:/bin:/usr/local/sbin:/usr/sbin:/sbin:/home/cpansand/bin/linux-gnu:/home/cpansand/bin/sh:/home/cpansand/bin:/usr/games:/home/cpansand/devel:/home/eserte/src/srezic-misc/scripts
    PERL5LIB = 
    PERL5OPT = 
    PERL5_CPANPLUS_IS_RUNNING = 21093
    PERL5_CPAN_IS_RUNNING = 21093
    PERL5_CPAN_IS_RUNNING_IN_RECURSION = 21031,21093
    PERLDOC = -MPod::Perldoc::ToTextOverstrike
    PERL_BATCH = yes
    PERL_CANARY_STABILITY_NOPROMPT = 1
    PERL_CPAN_REPORTER_CONFIG = /run/user/1023/cpansmoker/2016111515/cpanreporter_000_config.ini
    PERL_EXTUTILS_AUTOINSTALL = --defaultdeps
    PERL_PARALLEL_SMOKER = yes
    PERL_USE_UNSAFE_INC = 1
    SHELL = /bin/zsh
    TERM = screen
    TMPDIR = /run/user/1023/cpansmoker/2016111515

Perl special variables (and OS-specific diagnostics, for MSWin32):

    $^X = /bbbike/perl-5.10.1/bin/perl5.10.1
    $UID/$EUID = 1023 / 1023
    $GID = 1023 1023
    $EGID = 1023 1023

Perl module toolchain versions installed:

    Module              Have    
    ------------------- --------
    CPAN                1.9402  
    CPAN::Meta          2.150010
    Cwd                 3.62    
    ExtUtils::CBuilder  0.280224
    ExtUtils::Command   7.24    
    ExtUtils::Install   1.54    
    ExtUtils::MakeMaker 7.24    
    ExtUtils::Manifest  1.70    
    ExtUtils::ParseXS   3.30    
    File::Spec          3.62    
    JSON                2.90    
    JSON::PP            2.27400 
    Module::Build       0.4220  
    Module::Signature   0.80    
    Parse::CPAN::Meta   2.150010
    Test::Harness       3.36    
    Test::More          1.302062
    YAML                1.15    
    YAML::Syck          1.29    
    version             0.9916  


--

Summary of my perl5 (revision 5 version 10 subversion 1) configuration:
   
  Platform:
    osname=linux, osvers=3.16.0-4-amd64, archname=x86_64-linux
    uname='linux eserte 3.16.0-4-amd64 #1 smp debian 3.16.7-ckt25-2 (2016-04-08) x86_64 gnulinux '
    config_args='-ds -e -Dprefix=/opt/perl-5.10.1 -Dcf_email=srezic@cpan.org'
    hint=recommended, useposix=true, d_sigaction=define
    useithreads=undef, usemultiplicity=undef
    useperlio=define, d_sfio=undef, uselargefiles=define, usesocks=undef
    use64bitint=define, use64bitall=define, uselongdouble=undef
    usemymalloc=n, bincompat5005=undef
  Compiler:
    cc='cc', ccflags ='-fno-strict-aliasing -pipe -fstack-protector -I/usr/local/include -D_LARGEFILE_SOURCE -D_FILE_OFFSET_BITS=64',
    optimize='-O2',
    cppflags='-fno-strict-aliasing -pipe -fstack-protector -I/usr/local/include'
    ccversion='', gccversion='4.9.2', gccosandvers=''
    intsize=4, longsize=8, ptrsize=8, doublesize=8, byteorder=12345678
    d_longlong=define, longlongsize=8, d_longdbl=define, longdblsize=16
    ivtype='long', ivsize=8, nvtype='double', nvsize=8, Off_t='off_t', lseeksize=8
    alignbytes=8, prototype=define
  Linker and Libraries:
    ld='cc', ldflags =' -fstack-protector -L/usr/local/lib'
    libpth=/usr/local/lib /lib/x86_64-linux-gnu /lib/../lib /usr/lib/x86_64-linux-gnu /usr/lib/../lib /lib /usr/lib
    libs=-lnsl -ldl -lm -lcrypt -lutil -lc
    perllibs=-lnsl -ldl -lm -lcrypt -lutil -lc
    libc=libc-2.19.so, so=so, useshrplib=false, libperl=libperl.a
    gnulibc_version='2.19'
  Dynamic Linking:
    dlsrc=dl_dlopen.xs, dlext=so, d_dlsymun=undef, ccdlflags='-Wl,-E'
    cccdlflags='-fPIC', lddlflags='-shared -O2 -L/usr/local/lib -fstack-protector'


Characteristics of this binary (from libperl): 
  Compile-time options: PERL_DONT_CREATE_GVSV PERL_MALLOC_WRAP USE_64_BIT_ALL
                        USE_64_BIT_INT USE_LARGE_FILES USE_PERLIO
  Locally applied patches:
	Devel::PatchPerl 1.42
  Built under linux
  Compiled at May  7 2016 09:04:56
  %ENV:
    PERL5LIB=""
    PERL5OPT=""
    PERL5_CPANPLUS_IS_RUNNING="21093"
    PERL5_CPAN_IS_RUNNING="21093"
    PERL5_CPAN_IS_RUNNING_IN_RECURSION="21031,21093"
    PERLDOC="-MPod::Perldoc::ToTextOverstrike"
    PERL_BATCH="yes"
    PERL_CANARY_STABILITY_NOPROMPT="1"
    PERL_CPAN_REPORTER_CONFIG="/run/user/1023/cpansmoker/2016111515/cpanreporter_000_config.ini"
    PERL_EXTUTILS_AUTOINSTALL="--defaultdeps"
    PERL_PARALLEL_SMOKER="yes"
    PERL_USE_UNSAFE_INC="1"
  @INC:
    /opt/perl-5.10.1/lib/5.10.1/x86_64-linux
    /opt/perl-5.10.1/lib/5.10.1
    /opt/perl-5.10.1/lib/site_perl/5.10.1/x86_64-linux
    /opt/perl-5.10.1/lib/site_perl/5.10.1
    .