Back
From: metabase:user:320bfe00-2aae-11df-837a-5e0a49663a4f
Subject: PASS Magpie-1.163200 v5.22.3 RC4 GNU/Linux
Date: 2016-11-15T16:20:10Z
This distribution has been tested as part of the CPAN Testers
project, supporting the Perl programming language. See
http://wiki.cpantesters.org/ for more information or email
questions to cpan-testers-discuss@perl.org
--
Dear Kip Hampton,
This is a computer-generated report for Magpie-1.163200
on perl 5.22.3, created by CPAN-Reporter-1.2018.
Thank you for uploading your work to CPAN. Congratulations!
All tests were successful.
Sections of this report:
* Tester comments
* Program output
* Prerequisites
* Environment and other context
------------------------------
TESTER COMMENTS
------------------------------
Additional comments from tester:
this report is from an automated smoke testing program
and was not reviewed by a human for accuracy
------------------------------
PROGRAM OUTPUT
------------------------------
Output from '/usr/bin/make test':
PERL_DL_NONLAZY=1 "/home/sand/src/perl/repoperls/installed-perls/perl/v5.22.3-RC4/f7bf/bin/perl" "-MExtUtils::Command::MM" "-MTest::Harness" "-e" "undef *Test::Harness::Switches; test_harness(0, 'blib/lib', 'blib/arch')" t/*.t t/config/*.t t/core/*.t t/plugins/*.t t/resources/*.t t/transformers/*.t
t/000use.t ............................ ok
t/args_middleware.t ................... ok
t/author-pod-coverage.t ............... skipped: these tests are for testing by the author
t/author-pod-syntax.t ................. skipped: these tests are for testing by the author
t/breadboard.t ........................ skipped: Test requires module 'Devel::Monitor' but it's not found
t/breadboard_middleware.t ............. ok
t/config/asset_basic_container_xml.t .. ok
t/config/asset_basic_xml.t ............ ok
t/config/asset_container_nested.t ..... ok
t/config/asset_service_block.t ........ ok
t/config/asset_service_constructor.t .. ok
t/config/asset_service_setter.t ....... ok
t/config/match_accept_xml.t ........... ok
t/config/match_env_xml.t .............. ok
t/config/match_nested_xml.t ........... ok
t/config/match_template_xml.t ......... ok
t/config/match_xml.t .................. ok
t/config/pipeline_reset.t ............. ok
t/context_middleware.t ................ ok
t/core/basic.t ........................ ok
t/core/custom_matcher.t ............... ok
t/core/declined.t ..................... ok
t/core/done.t ......................... ok
t/core/http.t ......................... ok
t/core/mixed_pipeline.t ............... ok
t/core/no_match_404.t ................. ok
t/core/output.t ....................... ok
t/core/pipeline_args.t ................ ok
t/core/pipeloader.t ................... ok
t/core/sugar_match.t .................. ok
t/core/sugar_match_accept.t ........... ok
t/core/sugar_match_env.t .............. ok
t/core/sugar_match_nested.t ........... ok
t/core/sugar_match_reset.t ............ ok
t/core/sugar_match_template.t ......... ok
t/core/template_regex_edge.t .......... ok
t/dbic.t .............................. ok
t/error.t ............................. ok
t/event.t ............................. ok
t/kioku.t ............................. skipped: Test requires module 'KiokuDB' but it's not found
t/machine.t ........................... ok
t/middleware.t ........................ ok
t/middleware_component.t .............. ok
t/plack_basic.t ....................... ok
t/plugins/resource_cache.t ............ skipped: Test requires module 'Memcached::libmemcached' but it's not found
t/plugins/uri_template.t .............. ok
t/queue.t ............................. ok
t/resource_abstract.t ................. ok
t/resource_basic.t .................... ok
t/resource_file.t ..................... ok
t/resource_middleware.t ............... ok
t/resources/kioku_bb.t ................ skipped: Test requires module 'KiokuDB' but it's not found
t/traits_middleware.t ................. ok
t/transformers/tt2.t .................. ok
t/transformers/xslt_alternates.t ...... skipped: Test requires module 'XML::LibXSLT' but it's not found
t/transformers/xslt_file.t ............ skipped: Test requires module 'XML::LibXSLT' but it's not found
t/transformers/xslt_upstream.t ........ skipped: Test requires module 'XML::LibXSLT' but it's not found
t/transformers/xslt_xinclude.t ........ skipped: Test requires module 'XML::LibXSLT' but it's not found
t/transformers/xsp_basic.t ............ skipped: Test requires module 'XML::XSP' but it's not found
t/transformers/xsp_taglibs.t .......... skipped: Test requires module 'XML::XSP' but it's not found
All tests successful.
Files=60, Tests=225, 68 wallclock secs ( 0.16 usr 0.07 sys + 45.81 cusr 3.00 csys = 49.04 CPU)
Result: PASS
------------------------------
PREREQUISITES
------------------------------
Prerequisite modules loaded:
requires:
Module Need Have
--------------------------- ------ --------
Bread::Board 0.25 0.34
Carp 1.24 1.36
Class::Load 0.20 0.23
Data::Printer 0 0.38
HTTP::Negotiate 6.00 6.01
HTTP::Throwable 0.016 0.026
Moose 2.0402 2.1806
MooseX::Role::Parameterized 0 1.09
MooseX::Traits 0.11 0.13
MooseX::Types::Path::Class 0.05 0.09
Plack 0.9985 1.0042
Scalar::Util 1.23 1.46
Try::Tiny 0.11 0.27
URI 1.59 1.71
build_requires:
Module Need Have
--------------------------- ------ --------
ExtUtils::MakeMaker 0 7.24
HTTP::Request::Common 6.02 6.11
Test::Requires 0 0.10
Test::Simple 0.98 1.302066
configure_requires:
Module Need Have
--------------------------- ------ --------
ExtUtils::MakeMaker 0 7.24
------------------------------
ENVIRONMENT AND OTHER CONTEXT
------------------------------
Environment variables:
AUTOMATED_TESTING = 1
LANG = en_US.UTF-8
LANGUAGE = en_US:en
PATH = /home/sand/bin:/usr/local/bin:/usr/bin:/bin:/usr/games:/usr/local/perl/bin:/usr/X11/bin:/sbin:/usr/sbin
PERL5LIB =
PERL5OPT =
PERL5_CPANPLUS_IS_RUNNING = 7784
PERL5_CPAN_IS_RUNNING = 7784
PERL_CANARY_STABILITY_NOPROMPT = 1
PERL_MM_USE_DEFAULT = 1
SHELL = /usr/bin/zsh
TERM = screen
Perl special variables (and OS-specific diagnostics, for MSWin32):
$^X = /home/sand/src/perl/repoperls/installed-perls/perl/v5.22.3-RC4/f7bf/bin/perl
$UID/$EUID = 1005 / 1005
$GID = 1005 1005
$EGID = 1005 1005
Perl module toolchain versions installed:
Module Have
------------------- --------
CPAN 2.15
CPAN::Meta 2.150010
Cwd 3.62
ExtUtils::CBuilder 0.280224
ExtUtils::Command 7.24
ExtUtils::Install 2.04
ExtUtils::MakeMaker 7.24
ExtUtils::Manifest 1.70
ExtUtils::ParseXS 3.28
File::Spec 3.62
JSON 2.90
JSON::PP 2.27400
Module::Build 0.4220
Module::Signature 0.81
Parse::CPAN::Meta 2.150010
Test::Harness 3.36
Test::More 1.302066
YAML 1.18_001
YAML::Syck 1.29
version 0.9909
--
Summary of my perl5 (revision 5 version 22 subversion 3) configuration:
Commit id: fbdcfe02e796f08f85d7b27110ca9db31f10f1f1
Platform:
osname=linux, osvers=4.7.0-1-amd64, archname=x86_64-linux-thread-multi
uname='linux k83 4.7.0-1-amd64 #1 smp debian 4.7.2-1 (2016-08-28) x86_64 gnulinux '
config_args='-Dprefix=/home/sand/src/perl/repoperls/installed-perls/perl/v5.22.3-RC4/f7bf -Dmyhostname=k83 -Dinstallusrbinperl=n -Uversiononly -Dusedevel -des -Ui_db -Dlibswanted=cl pthread socket inet nsl gdbm dbm malloc dl ld sun m crypt sec util c cposix posix ucb BSD gdbm_compat -Duseithreads -Uuselongdouble -DDEBUGGING=-g'
hint=recommended, useposix=true, d_sigaction=define
useithreads=define, usemultiplicity=define
use64bitint=define, use64bitall=define, uselongdouble=undef
usemymalloc=n, bincompat5005=undef
Compiler:
cc='cc', ccflags ='-D_REENTRANT -D_GNU_SOURCE -fwrapv -fno-strict-aliasing -pipe -fstack-protector-strong -I/usr/local/include -D_LARGEFILE_SOURCE -D_FILE_OFFSET_BITS=64',
optimize='-O2 -g',
cppflags='-D_REENTRANT -D_GNU_SOURCE -fwrapv -fno-strict-aliasing -pipe -fstack-protector-strong -I/usr/local/include'
ccversion='', gccversion='6.2.0 20160830', gccosandvers=''
intsize=4, longsize=8, ptrsize=8, doublesize=8, byteorder=12345678, doublekind=3
d_longlong=define, longlongsize=8, d_longdbl=define, longdblsize=16, longdblkind=3
ivtype='long', ivsize=8, nvtype='double', nvsize=8, Off_t='off_t', lseeksize=8
alignbytes=8, prototype=define
Linker and Libraries:
ld='cc', ldflags =' -fstack-protector-strong -L/usr/local/lib'
libpth=/usr/local/lib /usr/lib/gcc/x86_64-linux-gnu/6/include-fixed /usr/include/x86_64-linux-gnu /usr/lib /lib/x86_64-linux-gnu /lib/../lib /usr/lib/x86_64-linux-gnu /usr/lib/../lib /lib
libs=-lpthread -lnsl -lgdbm -ldl -lm -lcrypt -lutil -lc -lgdbm_compat
perllibs=-lpthread -lnsl -ldl -lm -lcrypt -lutil -lc
libc=libc-2.24.so, so=so, useshrplib=false, libperl=libperl.a
gnulibc_version='2.24'
Dynamic Linking:
dlsrc=dl_dlopen.xs, dlext=so, d_dlsymun=undef, ccdlflags='-Wl,-E'
cccdlflags='-fPIC', lddlflags='-shared -O2 -g -L/usr/local/lib -fstack-protector-strong'
Characteristics of this binary (from libperl):
Compile-time options: HAS_TIMES MULTIPLICITY PERLIO_LAYERS
PERL_DONT_CREATE_GVSV
PERL_HASH_FUNC_ONE_AT_A_TIME_HARD
PERL_IMPLICIT_CONTEXT PERL_MALLOC_WRAP
PERL_NEW_COPY_ON_WRITE PERL_PRESERVE_IVUV
PERL_USE_DEVEL USE_64_BIT_ALL USE_64_BIT_INT
USE_ITHREADS USE_LARGE_FILES USE_LOCALE
USE_LOCALE_COLLATE USE_LOCALE_CTYPE
USE_LOCALE_NUMERIC USE_LOCALE_TIME USE_PERLIO
USE_PERL_ATOF USE_REENTRANT_API
Locally applied patches:
RC4
Built under linux
Compiled at Oct 16 2016 23:26:41
%ENV:
PERL5LIB=""
PERL5OPT=""
PERL5_CPANPLUS_IS_RUNNING="7784"
PERL5_CPAN_IS_RUNNING="7784"
PERL_CANARY_STABILITY_NOPROMPT="1"
PERL_MM_USE_DEFAULT="1"
@INC:
/home/sand/src/perl/repoperls/installed-perls/perl/v5.22.3-RC4/f7bf/lib/site_perl/5.22.3/x86_64-linux-thread-multi
/home/sand/src/perl/repoperls/installed-perls/perl/v5.22.3-RC4/f7bf/lib/site_perl/5.22.3
/home/sand/src/perl/repoperls/installed-perls/perl/v5.22.3-RC4/f7bf/lib/5.22.3/x86_64-linux-thread-multi
/home/sand/src/perl/repoperls/installed-perls/perl/v5.22.3-RC4/f7bf/lib/5.22.3
.