Report for Moo-2.001001

Back
From: metabase:user:30f4dfbe-2aae-11df-837a-5e0a49663a4f
Subject: PASS Moo-2.001001 v5.14.2 SunOS/Solaris
Date: 2016-04-16T17:55:24Z

This distribution has been tested as part of the CPAN Testers
project, supporting the Perl programming language.  See
http://wiki.cpantesters.org/ for more information or email
questions to cpan-testers-discuss@perl.org


--
Dear Graham Knop,

This is a computer-generated report for Moo-2.001001
on perl 5.14.2, created by CPAN-Reporter-1.2017.

Thank you for uploading your work to CPAN.  Congratulations!
All tests were successful.

Sections of this report:

    * Tester comments
    * Program output
    * Prerequisites
    * Environment and other context

------------------------------
TESTER COMMENTS
------------------------------

Additional comments from tester:

none provided

------------------------------
PROGRAM OUTPUT
------------------------------

Output from '/usr/bin/gmake test':

PERL_DL_NONLAZY=1 "/export/home/njh/perl5/perlbrew/perls/perl-5.14.2/bin/perl5.14.2" "-MExtUtils::Command::MM" "-MTest::Harness" "-e" "undef *Test::Harness::Switches; test_harness(0, 'blib/lib', 'blib/arch')" t/*.t
t/accessor-coerce.t ................ ok
t/accessor-default.t ............... ok
t/accessor-generator-extension.t ... ok
t/accessor-handles.t ............... ok
t/accessor-mixed.t ................. ok
t/accessor-isa.t ................... ok
t/accessor-pred-clear.t ............ ok
t/accessor-reader-writer.t ......... ok
t/accessor-shortcuts.t ............. ok
t/accessor-roles.t ................. ok
t/accessor-weaken-pre-5_8_3.t ...... ok
t/accessor-trigger.t ............... ok
t/accessor-weaken.t ................ ok
t/buildall-subconstructor.t ........ ok
t/buildall.t ....................... ok
t/buildargs-error.t ................ ok
t/coerce-1.t ....................... ok
t/buildargs.t ...................... ok
t/compose-non-role.t ............... ok
t/compose-conflicts.t .............. ok
t/compose-roles.t .................. ok
t/constructor-modify.t ............. ok
t/demolish-basics.t ................ ok
t/demolish-bugs-eats_exceptions.t .. ok
t/demolish-bugs-eats_mini.t ........ ok
t/demolish-global_destruction.t .... ok
t/demolish-throw.t ................. ok
t/does.t ........................... ok
t/extend-constructor.t ............. ok
t/extends-non-moo.t ................ ok
t/extends-role.t ................... ok
t/foreignbuildargs.t ............... ok
t/global_underscore.t .............. ok
t/has-array.t ...................... ok
t/has-before-extends.t ............. ok
t/has-plus.t ....................... ok
t/init-arg.t ....................... ok
t/isa-interfere.t .................. ok
t/lazy_isa.t ....................... ok
t/load_module.t .................... ok
t/load_module_error.t .............. ok
t/load_module_role_tiny.t .......... ok
t/long-package-name.t .............. ok
t/method-generate-accessor.t ....... ok
t/method-generate-constructor.t .... ok
t/modify_lazy_handlers.t ........... ok
t/moo-accessors.t .................. ok
t/moo-c3.t ......................... ok
t/moo-utils-_name_coderef.t ........ ok
t/moo-object.t ..................... ok
t/moo-utils.t ...................... ok
t/moo.t ............................ ok
t/mutual-requires.t ................ ok
t/no-build.t ....................... ok
t/no-moo.t ......................... ok
t/non-moo-extends-c3.t ............. ok
t/non-moo-extends.t ................ ok
t/not-both.t ....................... ok
t/strictures.t ..................... ok
t/overloaded-coderefs.t ............ ok
t/sub-and-handles.t ................ ok
t/sub-defer-threads.t .............. ok
t/sub-defer.t ...................... ok
t/sub-quote.t ...................... ok
t/sub-quote-threads.t .............. ok
t/subconstructor.t ................. ok
t/undef-bug.t ...................... ok
t/use-after-no.t ................... ok
t/zzz-check-breaks.t ............... ok
All tests successful.
Files=69, Tests=837,  3 wallclock secs ( 0.21 usr  0.15 sys +  2.56 cusr  1.02 csys =  3.94 CPU)
Result: PASS

------------------------------
PREREQUISITES
------------------------------

Prerequisite modules loaded:

requires:

    Module                   Need  Have    
    ------------------------ ----- --------
    Class::Method::Modifiers 1.1   2.11    
    Devel::GlobalDestruction 0.11  0.13    
    Exporter                 5.57  5.72    
    Module::Runtime          0.014 0.014   
    perl                     5.006 5.014002
    Role::Tiny               2     2.000001
    Scalar::Util             0     1.42    

build_requires:

    Module                   Need  Have    
    ------------------------ ----- --------
    Test::Fatal              0.003 0.014   
    Test::More               0.94  1.001014

configure_requires:

    Module                   Need  Have    
    ------------------------ ----- --------
    ExtUtils::MakeMaker      0     7.10    


------------------------------
ENVIRONMENT AND OTHER CONTEXT
------------------------------

Environment variables:

    HARNESS_OPTIONS = j2:c
    LANG = en_US.utf8
    LC_ALL = 
    LC_COLLATE = 
    LC_CTYPE = 
    LC_MESSAGES = 
    LC_MONETARY = 
    LC_NUMERIC = 
    LC_TIME = 
    PATH = /export/home/njh/perl5/perlbrew/bin:/export/home/njh/perl5/perlbrew/perls/perl-5.14.2/bin:::/export/home/njh/bin:/usr/local/bin:/usr/bin:/usr/sbin
    PERL5LIB = 
    PERL5OPT = 
    PERL5_CPANPLUS_IS_RUNNING = 20258
    PERL5_CPAN_IS_RUNNING = 20258
    PERLBREW_BASHRC_VERSION = 0.75
    PERLBREW_HOME = /export/home/njh/.perlbrew
    PERLBREW_MANPATH = /export/home/njh/perl5/perlbrew/perls/perl-5.14.2/man
    PERLBREW_PATH = /export/home/njh/perl5/perlbrew/bin:/export/home/njh/perl5/perlbrew/perls/perl-5.14.2/bin
    PERLBREW_PERL = perl-5.14.2
    PERLBREW_ROOT = /export/home/njh/perl5/perlbrew
    PERLBREW_VERSION = 0.75
    SHELL = /usr/bin/bash
    TERM = xterm

Perl special variables (and OS-specific diagnostics, for MSWin32):

    $^X = /export/home/njh/perl5/perlbrew/perls/perl-5.14.2/bin/perl5.14.2
    $UID/$EUID = 100 / 100
    $GID = 10 10
    $EGID = 10 10

Perl module toolchain versions installed:

    Module              Have    
    ------------------- --------
    CPAN                2.10    
    CPAN::Meta          2.150005
    Cwd                 3.47    
    ExtUtils::CBuilder  0.280224
    ExtUtils::Command   7.10    
    ExtUtils::Install   2.04    
    ExtUtils::MakeMaker 7.10    
    ExtUtils::Manifest  1.70    
    ExtUtils::ParseXS   3.30    
    File::Spec          3.47    
    JSON                2.90    
    JSON::PP            2.27300 
    Module::Build       0.4216  
    Module::Signature   n/a     
    Parse::CPAN::Meta   1.4417  
    Test::Harness       3.35    
    Test::More          1.001014
    YAML                1.15    
    YAML::Syck          1.29    
    version             0.9912  


--

Summary of my perl5 (revision 5 version 14 subversion 2) configuration:
   
  Platform:
    osname=solaris, osvers=2.11, archname=i86pc-solaris-thread-multi
    uname='sunos solaris11.bandsman.co.uk 5.11 11.2 i86pc i386 i86pc '
    config_args='-de -Dprefix=/export/home/njh/perl5/perlbrew/perls/perl-5.14.2 -Duseithreads -Dusemultiplicity -Dusedevel -Accflags=-O2 -W -Wformat=2 -Wswitch -Wshadow -Wwrite-strings -Wuninitialized -Wall -pipe -mtune=native -march=native -fomit-frame-pointer -msse2 -msse -mmmx -mfpmath=sse -D_FORTIFY_SOURCE=2 -Wpointer-arith -Wstrict-prototypes -fstack-protector -Wstack-protector -Wextra -Wbad-function-cast -Wcast-align -Wcast-qual -Wdisabled-optimization -Wendif-labels -Wfloat-equal -Wformat-nonliteral -Winline -Wmissing-declarations -Wmissing-prototypes -Wnested-externs -Wpointer-arith -Wundef -Wformat-security -ftree-vectorize -Acc=gcc -Aeval:scriptdir=/export/home/njh/perl5/perlbrew/perls/perl-5.14.2/bin'
    hint=recommended, useposix=true, d_sigaction=define
    useithreads=define, usemultiplicity=define
    useperlio=define, d_sfio=undef, uselargefiles=define, usesocks=undef
    use64bitint=undef, use64bitall=undef, uselongdouble=undef
    usemymalloc=n, bincompat5005=undef
  Compiler:
    cc=' gcc', ccflags ='-D_REENTRANT -O2 -W -Wformat=2 -Wswitch -Wshadow -Wwrite-strings -Wuninitialized -Wall -pipe -mtune=native -march=native -fomit-frame-pointer -msse2 -msse -mmmx -mfpmath=sse -D_FORTIFY_SOURCE=2 -Wpointer-arith -Wstrict-prototypes -fstack-protector -Wstack-protector -Wextra -Wbad-function-cast -Wcast-align -Wcast-qual -Wdisabled-optimization -Wendif-labels -Wfloat-equal -Wformat-nonliteral -Winline -Wmissing-declarations -Wmissing-prototypes -Wnested-externs -Wpointer-arith -Wundef -Wformat-security -ftree-vectorize -fno-strict-aliasing -I/usr/gnu/include -D_LARGEFILE_SOURCE -D_FILE_OFFSET_BITS=64 -DPERL_USE_SAFE_PUTENV',
    optimize='-O',
    cppflags='-D_REENTRANT -O2 -W -Wformat=2 -Wswitch -Wshadow -Wwrite-strings -Wuninitialized -Wall -pipe -mtune=native -march=native -fomit-frame-pointer -msse2 -msse -mmmx -mfpmath=sse -D_FORTIFY_SOURCE=2 -Wpointer-arith -Wstrict-prototypes -fstack-protector -Wstack-protector -Wextra -Wbad-function-cast -Wcast-align -Wcast-qual -Wdisabled-optimization -Wendif-labels -Wfloat-equal -Wformat-nonliteral -Winline -Wmissing-declarations -Wmissing-prototypes -Wnested-externs -Wpointer-arith -Wundef -Wformat-security -ftree-vectorize -fno-strict-aliasing -I/usr/gnu/include'
    ccversion='', gccversion='4.8.2', gccosandvers=''
    intsize=4, longsize=4, ptrsize=4, doublesize=8, byteorder=1234
    d_longlong=define, longlongsize=8, d_longdbl=define, longdblsize=12
    ivtype='long', ivsize=4, nvtype='double', nvsize=8, Off_t='off_t', lseeksize=8
    alignbytes=4, prototype=define
  Linker and Libraries:
    ld=' gcc', ldflags =' -fstack-protector -L/usr/gnu/lib '
    libpth=/usr/gnu/lib /usr/lib /usr/ccs/lib
    libs=-lsocket -lnsl -lgdbm -ldb -ldl -lm -lpthread -lc
    perllibs=-lsocket -lnsl -ldl -lm -lpthread -lc
    libc=/lib/libc.so, so=so, useshrplib=false, libperl=libperl.a
    gnulibc_version=''
  Dynamic Linking:
    dlsrc=dl_dlopen.xs, dlext=so, d_dlsymun=undef, ccdlflags=' '
    cccdlflags='-fPIC', lddlflags='-shared -L/usr/gnu/lib -fstack-protector'


Characteristics of this binary (from libperl): 
  Compile-time options: MULTIPLICITY PERL_DONT_CREATE_GVSV
                        PERL_IMPLICIT_CONTEXT PERL_MALLOC_WRAP
                        PERL_PRESERVE_IVUV PERL_USE_DEVEL
                        PERL_USE_SAFE_PUTENV USE_ITHREADS USE_LARGE_FILES
                        USE_PERLIO USE_PERL_ATOF USE_REENTRANT_API
  Locally applied patches:
	Devel::PatchPerl 1.34
  Built under solaris
  Compiled at May  3 2015 11:00:42
  %ENV:
    PERL5LIB=""
    PERL5OPT=""
    PERL5_CPANPLUS_IS_RUNNING="20258"
    PERL5_CPAN_IS_RUNNING="20258"
    PERLBREW_BASHRC_VERSION="0.75"
    PERLBREW_HOME="/export/home/njh/.perlbrew"
    PERLBREW_MANPATH="/export/home/njh/perl5/perlbrew/perls/perl-5.14.2/man"
    PERLBREW_PATH="/export/home/njh/perl5/perlbrew/bin:/export/home/njh/perl5/perlbrew/perls/perl-5.14.2/bin"
    PERLBREW_PERL="perl-5.14.2"
    PERLBREW_ROOT="/export/home/njh/perl5/perlbrew"
    PERLBREW_VERSION="0.75"
  @INC:
    /export/home/njh/perl5/perlbrew/perls/perl-5.14.2/lib/site_perl/5.14.2/i86pc-solaris-thread-multi
    /export/home/njh/perl5/perlbrew/perls/perl-5.14.2/lib/site_perl/5.14.2
    /export/home/njh/perl5/perlbrew/perls/perl-5.14.2/lib/5.14.2/i86pc-solaris-thread-multi
    /export/home/njh/perl5/perlbrew/perls/perl-5.14.2/lib/5.14.2
    .