Report for Magpie-1.163200

Back
From: metabase:user:314402c4-2aae-11df-837a-5e0a49663a4f
Subject: PASS Magpie-1.163200 v5.22.2 FreeBSD
Date: 2016-11-15T16:36:58Z

This distribution has been tested as part of the CPAN Testers
project, supporting the Perl programming language.  See
http://wiki.cpantesters.org/ for more information or email
questions to cpan-testers-discuss@perl.org


--
Dear Kip Hampton,

This is a computer-generated report for Magpie-1.163200
on perl 5.22.2, created by CPAN-Reporter-1.2018.

Thank you for uploading your work to CPAN.  Congratulations!
All tests were successful.

Sections of this report:

    * Tester comments
    * Program output
    * Prerequisites
    * Environment and other context

------------------------------
TESTER COMMENTS
------------------------------

Additional comments from tester:

none provided

------------------------------
PROGRAM OUTPUT
------------------------------

Output from '/usr/bin/make test':

PERL_DL_NONLAZY=1 "/usr/perl5.22.2p/bin/perl5.22.2" "-MExtUtils::Command::MM" "-MTest::Harness" "-e" "undef *Test::Harness::Switches; test_harness(0, 'blib/lib', 'blib/arch')" t/*.t t/config/*.t t/core/*.t t/plugins/*.t t/resources/*.t t/transformers/*.t
t/000use.t ............................ ok
t/args_middleware.t ................... ok
t/author-pod-coverage.t ............... skipped: these tests are for testing by the author
t/author-pod-syntax.t ................. skipped: these tests are for testing by the author
t/breadboard.t ........................ skipped: Test requires module 'Devel::Monitor' but it's not found
t/breadboard_middleware.t ............. ok
t/config/asset_basic_container_xml.t .. ok
t/config/asset_basic_xml.t ............ ok
t/config/asset_container_nested.t ..... ok
t/config/asset_service_block.t ........ ok
t/config/asset_service_constructor.t .. ok
t/config/asset_service_setter.t ....... ok
t/config/match_accept_xml.t ........... ok
t/config/match_env_xml.t .............. ok
t/config/match_nested_xml.t ........... ok
t/config/match_template_xml.t ......... ok
t/config/match_xml.t .................. ok
t/config/pipeline_reset.t ............. ok
t/context_middleware.t ................ ok
t/core/basic.t ........................ ok
t/core/custom_matcher.t ............... ok
t/core/declined.t ..................... ok
t/core/done.t ......................... ok
t/core/http.t ......................... ok
t/core/mixed_pipeline.t ............... ok
t/core/no_match_404.t ................. ok
t/core/output.t ....................... ok
t/core/pipeline_args.t ................ ok
t/core/pipeloader.t ................... ok
t/core/sugar_match.t .................. ok
t/core/sugar_match_accept.t ........... ok
t/core/sugar_match_env.t .............. ok
t/core/sugar_match_nested.t ........... ok
t/core/sugar_match_reset.t ............ ok
t/core/sugar_match_template.t ......... ok
t/core/template_regex_edge.t .......... ok
t/dbic.t .............................. ok
t/error.t ............................. ok
t/event.t ............................. ok
t/kioku.t ............................. skipped: Test requires module 'KiokuDB' but it's not found
t/machine.t ........................... ok
t/middleware.t ........................ ok
t/middleware_component.t .............. ok
t/plack_basic.t ....................... ok
t/plugins/resource_cache.t ............ skipped: Test requires module 'Memcached::libmemcached' but it's not found
t/plugins/uri_template.t .............. ok
t/queue.t ............................. ok
t/resource_abstract.t ................. ok
t/resource_basic.t .................... ok
t/resource_file.t ..................... ok
t/resource_middleware.t ............... ok
t/resources/kioku_bb.t ................ skipped: Test requires module 'KiokuDB' but it's not found
t/traits_middleware.t ................. ok
t/transformers/tt2.t .................. ok
t/transformers/xslt_alternates.t ...... ok
t/transformers/xslt_file.t ............ ok
t/transformers/xslt_upstream.t ........ ok
t/transformers/xslt_xinclude.t ........ ok
t/transformers/xsp_basic.t ............ skipped: Test requires module 'XML::XSP' but it's not found
t/transformers/xsp_taglibs.t .......... skipped: Test requires module 'XML::XSP' but it's not found
All tests successful.
Files=60, Tests=247, 38 wallclock secs ( 0.02 usr  0.31 sys + 28.55 cusr  2.73 csys = 31.61 CPU)
Result: PASS

------------------------------
PREREQUISITES
------------------------------

Prerequisite modules loaded:

requires:

    Module                      Need   Have    
    --------------------------- ------ --------
    Bread::Board                0.25   0.34    
    Carp                        1.24   1.38    
    Class::Load                 0.20   0.23    
    Data::Printer               0      0.38    
    HTTP::Negotiate             6.00   6.01    
    HTTP::Throwable             0.016  0.026   
    Moose                       2.0402 2.1806  
    MooseX::Role::Parameterized 0      1.09    
    MooseX::Traits              0.11   0.13    
    MooseX::Types::Path::Class  0.05   0.08    
    Plack                       0.9985 1.0039  
    Scalar::Util                1.23   1.46    
    Try::Tiny                   0.11   0.27    
    URI                         1.59   1.71    

build_requires:

    Module                      Need   Have    
    --------------------------- ------ --------
    ExtUtils::MakeMaker         0      7.24    
    HTTP::Request::Common       6.02   6.11    
    Test::Requires              0      0.10    
    Test::Simple                0.98   1.302062

configure_requires:

    Module                      Need   Have    
    --------------------------- ------ --------
    ExtUtils::MakeMaker         0      7.24    


------------------------------
ENVIRONMENT AND OTHER CONTEXT
------------------------------

Environment variables:

    LC_ALL = de_DE.ISO8859-1
    PATH = /usr/local/bin:/usr/bin:/bin:/usr/local/sbin:/usr/sbin:/sbin:/home/cpansand/bin/freebsd10.1:/home/cpansand/bin/sh:/home/cpansand/bin:/usr/games:/home/cpansand/devel:/home/eserte/src/srezic-misc/scripts
    PERL5LIB = /home/cpansand/.cpan/build/2016111515/HTTP-Throwable-0.026-56ChFk/blib/arch:/home/cpansand/.cpan/build/2016111515/HTTP-Throwable-0.026-56ChFk/blib/lib
    PERL5OPT = 
    PERL5_CPANPLUS_IS_RUNNING = 27665
    PERL5_CPAN_IS_RUNNING = 27665
    PERL5_CPAN_IS_RUNNING_IN_RECURSION = 27626,27665
    PERLDOC = -MPod::Perldoc::ToTextOverstrike
    PERL_BATCH = yes
    PERL_CANARY_STABILITY_NOPROMPT = 1
    PERL_CPAN_REPORTER_CONFIG = /var/tmp/cpansmoker-1023/2016111515/cpanreporter_000_config.ini
    PERL_EXTUTILS_AUTOINSTALL = --defaultdeps
    SHELL = /usr/local/bin/zsh
    TERM = screen
    TMPDIR = /var/tmp/cpansmoker-1023/2016111515

Perl special variables (and OS-specific diagnostics, for MSWin32):

    $^X = /usr/perl5.22.2p/bin/perl5.22.2
    $UID/$EUID = 1023 / 1023
    $GID = 1023 1023
    $EGID = 1023 1023

Perl module toolchain versions installed:

    Module              Have    
    ------------------- --------
    CPAN                2.11    
    CPAN::Meta          2.150010
    Cwd                 3.62    
    ExtUtils::CBuilder  0.280221
    ExtUtils::Command   7.24    
    ExtUtils::Install   2.04    
    ExtUtils::MakeMaker 7.24    
    ExtUtils::Manifest  1.70    
    ExtUtils::ParseXS   3.28    
    File::Spec          3.62    
    JSON                2.90    
    JSON::PP            2.27300 
    Module::Build       0.4220  
    Module::Signature   0.81    
    Parse::CPAN::Meta   2.150010
    Test::Harness       3.35    
    Test::More          1.302062
    YAML                1.15    
    YAML::Syck          1.29    
    version             0.9917  


--

Summary of my perl5 (revision 5 version 22 subversion 2) configuration:
   
  Platform:
    osname=freebsd, osvers=10.1-release, archname=amd64-freebsd
    uname='freebsd cvrsnica-freebsd-101.herceg.de 10.1-release freebsd 10.1-release #0 r274401: tue nov 11 21:02:49 utc 2014 root@releng1.nyi.freebsd.org:usrobjusrsrcsysgeneric amd64 '
    config_args='-ds -e -Dprefix=/usr/perl5.22.2p -Dcf_email=srezic@cpan.org -Doptimize=-O2 -pipe'
    hint=recommended, useposix=true, d_sigaction=define
    useithreads=undef, usemultiplicity=undef
    use64bitint=define, use64bitall=define, uselongdouble=undef
    usemymalloc=n, bincompat5005=undef
  Compiler:
    cc='cc', ccflags ='-DHAS_FPSETMASK -DHAS_FLOATINGPOINT_H -fno-strict-aliasing -pipe -fstack-protector -I/usr/local/include -D_FORTIFY_SOURCE=2',
    optimize='-O2 -pipe',
    cppflags='-DHAS_FPSETMASK -DHAS_FLOATINGPOINT_H -fno-strict-aliasing -pipe -fstack-protector -I/usr/local/include'
    ccversion='', gccversion='4.2.1 Compatible FreeBSD Clang 3.4.1 (tags/RELEASE_34/dot1-final 208032)', gccosandvers=''
    intsize=4, longsize=8, ptrsize=8, doublesize=8, byteorder=12345678, doublekind=3
    d_longlong=define, longlongsize=8, d_longdbl=define, longdblsize=16, longdblkind=3
    ivtype='long', ivsize=8, nvtype='double', nvsize=8, Off_t='off_t', lseeksize=8
    alignbytes=8, prototype=define
  Linker and Libraries:
    ld='cc', ldflags ='-pthread -Wl,-E  -fstack-protector -L/usr/local/lib'
    libpth=/usr/lib /usr/local/lib /usr/include/clang/3.4.1 /usr/lib
    libs=-lpthread -lgdbm -lm -lcrypt -lutil -lc
    perllibs=-lpthread -lm -lcrypt -lutil -lc
    libc=, so=so, useshrplib=false, libperl=libperl.a
    gnulibc_version=''
  Dynamic Linking:
    dlsrc=dl_dlopen.xs, dlext=so, d_dlsymun=undef, ccdlflags=' '
    cccdlflags='-DPIC -fPIC', lddlflags='-shared  -L/usr/local/lib -fstack-protector'


Characteristics of this binary (from libperl): 
  Compile-time options: HAS_TIMES PERLIO_LAYERS PERL_DONT_CREATE_GVSV
                        PERL_HASH_FUNC_ONE_AT_A_TIME_HARD PERL_MALLOC_WRAP
                        PERL_NEW_COPY_ON_WRITE PERL_PRESERVE_IVUV
                        USE_64_BIT_ALL USE_64_BIT_INT USE_LARGE_FILES
                        USE_LOCALE USE_LOCALE_COLLATE USE_LOCALE_CTYPE
                        USE_LOCALE_NUMERIC USE_LOCALE_TIME USE_PERLIO
                        USE_PERL_ATOF
  Built under freebsd
  Compiled at May 29 2016 23:34:36
  %ENV:
    PERL5LIB="/home/cpansand/.cpan/build/2016111515/HTTP-Throwable-0.026-56ChFk/blib/arch:/home/cpansand/.cpan/build/2016111515/HTTP-Throwable-0.026-56ChFk/blib/lib"
    PERL5OPT=""
    PERL5_CPANPLUS_IS_RUNNING="27665"
    PERL5_CPAN_IS_RUNNING="27665"
    PERL5_CPAN_IS_RUNNING_IN_RECURSION="27626,27665"
    PERLDOC="-MPod::Perldoc::ToTextOverstrike"
    PERL_BATCH="yes"
    PERL_CANARY_STABILITY_NOPROMPT="1"
    PERL_CPAN_REPORTER_CONFIG="/var/tmp/cpansmoker-1023/2016111515/cpanreporter_000_config.ini"
    PERL_EXTUTILS_AUTOINSTALL="--defaultdeps"
  @INC:
    /home/cpansand/.cpan/build/2016111515/HTTP-Throwable-0.026-56ChFk/blib/arch
    /home/cpansand/.cpan/build/2016111515/HTTP-Throwable-0.026-56ChFk/blib/lib
    /usr/perl5.22.2p/lib/site_perl/5.22.2/amd64-freebsd
    /usr/perl5.22.2p/lib/site_perl/5.22.2
    /usr/perl5.22.2p/lib/5.22.2/amd64-freebsd
    /usr/perl5.22.2p/lib/5.22.2
    .