Report for Magpie-1.163200

Back
From: metabase:user:314402c4-2aae-11df-837a-5e0a49663a4f
Subject: PASS Magpie-1.163200 v5.25.12 GNU/Linux
Date: 2017-04-22T05:23:24Z

This distribution has been tested as part of the CPAN Testers
project, supporting the Perl programming language.  See
http://wiki.cpantesters.org/ for more information or email
questions to cpan-testers-discuss@perl.org


--
Dear Kip Hampton (PAUSE Custodial Account),

This is a computer-generated report for Magpie-1.163200
on perl 5.25.12, created by CPAN-Reporter-1.2018.

Thank you for uploading your work to CPAN.  Congratulations!
All tests were successful.

Sections of this report:

    * Tester comments
    * Program output
    * Prerequisites
    * Environment and other context

------------------------------
TESTER COMMENTS
------------------------------

Additional comments from tester:

none provided

------------------------------
PROGRAM OUTPUT
------------------------------

Output from '/usr/bin/make test':

PERL_DL_NONLAZY=1 "/opt/perl-5.25.12/bin/perl5.25.12" "-MExtUtils::Command::MM" "-MTest::Harness" "-e" "undef *Test::Harness::Switches; test_harness(0, 'blib/lib', 'blib/arch')" t/*.t t/config/*.t t/core/*.t t/plugins/*.t t/resources/*.t t/transformers/*.t
t/000use.t ............................ ok
t/args_middleware.t ................... ok
t/author-pod-coverage.t ............... skipped: these tests are for testing by the author
t/author-pod-syntax.t ................. skipped: these tests are for testing by the author
t/breadboard.t ........................ skipped: Test requires module 'Devel::Monitor' but it's not found
t/breadboard_middleware.t ............. ok
t/config/asset_basic_container_xml.t .. ok
t/config/asset_basic_xml.t ............ ok
t/config/asset_container_nested.t ..... ok
t/config/asset_service_block.t ........ ok
t/config/asset_service_constructor.t .. ok
t/config/asset_service_setter.t ....... ok
t/config/match_accept_xml.t ........... ok
t/config/match_env_xml.t .............. ok
t/config/match_nested_xml.t ........... ok
t/config/match_template_xml.t ......... ok
t/config/match_xml.t .................. ok
t/config/pipeline_reset.t ............. ok
t/context_middleware.t ................ ok
t/core/basic.t ........................ ok
t/core/custom_matcher.t ............... ok
t/core/declined.t ..................... ok
t/core/done.t ......................... ok
t/core/http.t ......................... ok
t/core/mixed_pipeline.t ............... ok
t/core/no_match_404.t ................. ok
t/core/output.t ....................... ok
t/core/pipeline_args.t ................ ok
t/core/pipeloader.t ................... ok
t/core/sugar_match.t .................. ok
t/core/sugar_match_accept.t ........... ok
t/core/sugar_match_env.t .............. ok
t/core/sugar_match_nested.t ........... ok
t/core/sugar_match_reset.t ............ ok
t/core/sugar_match_template.t ......... ok
t/core/template_regex_edge.t .......... ok
t/dbic.t .............................. ok
t/error.t ............................. ok
t/event.t ............................. ok
t/kioku.t ............................. skipped: Test requires module 'KiokuDB' but it's not found
t/machine.t ........................... ok
t/middleware.t ........................ ok
t/middleware_component.t .............. ok
t/plack_basic.t ....................... ok
t/plugins/resource_cache.t ............ skipped: Test requires module 'Memcached::libmemcached' but it's not found
t/plugins/uri_template.t .............. ok
t/queue.t ............................. ok
t/resource_abstract.t ................. ok
t/resource_basic.t .................... ok
t/resource_file.t ..................... ok
t/resource_middleware.t ............... ok
t/resources/kioku_bb.t ................ skipped: Test requires module 'KiokuDB' but it's not found
t/traits_middleware.t ................. ok
t/transformers/tt2.t .................. ok
t/transformers/xslt_alternates.t ...... ok
t/transformers/xslt_file.t ............ ok
t/transformers/xslt_upstream.t ........ ok
t/transformers/xslt_xinclude.t ........ ok
t/transformers/xsp_basic.t ............ skipped: Test requires module 'XML::XSP' but it's not found
t/transformers/xsp_taglibs.t .......... skipped: Test requires module 'XML::XSP' but it's not found
All tests successful.
Files=60, Tests=247, 55 wallclock secs ( 0.19 usr  0.09 sys + 51.56 cusr  2.96 csys = 54.80 CPU)
Result: PASS

------------------------------
PREREQUISITES
------------------------------

Prerequisite modules loaded:

requires:

    Module                      Need   Have    
    --------------------------- ------ --------
    Bread::Board                0.25   0.34    
    Carp                        1.24   1.42    
    Class::Load                 0.20   0.24    
    Data::Printer               0      0.39    
    HTTP::Negotiate             6.00   6.01    
    HTTP::Throwable             0.016  0.026   
    Moose                       2.0402 2.2004  
    MooseX::Role::Parameterized 0      1.10    
    MooseX::Traits              0.11   0.13    
    MooseX::Types::Path::Class  0.05   0.09    
    Plack                       0.9985 1.0043  
    Scalar::Util                1.23   1.47    
    Try::Tiny                   0.11   0.28    
    URI                         1.59   1.71    

build_requires:

    Module                      Need   Have    
    --------------------------- ------ --------
    ExtUtils::MakeMaker         0      7.24    
    HTTP::Request::Common       6.02   6.11    
    Test::Requires              0      0.10    
    Test::Simple                0.98   1.302083

configure_requires:

    Module                      Need   Have    
    --------------------------- ------ --------
    ExtUtils::MakeMaker         0      7.24    

opt_requires:

    Module                      Need   Have    
    --------------------------- ------ --------
    CHI                         0.50   0.60    
    JSON::Any                   1.29   1.39    
  ! KiokuDB                     0.52   n/a     
  ! KiokuDB::Backend::DBI       1.21   n/a     
  ! KiokuX::Model               0.02   n/a     
    XML::LibXML                 1.90   2.0129  


------------------------------
ENVIRONMENT AND OTHER CONTEXT
------------------------------

Environment variables:

    LANG = en_US.UTF-8
    LANGUAGE = en_US:en
    PATH = /usr/local/bin:/usr/bin:/bin:/usr/local/sbin:/usr/sbin:/sbin:/home/cpansand/bin/linux-gnu:/home/cpansand/bin/sh:/home/cpansand/bin:/usr/games:/home/cpansand/devel:/home/eserte/src/srezic-misc/scripts
    PERL5LIB = 
    PERL5OPT = 
    PERL5_CPANPLUS_IS_RUNNING = 15784
    PERL5_CPAN_IS_RUNNING = 15784
    PERL5_CPAN_IS_RUNNING_IN_RECURSION = 28421,15784
    PERLDOC = -MPod::Perldoc::ToTextOverstrike
    PERL_BATCH = yes
    PERL_CANARY_STABILITY_NOPROMPT = 1
    PERL_CPAN_REPORTER_CONFIG = /var/tmp/cpansmoker-1002/2017042203/cpanreporter_001_config.ini
    PERL_EXTUTILS_AUTOINSTALL = --defaultdeps
    PERL_USE_UNSAFE_INC = 1
    SHELL = /bin/zsh
    TERM = screen
    TMPDIR = /var/tmp/cpansmoker-1002/2017042203

Perl special variables (and OS-specific diagnostics, for MSWin32):

    $^X = /opt/perl-5.25.12/bin/perl5.25.12
    $UID/$EUID = 1002 / 1002
    $GID = 1002 1002
    $EGID = 1002 1002

Perl module toolchain versions installed:

    Module              Have      
    ------------------- ----------
    CPAN                2.18      
    CPAN::Meta          2.150010  
    Cwd                 3.67      
    ExtUtils::CBuilder  0.280225  
    ExtUtils::Command   7.24      
    ExtUtils::Install   2.04      
    ExtUtils::MakeMaker 7.24      
    ExtUtils::Manifest  1.70      
    ExtUtils::ParseXS   3.34      
    File::Spec          3.67      
    JSON                2.90      
    JSON::PP            2.27400_02
    Module::Build       0.4222    
    Module::Signature   0.81      
    Parse::CPAN::Meta   2.150010  
    Test::Harness       3.39      
    Test::More          1.302083  
    YAML                1.23      
    YAML::Syck          1.30      
    version             0.9917    


--

Summary of my perl5 (revision 5 version 25 subversion 12) configuration:
   
  Platform:
    osname=linux
    osvers=4.9.0-2-amd64
    archname=x86_64-linux
    uname='linux prod4 4.9.0-2-amd64 #1 smp debian 4.9.18-1 (2017-03-30) x86_64 gnulinux '
    config_args='-ds -e -Dprefix=/opt/perl-5.25.12 -Dusedevel -Dusemallocwrap=no -Dcf_email=srezic@cpan.org'
    hint=recommended
    useposix=true
    d_sigaction=define
    useithreads=undef
    usemultiplicity=undef
    use64bitint=define
    use64bitall=define
    uselongdouble=undef
    usemymalloc=n
    default_inc_excludes_dot=define
    bincompat5005=undef
  Compiler:
    cc='cc'
    ccflags ='-fwrapv -fno-strict-aliasing -pipe -fstack-protector-strong -I/usr/local/include -D_LARGEFILE_SOURCE -D_FILE_OFFSET_BITS=64'
    optimize='-O2'
    cppflags='-fwrapv -fno-strict-aliasing -pipe -fstack-protector-strong -I/usr/local/include'
    ccversion=''
    gccversion='6.3.0 20170406'
    gccosandvers=''
    intsize=4
    longsize=8
    ptrsize=8
    doublesize=8
    byteorder=12345678
    doublekind=3
    d_longlong=define
    longlongsize=8
    d_longdbl=define
    longdblsize=16
    longdblkind=3
    ivtype='long'
    ivsize=8
    nvtype='double'
    nvsize=8
    Off_t='off_t'
    lseeksize=8
    alignbytes=8
    prototype=define
  Linker and Libraries:
    ld='cc'
    ldflags =' -fstack-protector-strong -L/usr/local/lib'
    libpth=/usr/local/lib /usr/lib/gcc/x86_64-linux-gnu/6/include-fixed /usr/include/x86_64-linux-gnu /usr/lib /lib/x86_64-linux-gnu /lib/../lib /usr/lib/x86_64-linux-gnu /usr/lib/../lib /lib
    libs=-lpthread -lnsl -lgdbm -ldb -ldl -lm -lcrypt -lutil -lc -lgdbm_compat
    perllibs=-lpthread -lnsl -ldl -lm -lcrypt -lutil -lc
    libc=libc-2.24.so
    so=so
    useshrplib=false
    libperl=libperl.a
    gnulibc_version='2.24'
  Dynamic Linking:
    dlsrc=dl_dlopen.xs
    dlext=so
    d_dlsymun=undef
    ccdlflags='-Wl,-E'
    cccdlflags='-fPIC'
    lddlflags='-shared -O2 -L/usr/local/lib -fstack-protector-strong'


Characteristics of this binary (from libperl): 
  Compile-time options:
    HAS_TIMES
    PERLIO_LAYERS
    PERL_COPY_ON_WRITE
    PERL_DONT_CREATE_GVSV
    PERL_OP_PARENT
    PERL_PRESERVE_IVUV
    PERL_USE_DEVEL
    USE_64_BIT_ALL
    USE_64_BIT_INT
    USE_LARGE_FILES
    USE_LOCALE
    USE_LOCALE_COLLATE
    USE_LOCALE_CTYPE
    USE_LOCALE_NUMERIC
    USE_LOCALE_TIME
    USE_PERLIO
    USE_PERL_ATOF
  Built under linux
  Compiled at Apr 20 2017 19:57:56
  %ENV:
    PERL5LIB=""
    PERL5OPT=""
    PERL5_CPANPLUS_IS_RUNNING="15784"
    PERL5_CPAN_IS_RUNNING="15784"
    PERL5_CPAN_IS_RUNNING_IN_RECURSION="28421,15784"
    PERLDOC="-MPod::Perldoc::ToTextOverstrike"
    PERL_BATCH="yes"
    PERL_CANARY_STABILITY_NOPROMPT="1"
    PERL_CPAN_REPORTER_CONFIG="/var/tmp/cpansmoker-1002/2017042203/cpanreporter_001_config.ini"
    PERL_EXTUTILS_AUTOINSTALL="--defaultdeps"
    PERL_USE_UNSAFE_INC="1"
  @INC:
    /opt/perl-5.25.12/lib/site_perl/5.25.12/x86_64-linux
    /opt/perl-5.25.12/lib/site_perl/5.25.12
    /opt/perl-5.25.12/lib/5.25.12/x86_64-linux
    /opt/perl-5.25.12/lib/5.25.12
    .