Report for Test-1.26

Back
From: metabase:user:6b533be2-a80a-11e2-9c38-1af7c7a93c9e
Subject: PASS Test-1.26 v5.12.4 Mac OS X
Date: 2013-04-18T11:27:24Z

This distribution has been tested as part of the CPAN Testers
project, supporting the Perl programming language.  See
http://wiki.cpantesters.org/ for more information or email
questions to cpan-testers-discuss@perl.org


--
Dear Jesse Vincent,

This is a computer-generated report for Test-1.26
on perl 5.12.4, created by CPAN-Reporter-1.2009.

Thank you for uploading your work to CPAN.  Congratulations!
All tests were successful.

Sections of this report:

    * Tester comments
    * Program output
    * Prerequisites
    * Environment and other context

------------------------------
TESTER COMMENTS
------------------------------

Additional comments from tester:

none provided

------------------------------
PROGRAM OUTPUT
------------------------------

Output from '/usr/bin/make test':

PERL_DL_NONLAZY=1 /usr/bin/perl "-MExtUtils::Command::MM" "-e" "test_harness(0, 'blib/lib', 'blib/arch')" t/*.t
t/05_about_verbose.t .. ok
t/fail.t .............. ok
t/mix.t ............... ok
t/multiline.t ......... ok
t/onfail.t ............ ok
t/qr.t ................ ok
t/skip.t .............. ok
t/success.t ........... ok
t/todo.t .............. ok
All tests successful.
Files=9, Tests=44,  1 wallclock secs ( 0.05 usr  0.02 sys +  0.15 cusr  0.06 csys =  0.28 CPU)
Result: PASS

------------------------------
PREREQUISITES
------------------------------

Prerequisite modules loaded:

requires:

    Module              Need   Have
    ------------------- ------ ----
    File::Spec          0      3.40
    Test::Harness       1.1601 3.17

build_requires:

    Module              Need   Have
    ------------------- ------ ----
    ExtUtils::MakeMaker 0      6.64

configure_requires:

    Module              Need   Have
    ------------------- ------ ----
    ExtUtils::MakeMaker 0      6.64


------------------------------
ENVIRONMENT AND OTHER CONTEXT
------------------------------

Environment variables:

    LANG = en_US.UTF-8
    PATH = /Users/jkortegard/.rvm/gems/ruby-1.9.3-p362/bin:/Users/jkortegard/.rvm/gems/ruby-1.9.3-p362@global/bin:/Users/jkortegard/.rvm/rubies/ruby-1.9.3-p362/bin:/Users/jkortegard/.rvm/bin:/Users/jkortegard/bin:/usr/local/bin:/usr/local/sbin:/Users/jkortegard/perl5/bin:/usr/bin:/bin:/usr/sbin:/sbin:/usr/local/bin
    PERL5LIB = /Users/jkortegard/perl5/lib/perl5:
    PERL5OPT = 
    PERL5_CPANPLUS_IS_RUNNING = 65872
    PERL5_CPAN_IS_RUNNING = 65872
    PERL_LOCAL_LIB_ROOT = :/Users/jkortegard/perl5
    PERL_MB_OPT = --install_base /Users/jkortegard/perl5
    PERL_MM_OPT = INSTALL_BASE=/Users/jkortegard/perl5
    SHELL = /bin/sh
    TERM = xterm
    TMPDIR = /var/folders/9p/_r45_tkx3mz074m6t0y__x680000gn/T/
    VERSIONER_PERL_PREFER_32_BIT = no
    VERSIONER_PERL_VERSION = 5.12

Perl special variables (and OS-specific diagnostics, for MSWin32):

    $^X = /usr/bin/perl
    $UID/$EUID = 501 / 501
    $GID = 20 20 501 401 12 33 61 79 80 81 98 100 204
    $EGID = 20 20 501 401 12 33 61 79 80 81 98 100 204

Perl module toolchain versions installed:

    Module              Have    
    ------------------- --------
    CPAN                2.00    
    CPAN::Meta          2.130880
    Cwd                 3.40    
    ExtUtils::CBuilder  0.280205
    ExtUtils::Command   1.17    
    ExtUtils::Install   1.55    
    ExtUtils::MakeMaker 6.64    
    ExtUtils::Manifest  1.61    
    ExtUtils::ParseXS   3.18    
    File::Spec          3.40    
    JSON                2.57    
    JSON::PP            2.27202 
    Module::Build       0.4004  
    Module::Signature   0.70    
    Parse::CPAN::Meta   1.4404  
    Test::Harness       3.17    
    Test::More          0.98    
    YAML                0.84    
    YAML::Syck          1.17    
    version             0.9901  


--

Summary of my perl5 (revision 5 version 12 subversion 4) configuration:
   
  Platform:
    osname=darwin, osvers=12.0, archname=darwin-thread-multi-2level
    uname='darwin b1026.apple.com 12.0 darwin kernel version 12.0.0: tue may 15 23:31:29 pdt 2012; root:xnu-2050.6.70~1release_x86_64 x86_64 '
    config_args='-ds -e -Dprefix=/usr -Dccflags=-g  -pipe  -Dldflags= -Dman3ext=3pm -Duseithreads -Duseshrplib -Dinc_version_list=none -Dcc=clang'
    hint=recommended, useposix=true, d_sigaction=define
    useithreads=define, usemultiplicity=define
    useperlio=define, d_sfio=undef, uselargefiles=define, usesocks=undef
    use64bitint=define, use64bitall=define, uselongdouble=undef
    usemymalloc=n, bincompat5005=undef
  Compiler:
    cc='clang', ccflags ='-arch i386 -arch x86_64 -g -pipe -fno-common -DPERL_DARWIN -fno-strict-aliasing -fstack-protector -I/usr/local/include',
    optimize='-Os',
    cppflags='-g -pipe -fno-common -DPERL_DARWIN -fno-strict-aliasing -fstack-protector -I/usr/local/include'
    ccversion='', gccversion='4.2.1 Compatible Apple Clang 4.0 (tags/Apple/clang-418.0.60)', gccosandvers=''
    intsize=4, longsize=8, ptrsize=8, doublesize=8, byteorder=12345678
    d_longlong=define, longlongsize=8, d_longdbl=define, longdblsize=16
    ivtype='long', ivsize=8, nvtype='double', nvsize=8, Off_t='off_t', lseeksize=8
    alignbytes=8, prototype=define
  Linker and Libraries:
    ld='clang -mmacosx-version-min=10.8', ldflags ='-arch i386 -arch x86_64 -fstack-protector -L/usr/local/lib'
    libpth=/usr/local/lib /usr/lib
    libs=-ldbm -ldl -lm -lutil -lc
    perllibs=-ldl -lm -lutil -lc
    libc=, so=dylib, useshrplib=true, libperl=libperl.dylib
    gnulibc_version=''
  Dynamic Linking:
    dlsrc=dl_dlopen.xs, dlext=bundle, d_dlsymun=undef, ccdlflags=' '
    cccdlflags=' ', lddlflags='-arch i386 -arch x86_64 -bundle -undefined dynamic_lookup -L/usr/local/lib -fstack-protector'


Characteristics of this binary (from libperl): 
  Compile-time options: MULTIPLICITY PERL_DONT_CREATE_GVSV
                        PERL_IMPLICIT_CONTEXT PERL_MALLOC_WRAP USE_64_BIT_ALL
                        USE_64_BIT_INT USE_ITHREADS USE_LARGE_FILES
                        USE_PERLIO USE_PERL_ATOF USE_REENTRANT_API
  Locally applied patches:
	/Library/Perl/Updates/<version> comes before system perl directories
	installprivlib and installarchlib points to the Updates directory
  Built under darwin
  Compiled at Jun 20 2012 13:55:28
  %ENV:
    PERL5LIB="/Users/jkortegard/perl5/lib/perl5:"
    PERL5OPT=""
    PERL5_CPANPLUS_IS_RUNNING="65872"
    PERL5_CPAN_IS_RUNNING="65872"
    PERL_LOCAL_LIB_ROOT=":/Users/jkortegard/perl5"
    PERL_MB_OPT="--install_base /Users/jkortegard/perl5"
    PERL_MM_OPT="INSTALL_BASE=/Users/jkortegard/perl5"
  @INC:
    /Users/jkortegard/perl5/lib/perl5/darwin-thread-multi-2level
    /Users/jkortegard/perl5/lib/perl5
    /Library/Perl/5.12/darwin-thread-multi-2level
    /Library/Perl/5.12
    /Network/Library/Perl/5.12/darwin-thread-multi-2level
    /Network/Library/Perl/5.12
    /Library/Perl/Updates/5.12.4
    /System/Library/Perl/5.12/darwin-thread-multi-2level
    /System/Library/Perl/5.12
    /System/Library/Perl/Extras/5.12/darwin-thread-multi-2level
    /System/Library/Perl/Extras/5.12
    .