Test-Script v1.29 Perl 5 v5.32.1 MSWin32-x86-multi-thread-64int
- Status
- Pass
- From
- gregor herrmann
- Dist
-
Test-Script v1.29
- Platform
- Perl 5 v5.32.1 MSWin32-x86-multi-thread-64int
- Date
- 2021-05-13 19:26:57
- ID
- 0009b012-6c49-1014-a1c7-3f48f2ac6c8b
This distribution has been tested as part of the CPAN Testers
project, supporting the Perl programming language. See
http://wiki.cpantesters.org/ for more information or email
questions to cpan-testers-discuss@perl.org
--
Dear Graham Ollis,
This is a computer-generated report for Test-Script-1.29
on perl 5.32.1, created by CPAN-Reporter-1.2018.
Thank you for uploading your work to CPAN. Congratulations!
All tests were successful.
Sections of this report:
* Tester comments
* Program output
* Prerequisites
* Environment and other context
------------------------------
TESTER COMMENTS
------------------------------
Additional comments from tester:
this report is from an automated smoke testing program
and was not reviewed by a human for accuracy
------------------------------
PROGRAM OUTPUT
------------------------------
Output from 'C:\strawberry\c\bin\gmake.EXE test':
"C:\Strawberry\perl\bin\perl.exe" "-MExtUtils::Command::MM" "-MTest::Harness" "-e" "undef *Test::Harness::Switches; test_harness(0, 'blib\lib', 'blib\arch')" t/*.t
#
#
#
# HARNESS_ACTIVE=1
# HARNESS_VERSION=3.42
# PERL5LIB=C:\cpan\build\Test-Script-1.29-0\blib\lib;C:\cpan\build\Test-Script-1.29-0\blib\arch
# PERL5_CPANPLUS_IS_RUNNING=4036
# PERL5_CPAN_IS_RUNNING=4036
# PERL5_CPAN_IS_RUNNING_IN_RECURSION=2660,4036
# PERL_CR_SMOKER_CURRENT=Test-Script-1.29
# PERL_EXTUTILS_AUTOINSTALL=--defaultdeps
# PERL_MM_USE_DEFAULT=1
# PERL_USE_UNSAFE_INC=1
#
#
#
# PERL5LIB path
# C:\cpan\build\Test-Script-1.29-0\blib\lib
# C:\cpan\build\Test-Script-1.29-0\blib\arch
#
#
#
# perl 5.032001 MSWin32 MSWin32-x86-multi-thread-64int
# Capture::Tiny 0.48
# ExtUtils::MakeMaker 7.62
# File::Spec 3.78
# IO::Handle 1.45
# Probe::Perl 0.03
# Test2::API 1.302183
# Test2::V0 0.000140
# Text::ParseWords 3.30
#
#
#
t/00_diag.t ....................... ok
t/01_use.t ........................ ok
t/bug_gh9.t ....................... ok
t/test_script__exports.t .......... ok
t/test_script__fails.t ............ ok
t/test_script__import.t ........... ok
cannot unlink file for C:\DOKUME~1\smoker\LOKALE~1\Temp\m1ZDsUN4oU\stdin.txt: Permission denied at C:/Strawberry/perl/site/lib/File/Temp.pm line 921.
cannot remove directory for C:/DOKUME~1/smoker/LOKALE~1/Temp/m1ZDsUN4oU: Directory not empty at C:/Strawberry/perl/site/lib/File/Temp.pm line 921.
t/test_script__program_runs.t ..... ok
t/test_script__program_stderr.t ... ok
t/test_script__program_stdout.t ... ok
t/test_script__script_compiles.t .. ok
cannot unlink file for C:\DOKUME~1\smoker\LOKALE~1\Temp\3l5DB7oX7d\stdin.txt: Permission denied at C:/Strawberry/perl/site/lib/File/Temp.pm line 921.
cannot remove directory for C:/DOKUME~1/smoker/LOKALE~1/Temp/3l5DB7oX7d: Directory not empty at C:/Strawberry/perl/site/lib/File/Temp.pm line 921.
t/test_script__script_runs.t ...... ok
t/test_script__script_stderr.t .... ok
t/test_script__script_stdout.t .... ok
All tests successful.
Files=13, Tests=91, 18 wallclock secs ( 0.16 usr + 0.03 sys = 0.19 CPU)
Result: PASS
------------------------------
PREREQUISITES
------------------------------
Prerequisite modules loaded:
requires:
Module Need Have
------------------- -------- --------
Capture::Tiny 0 0.48
File::Spec 0.80 3.78
IO::Handle 0 1.45
perl 5.008001 5.032001
Probe::Perl 0.01 0.03
Test2::API 1.302015 1.302183
Text::ParseWords 0 3.30
build_requires:
Module Need Have
------------------- -------- --------
ExtUtils::MakeMaker 0 7.62
Test2::V0 0.000060 0.000140
configure_requires:
Module Need Have
------------------- -------- --------
ExtUtils::MakeMaker 0 7.62
perl 5.008001 5.032001
------------------------------
ENVIRONMENT AND OTHER CONTEXT
------------------------------
Environment variables:
AUTOMATED_TESTING = 1
COMSPEC = C:\WINDOWS.0\system32\cmd.exe
NONINTERACTIVE_TESTING = 1
NUMBER_OF_PROCESSORS = 1
PATH = C:\WINDOWS.0\system32;C:\strawberry\c\bin;C:\strawberry\perl\site\bin;C:\strawberry\perl\bin
PERL5LIB =
PERL5OPT =
PERL5_CPANPLUS_IS_RUNNING = 4036
PERL5_CPAN_IS_RUNNING = 4036
PERL5_CPAN_IS_RUNNING_IN_RECURSION = 2660,4036
PERL_CR_SMOKER_CURRENT = Test-Script-1.29
PERL_EXTUTILS_AUTOINSTALL = --defaultdeps
PERL_MM_USE_DEFAULT = 1
PERL_USE_UNSAFE_INC = 1
PROCESSOR_IDENTIFIER = x86 Family 6 Model 14 Stepping 8, GenuineIntel
TEMP = C:\DOKUME~1\smoker\LOKALE~1\Temp
TERM = dumb
Perl special variables (and OS-specific diagnostics, for MSWin32):
$^X = C:\Strawberry\perl\bin\perl.exe
$UID/$EUID = 0 / 0
$GID = 0
$EGID = 0
Win32::GetOSName = WinXP/.Net
Win32::GetOSVersion = Service Pack 3, 5, 1, 2600, 2, 3, 0, 256, 1
Win32::FsType = NTFS
Win32::IsAdminUser = 1
Perl module toolchain versions installed:
Module Have
------------------- --------
CPAN 2.28
CPAN::Meta 2.150010
Cwd 3.78
ExtUtils::CBuilder 0.280236
ExtUtils::Command 7.62
ExtUtils::Install 2.20
ExtUtils::MakeMaker 7.62
ExtUtils::Manifest 1.73
ExtUtils::ParseXS 3.43_02
File::Spec 3.78
JSON 4.03
JSON::PP 4.06
Module::Build 0.4231
Module::Signature 0.87
Parse::CPAN::Meta 2.150010
Test::Harness 3.42
Test::More 1.302183
YAML 1.30
YAML::Syck 1.34
version 0.9929
--
Summary of my perl5 (revision 5 version 32 subversion 1) configuration:
Platform:
osname=MSWin32
osvers=10.0.19042.746
archname=MSWin32-x86-multi-thread-64int
uname='Win32 strawberry-perl 5.32.1.1 #1 Sun Jan 24 12:17:47 2021 i386'
config_args='undef'
hint=recommended
useposix=true
d_sigaction=undef
useithreads=define
usemultiplicity=define
use64bitint=define
use64bitall=undef
uselongdouble=undef
usemymalloc=n
default_inc_excludes_dot=define
bincompat5005=undef
Compiler:
cc='gcc'
ccflags =' -DWIN32 -D__USE_MINGW_ANSI_STDIO -DPERL_TEXTMODE_SCRIPTS -DPERL_IMPLICIT_CONTEXT -DPERL_IMPLICIT_SYS -DUSE_PERLIO -fwrapv -fno-strict-aliasing -mms-bitfields'
optimize='-s -O2'
cppflags='-DWIN32'
ccversion=''
gccversion='8.3.0'
gccosandvers=''
intsize=4
longsize=4
ptrsize=4
doublesize=8
byteorder=12345678
doublekind=3
d_longlong=define
longlongsize=8
d_longdbl=define
longdblsize=12
longdblkind=3
ivtype='long long'
ivsize=8
nvtype='double'
nvsize=8
Off_t='long long'
lseeksize=8
alignbytes=8
prototype=define
Linker and Libraries:
ld='g++'
ldflags ='-s -L"C:\STRAWB~1\perl\lib\CORE" -L"C:\STRAWB~1\c\lib"'
libpth=C:\STRAWB~1\c\lib C:\STRAWB~1\c\i686-w64-mingw32\lib C:\STRAWB~1\c\lib\gcc\i686-w64-mingw32\8.3.0
libs= -lmoldname -lkernel32 -luser32 -lgdi32 -lwinspool -lcomdlg32 -ladvapi32 -lshell32 -lole32 -loleaut32 -lnetapi32 -luuid -lws2_32 -lmpr -lwinmm -lversion -lodbc32 -lodbccp32 -lcomctl32
perllibs= -lmoldname -lkernel32 -luser32 -lgdi32 -lwinspool -lcomdlg32 -ladvapi32 -lshell32 -lole32 -loleaut32 -lnetapi32 -luuid -lws2_32 -lmpr -lwinmm -lversion -lodbc32 -lodbccp32 -lcomctl32
libc=
so=dll
useshrplib=true
libperl=libperl532.a
gnulibc_version=''
Dynamic Linking:
dlsrc=dl_win32.xs
dlext=xs.dll
d_dlsymun=undef
ccdlflags=' '
cccdlflags=' '
lddlflags='-mdll -s -L"C:\STRAWB~1\perl\lib\CORE" -L"C:\STRAWB~1\c\lib"'
Characteristics of this binary (from libperl):
Compile-time options:
HAS_TIMES
HAVE_INTERP_INTERN
MULTIPLICITY
PERLIO_LAYERS
PERL_COPY_ON_WRITE
PERL_DONT_CREATE_GVSV
PERL_IMPLICIT_CONTEXT
PERL_IMPLICIT_SYS
PERL_MALLOC_WRAP
PERL_OP_PARENT
PERL_PRESERVE_IVUV
USE_64_BIT_INT
USE_ITHREADS
USE_LARGE_FILES
USE_LOCALE
USE_LOCALE_COLLATE
USE_LOCALE_CTYPE
USE_LOCALE_NUMERIC
USE_LOCALE_TIME
USE_PERLIO
USE_PERL_ATOF
Built under MSWin32
Compiled at Jan 24 2021 12:22:49
%ENV:
PERL5_CPANPLUS_IS_RUNNING="4036"
PERL5_CPAN_IS_RUNNING="4036"
PERL5_CPAN_IS_RUNNING_IN_RECURSION="2660,4036"
PERL_CR_SMOKER_CURRENT="Test-Script-1.29"
PERL_EXTUTILS_AUTOINSTALL="--defaultdeps"
PERL_MM_USE_DEFAULT="1"
PERL_USE_UNSAFE_INC="1"
@INC:
C:/Strawberry/perl/site/lib/MSWin32-x86-multi-thread-64int
C:/Strawberry/perl/site/lib
C:/Strawberry/perl/vendor/lib
C:/Strawberry/perl/lib
.