Regexp-Common v2016060801 Perl 5 v5.25.8 amd64-freebsd

Status
Pass
From
Slaven Rezić (SREZIC)
Dist
Regexp-Common v2016060801
Platform
Perl 5 v5.25.8 amd64-freebsd
Date
2016-12-24 12:03:36
ID
001462f6-c9d1-11e6-9f10-df3c5ebaf5fb
This distribution has been tested as part of the CPAN Testers
project, supporting the Perl programming language.  See
http://wiki.cpantesters.org/ for more information or email
questions to cpan-testers-discuss@perl.org


--
Dear Abigail,

This is a computer-generated report for Regexp-Common-2016060801
on perl 5.25.8, created by CPAN-Reporter-1.2018.

Thank you for uploading your work to CPAN.  Congratulations!
All tests were successful.

Sections of this report:

    * Tester comments
    * Program output
    * Prerequisites
    * Environment and other context

------------------------------
TESTER COMMENTS
------------------------------

Additional comments from tester:

none provided

------------------------------
PROGRAM OUTPUT
------------------------------

Output from '/usr/bin/make test':

PERL_DL_NONLAZY=1 "/usr/perl5.25.8p/bin/perl5.25.8" "-MExtUtils::Command::MM" "-MTest::Harness" "-e" "undef *Test::Harness::Switches; test_harness(0, 'blib/lib', 'blib/arch')" t/*.t t/*/*.t
t/comment/delimited.t ............ ok
t/comment/html.t ................. ok
t/comment/nested.t ............... ok
t/comment/pascal.t ............... ok
t/comment/single_line.t .......... ok
t/comment/single_or_multiline.t .. ok
t/delimited/101_delimited.t ...... skipped: Test::Regexp not found
t/delimited/111_bquoted.t ........ skipped: Test::Regexp not found
t/net/101_ipv4.t ................. ok
t/net/102_ipv4_strict.t .......... skipped: Test::Regexp not found
t/net/111_ipv6.t ................. ok
t/net/121_mac.t .................. ok
t/net/131_domain.t ............... ok
t/number/101_integer.t ........... skipped: Test::Regexp not found
t/number/111_integer_base.t ...... skipped: Test::Regexp not found
t/number/121_integer_places.t .... skipped: Test::Regexp not found
t/number/122_integer_places.t .... skipped: Test::Regexp not found
t/number/123_integer_places.t .... skipped: Test::Regexp not found
t/number/131_integer_sep.t ....... skipped: Test::Regexp not found
t/number/141_integer_group.t ..... skipped: Test::Regexp not found
t/number/701_squares.t ........... skipped: Test::Regexp not found
t/number/801_roman.t ............. skipped: Test::Regexp not found
t/number/decimal.t ............... ok
t/number/number.t ................ ok
t/SEN/usa_ssn.t .................. ok
t/test___luhn.t .................. ok
t/test_balanced.t ................ ok
t/test_bases.t ................... ok
t/test_bases_sep.t ............... ok
t/test_comments.t ................ ok
t/test_curry.t ................... ok
t/test_i.t ....................... ok
t/test_lingua_palindrome.t ....... ok
t/test_list.t .................... ok
t/test_no_import.t ............... ok
t/test_profanity.t ............... ok
t/test_sub.t ..................... ok
t/test_sub_named.t ............... ok
t/test_ws.t ...................... ok
t/URI/any.t ...................... ok
t/URI/fax.t ...................... ok
t/URI/file.t ..................... ok
t/URI/ftp.t ...................... ok
t/URI/gopher.t ................... ok
t/URI/http.t ..................... ok
t/URI/news.t ..................... ok
t/URI/nntp.t ..................... ok
t/URI/pop.t ...................... ok
t/URI/prospero.t ................. ok
t/URI/tel.t ...................... ok
t/URI/telnet.t ................... ok
t/URI/tv.t ....................... ok
t/URI/wais.t ..................... ok
t/zip/101_austria.t .............. skipped: Test::Regexp not found
t/zip/111_australia.t ............ skipped: Test::Regexp not found
t/zip/112_australia.t ............ skipped: Test::Regexp not found
t/zip/121_belgium.t .............. skipped: Test::Regexp not found
t/zip/131_denmark.t .............. skipped: Test::Regexp not found
t/zip/141_greenland.t ............ skipped: Test::Regexp not found
t/zip/151_norway.t ............... skipped: Test::Regexp not found
t/zip/161_liechtenstein.t ........ skipped: Test::Regexp not found
t/zip/171_switzerland.t .......... skipped: Test::Regexp not found
t/zip/181_italy.t ................ skipped: Test::Regexp not found
t/zip/191_germany.t .............. skipped: Test::Regexp not found
t/zip/201_luxembourg.t ........... skipped: Test::Regexp not found
t/zip/211_france.t ............... skipped: Test::Regexp not found
t/zip/221_monaco.t ............... skipped: Test::Regexp not found
t/zip/231_san-marino.t ........... skipped: Test::Regexp not found
t/zip/241_vatican-city.t ......... skipped: Test::Regexp not found
t/zip/netherlands.t .............. ok
t/zip/spain.t .................... ok
t/zip/us.t ....................... ok
t/zip/zip.t ...................... ok
All tests successful.
Files=73, Tests=149252, 17 wallclock secs ( 4.36 usr  0.93 sys +  9.69 cusr  1.71 csys = 16.69 CPU)
Result: PASS

------------------------------
PREREQUISITES
------------------------------

Prerequisite modules loaded:

requires:

    Module              Need Have    
    ------------------- ---- --------
    Config              0    5.025008
    perl                5.01 5.025008
    strict              0    1.11    
    vars                0    1.03    
    warnings            0    1.37    

build_requires:

    Module              Need Have    
    ------------------- ---- --------
    Config              0    5.025008
    strict              0    1.11    
    Test::More          0    1.302073
    vars                0    1.03    
    warnings            0    1.37    

configure_requires:

    Module              Need Have    
    ------------------- ---- --------
    Config              0    5.025008
    ExtUtils::MakeMaker 0    7.24    
    perl                5.01 5.025008
    strict              0    1.11    
    vars                0    1.03    
    warnings            0    1.37    


------------------------------
ENVIRONMENT AND OTHER CONTEXT
------------------------------

Environment variables:

    LC_ALL = de_DE.ISO8859-1
    PATH = /usr/local/bin:/usr/bin:/bin:/usr/local/sbin:/usr/sbin:/sbin:/home/cpansand/bin/freebsd10.1:/home/cpansand/bin/sh:/home/cpansand/bin:/usr/games:/home/cpansand/devel:/home/eserte/src/srezic-misc/scripts
    PERL5LIB = /home/cpansand/.cpan/build/2016122412/Path-Class-Rule-0.018-0/blib/arch:/home/cpansand/.cpan/build/2016122412/Path-Class-Rule-0.018-0/blib/lib:/home/cpansand/.cpan/build/2016122412/Path-Iterator-Rule-1.012-0/blib/arch:/home/cpansand/.cpan/build/2016122412/Path-Iterator-Rule-1.012-0/blib/lib:/home/cpansand/.cpan/build/2016122412/Test-Filename-0.03-0/blib/arch:/home/cpansand/.cpan/build/2016122412/Test-Filename-0.03-0/blib/lib:/home/cpansand/.cpan/build/2016122412/MooseX-Types-Path-Class-0.09-0/blib/arch:/home/cpansand/.cpan/build/2016122412/MooseX-Types-Path-Class-0.09-0/blib/lib:/home/cpansand/.cpan/build/2016122412/List-AllUtils-0.12-0/blib/arch:/home/cpansand/.cpan/build/2016122412/List-AllUtils-0.12-0/blib/lib:/home/cpansand/.cpan/build/2016122412/List-UtilsBy-0.10-0/blib/arch:/home/cpansand/.cpan/build/2016122412/List-UtilsBy-0.10-0/blib/lib:/home/cpansand/.cpan/build/2016122412/List-SomeUtils-0.53-0/blib/arch:/home/cpansand/.cpan/build/2016122412/List-SomeUtils-0.53-0/blib/lib:/home/cpansand/.cpan/build/2016122412/List-SomeUtils-XS-0.52-0/blib/arch:/home/cpansand/.cpan/build/2016122412/List-SomeUtils-XS-0.52-0/blib/lib
    PERL5OPT = 
    PERL5_CPANPLUS_IS_RUNNING = 3979
    PERL5_CPAN_IS_RUNNING = 3979
    PERL5_CPAN_IS_RUNNING_IN_RECURSION = 3968,3979
    PERLDOC = -MPod::Perldoc::ToTextOverstrike
    PERL_BATCH = yes
    PERL_CANARY_STABILITY_NOPROMPT = 1
    PERL_CPAN_REPORTER_CONFIG = /var/tmp/cpansmoker-1023/2016122412/cpanreporter_000_config.ini
    PERL_EXTUTILS_AUTOINSTALL = --defaultdeps
    SHELL = /usr/local/bin/zsh
    TERM = screen
    TMPDIR = /var/tmp/cpansmoker-1023/2016122412

Perl special variables (and OS-specific diagnostics, for MSWin32):

    $^X = /usr/perl5.25.8p/bin/perl5.25.8
    $UID/$EUID = 1023 / 1023
    $GID = 1023 1023
    $EGID = 1023 1023

Perl module toolchain versions installed:

    Module              Have      
    ------------------- ----------
    CPAN                2.14_01   
    CPAN::Meta          2.150010  
    Cwd                 3.66      
    ExtUtils::CBuilder  0.280225  
    ExtUtils::Command   7.24      
    ExtUtils::Install   2.04      
    ExtUtils::MakeMaker 7.24      
    ExtUtils::Manifest  1.70      
    ExtUtils::ParseXS   3.33      
    File::Spec          3.66      
    JSON                2.90      
    JSON::PP            2.27400_02
    Module::Build       0.4220    
    Module::Signature   n/a       
    Parse::CPAN::Meta   2.150010  
    Test::Harness       3.36_01   
    Test::More          1.302073  
    YAML                1.20      
    YAML::Syck          1.29      
    version             0.9917    


--

Summary of my perl5 (revision 5 version 25 subversion 8) configuration:
   
  Platform:
    osname=freebsd
    osvers=10.1-release
    archname=amd64-freebsd
    uname='freebsd cvrsnica-freebsd-101.herceg.de 10.1-release freebsd 10.1-release #0 r274401: tue nov 11 21:02:49 utc 2014 root@releng1.nyi.freebsd.org:usrobjusrsrcsysgeneric amd64 '
    config_args='-ds -e -Dprefix=/usr/perl5.25.8p -Dusedevel -Dusemallocwrap=no -Dcf_email=srezic@cpan.org -Doptimize=-O2 -pipe'
    hint=recommended
    useposix=true
    d_sigaction=define
    useithreads=undef
    usemultiplicity=undef
    use64bitint=define
    use64bitall=define
    uselongdouble=undef
    usemymalloc=n
    bincompat5005=undef
  Compiler:
    cc='cc'
    ccflags ='-DHAS_FPSETMASK -DHAS_FLOATINGPOINT_H -fno-strict-aliasing -pipe -fstack-protector -I/usr/local/include -D_FORTIFY_SOURCE=2'
    optimize='-O2 -pipe'
    cppflags='-DHAS_FPSETMASK -DHAS_FLOATINGPOINT_H -fno-strict-aliasing -pipe -fstack-protector -I/usr/local/include'
    ccversion=''
    gccversion='4.2.1 Compatible FreeBSD Clang 3.4.1 (tags/RELEASE_34/dot1-final 208032)'
    gccosandvers=''
    intsize=4
    longsize=8
    ptrsize=8
    doublesize=8
    byteorder=12345678
    doublekind=3
    d_longlong=define
    longlongsize=8
    d_longdbl=define
    longdblsize=16
    longdblkind=3
    ivtype='long'
    ivsize=8
    nvtype='double'
    nvsize=8
    Off_t='off_t'
    lseeksize=8
    alignbytes=8
    prototype=define
  Linker and Libraries:
    ld='cc'
    ldflags ='-pthread -Wl,-E  -fstack-protector -L/usr/local/lib'
    libpth=/usr/lib /usr/local/lib /usr/include/clang/3.4.1 /usr/lib
    libs=-lpthread -lgdbm -lm -lcrypt -lutil -lc
    perllibs=-lpthread -lm -lcrypt -lutil -lc
    libc=
    so=so
    useshrplib=false
    libperl=libperl.a
    gnulibc_version=''
  Dynamic Linking:
    dlsrc=dl_dlopen.xs
    dlext=so
    d_dlsymun=undef
    ccdlflags=' '
    cccdlflags='-DPIC -fPIC'
    lddlflags='-shared  -L/usr/local/lib -fstack-protector'


Characteristics of this binary (from libperl): 
  Compile-time options:
    HAS_TIMES
    PERLIO_LAYERS
    PERL_COPY_ON_WRITE
    PERL_DONT_CREATE_GVSV
    PERL_OP_PARENT
    PERL_PRESERVE_IVUV
    PERL_USE_DEVEL
    USE_64_BIT_ALL
    USE_64_BIT_INT
    USE_LARGE_FILES
    USE_LOCALE
    USE_LOCALE_COLLATE
    USE_LOCALE_CTYPE
    USE_LOCALE_NUMERIC
    USE_LOCALE_TIME
    USE_PERLIO
    USE_PERL_ATOF
  Built under freebsd
  Compiled at Dec 22 2016 00:19:16
  %ENV:
    PERL5LIB="/home/cpansand/.cpan/build/2016122412/Path-Class-Rule-0.018-0/blib/arch:/home/cpansand/.cpan/build/2016122412/Path-Class-Rule-0.018-0/blib/lib:/home/cpansand/.cpan/build/2016122412/Path-Iterator-Rule-1.012-0/blib/arch:/home/cpansand/.cpan/build/2016122412/Path-Iterator-Rule-1.012-0/blib/lib:/home/cpansand/.cpan/build/2016122412/Test-Filename-0.03-0/blib/arch:/home/cpansand/.cpan/build/2016122412/Test-Filename-0.03-0/blib/lib:/home/cpansand/.cpan/build/2016122412/MooseX-Types-Path-Class-0.09-0/blib/arch:/home/cpansand/.cpan/build/2016122412/MooseX-Types-Path-Class-0.09-0/blib/lib:/home/cpansand/.cpan/build/2016122412/List-AllUtils-0.12-0/blib/arch:/home/cpansand/.cpan/build/2016122412/List-AllUtils-0.12-0/blib/lib:/home/cpansand/.cpan/build/2016122412/List-UtilsBy-0.10-0/blib/arch:/home/cpansand/.cpan/build/2016122412/List-UtilsBy-0.10-0/blib/lib:/home/cpansand/.cpan/build/2016122412/List-SomeUtils-0.53-0/blib/arch:/home/cpansand/.cpan/build/2016122412/List-SomeUtils-0.53-0/blib/lib:/home/cpansand/.cpan/build/2016122412/List-SomeUtils-XS-0.52-0/blib/arch:/home/cpansand/.cpan/build/2016122412/List-SomeUtils-XS-0.52-0/blib/lib"
    PERL5OPT=""
    PERL5_CPANPLUS_IS_RUNNING="3979"
    PERL5_CPAN_IS_RUNNING="3979"
    PERL5_CPAN_IS_RUNNING_IN_RECURSION="3968,3979"
    PERLDOC="-MPod::Perldoc::ToTextOverstrike"
    PERL_BATCH="yes"
    PERL_CANARY_STABILITY_NOPROMPT="1"
    PERL_CPAN_REPORTER_CONFIG="/var/tmp/cpansmoker-1023/2016122412/cpanreporter_000_config.ini"
    PERL_EXTUTILS_AUTOINSTALL="--defaultdeps"
  @INC:
    /home/cpansand/.cpan/build/2016122412/Path-Class-Rule-0.018-0/blib/arch
    /home/cpansand/.cpan/build/2016122412/Path-Class-Rule-0.018-0/blib/lib
    /home/cpansand/.cpan/build/2016122412/Path-Iterator-Rule-1.012-0/blib/arch
    /home/cpansand/.cpan/build/2016122412/Path-Iterator-Rule-1.012-0/blib/lib
    /home/cpansand/.cpan/build/2016122412/Test-Filename-0.03-0/blib/arch
    /home/cpansand/.cpan/build/2016122412/Test-Filename-0.03-0/blib/lib
    /home/cpansand/.cpan/build/2016122412/MooseX-Types-Path-Class-0.09-0/blib/arch
    /home/cpansand/.cpan/build/2016122412/MooseX-Types-Path-Class-0.09-0/blib/lib
    /home/cpansand/.cpan/build/2016122412/List-AllUtils-0.12-0/blib/arch
    /home/cpansand/.cpan/build/2016122412/List-AllUtils-0.12-0/blib/lib
    /home/cpansand/.cpan/build/2016122412/List-UtilsBy-0.10-0/blib/arch
    /home/cpansand/.cpan/build/2016122412/List-UtilsBy-0.10-0/blib/lib
    /home/cpansand/.cpan/build/2016122412/List-SomeUtils-0.53-0/blib/arch
    /home/cpansand/.cpan/build/2016122412/List-SomeUtils-0.53-0/blib/lib
    /home/cpansand/.cpan/build/2016122412/List-SomeUtils-XS-0.52-0/blib/arch
    /home/cpansand/.cpan/build/2016122412/List-SomeUtils-XS-0.52-0/blib/lib
    /usr/perl5.25.8p/lib/site_perl/5.25.8/amd64-freebsd
    /usr/perl5.25.8p/lib/site_perl/5.25.8
    /usr/perl5.25.8p/lib/5.25.8/amd64-freebsd
    /usr/perl5.25.8p/lib/5.25.8
    .