Text-Flow v0.01 Perl 5 v5.13.11 x86_64-linux-thread-multi
- Status
- Pass
- From
- Andreas J. König (ANDK)
- Dist
-
Text-Flow v0.01
- Platform
- Perl 5 v5.13.11 x86_64-linux-thread-multi
- Date
- 2011-03-21 12:51:55
- ID
- 001d233e-53ba-11e0-afdd-c606c8dfb23c
This distribution has been tested as part of the CPAN Testers
project, supporting the Perl programming language. See
http://wiki.cpantesters.org/ for more information or email
questions to cpan-testers-discuss@perl.org
--
Dear Stevan Little,
This is a computer-generated report for Text-Flow-0.01
on perl 5.13.11, created by CPAN-Reporter-1.1902.
Thank you for uploading your work to CPAN. Congratulations!
All tests were successful.
Sections of this report:
* Tester comments
* Program output
* Prerequisites
* Environment and other context
------------------------------
TESTER COMMENTS
------------------------------
Additional comments from tester:
none provided
------------------------------
PROGRAM OUTPUT
------------------------------
Output from './Build test':
no_plan takes no arguments at t/001_basic_ascii_text_flow.t line 6.
t/001_basic_ascii_text_flow.t ....... ok
no_plan takes no arguments at t/002_ascii_text_flow_w_para.t line 6.
t/002_ascii_text_flow_w_para.t ...... ok
t/003_basic_pdf_text_flow.t ......... skipped: Test::PDF and pdflib_pl required to run PDF tests
t/004_basic_pdf_text_flow_w_para.t .. skipped: Test::PDF and pdflib_pl required to run PDF tests
no_plan takes no arguments at t/010_basic_ascii_word_wrap.t line 6.
t/010_basic_ascii_word_wrap.t ....... ok
no_plan takes no arguments at t/011_ascii_word_wrap_w_para.t line 6.
t/011_ascii_word_wrap_w_para.t ...... ok
t/012_basic_pdf_text_wrap.t ......... skipped: Test::PDF and pdflib_pl required to run PDF tests
t/013_pdf_text_wrap_w_para.t ........ skipped: Test::PDF and pdflib_pl required to run PDF tests
t/pod.t ............................. ok
t/pod_coverage.t .................... ok
All tests successful.
Files=10, Tests=25, 2 wallclock secs ( 0.06 usr 0.02 sys + 1.14 cusr 0.17 csys = 1.39 CPU)
Result: PASS
------------------------------
PREREQUISITES
------------------------------
Prerequisite modules loaded:
requires:
Module Need Have
---------------- ---- ----
Moose 0.21 1.17
build_requires:
Module Need Have
---------------- ---- ----
List::Util 0 1.23
Test::Exception 0.21 0.31
Test::LongString 0 0.15
Test::More 0.62 0.98
------------------------------
ENVIRONMENT AND OTHER CONTEXT
------------------------------
Environment variables:
LANG = en_US.UTF-8
LC_TIME = de_DE.utf8
PATH = /home/sand/bin:/usr/local/bin:/usr/bin:/bin:/usr/bin/X11:/usr/games:/usr/local/perl/bin:/usr/X11/bin:/sbin:/usr/sbin
PERL5LIB = /home/sand/.cpan/build/WAP-wbxml-1.12-3tJU7L/blib/arch:/home/sand/.cpan/build/WAP-wbxml-1.12-3tJU7L/blib/lib:/home/sand/.cpan/build/ProjectBuilder-0.11.2-jFo66L/blib/arch:/home/sand/.cpan/build/ProjectBuilder-0.11.2-jFo66L/blib/lib
PERL5OPT =
PERL5_CPANPLUS_IS_RUNNING = 656
PERL5_CPAN_IS_RUNNING = 656
SHELL = /usr/bin/zsh
TERM = screen
Perl special variables (and OS-specific diagnostics, for MSWin32):
$^X = /home/src/perl/repoperls/installed-perls/perl/v5.13.11-18-gc34fab5/bin/perl
$UID/$EUID = 1001 / 1001
$GID = 1001 1001
$EGID = 1001 1001
Perl module toolchain versions installed:
Module Have
------------------- --------
CPAN 1.9600
Cwd 3.36
ExtUtils::CBuilder 0.280202
ExtUtils::Command 1.17
ExtUtils::Install 1.56
ExtUtils::MakeMaker 6.57_05
ExtUtils::Manifest 1.58
ExtUtils::ParseXS 2.2209
File::Spec 3.33
Module::Build 0.3800
Module::Signature 0.66
Test::Harness 3.23
Test::More 0.98
YAML 0.72
YAML::Syck 1.17
version 0.88
--
Summary of my perl5 (revision 5 version 13 subversion 11) configuration:
Commit id: c34fab5fe3b5d2b8932d2f199a30b80c85950b75
Platform:
osname=linux, osvers=2.6.32-5-xen-amd64, archname=x86_64-linux-ld
uname='linux k81 2.6.32-5-xen-amd64 #1 smp wed jan 12 05:46:49 utc 2011 x86_64 gnulinux '
config_args='-Dprefix=/home/src/perl/repoperls/installed-perls/perl/v5.13.11-18-gc34fab5 -Dinstallusrbinperl=n -Uversiononly -Dusedevel -des -Ui_db -Uuseithreads -Duselongdouble -DDEBUGGING=-g'
hint=recommended, useposix=true, d_sigaction=define
useithreads=undef, usemultiplicity=undef
useperlio=define, d_sfio=undef, uselargefiles=define, usesocks=undef
use64bitint=define, use64bitall=define, uselongdouble=define
usemymalloc=n, bincompat5005=undef
Compiler:
cc='cc', ccflags ='-fno-strict-aliasing -pipe -fstack-protector -I/usr/local/include -D_LARGEFILE_SOURCE -D_FILE_OFFSET_BITS=64',
optimize='-O2 -g',
cppflags='-fno-strict-aliasing -pipe -fstack-protector -I/usr/local/include'
ccversion='', gccversion='4.5.2', gccosandvers=''
intsize=4, longsize=8, ptrsize=8, doublesize=8, byteorder=12345678
d_longlong=define, longlongsize=8, d_longdbl=define, longdblsize=16
ivtype='long', ivsize=8, nvtype='long double', nvsize=16, Off_t='off_t', lseeksize=8
alignbytes=16, prototype=define
Linker and Libraries:
ld='cc', ldflags =' -fstack-protector -L/usr/local/lib'
libpth=/usr/local/lib /lib /usr/lib /lib64 /usr/lib64
libs=-lnsl -lgdbm -ldb -ldl -lm -lcrypt -lutil -lc -lgdbm_compat
perllibs=-lnsl -ldl -lm -lcrypt -lutil -lc
libc=/lib/libc-2.11.2.so, so=so, useshrplib=false, libperl=libperl.a
gnulibc_version='2.11.2'
Dynamic Linking:
dlsrc=dl_dlopen.xs, dlext=so, d_dlsymun=undef, ccdlflags='-Wl,-E'
cccdlflags='-fPIC', lddlflags='-shared -O2 -g -L/usr/local/lib -fstack-protector'
Characteristics of this binary (from libperl):
Compile-time options: PERL_DONT_CREATE_GVSV PERL_MALLOC_WRAP
PERL_PRESERVE_IVUV PERL_USE_DEVEL USE_64_BIT_ALL
USE_64_BIT_INT USE_LARGE_FILES USE_LONG_DOUBLE
USE_PERLIO USE_PERL_ATOF
Built under linux
Compiled at Mar 21 2011 03:51:57
%ENV:
PERL5LIB="/home/sand/.cpan/build/WAP-wbxml-1.12-3tJU7L/blib/arch:/home/sand/.cpan/build/WAP-wbxml-1.12-3tJU7L/blib/lib:/home/sand/.cpan/build/ProjectBuilder-0.11.2-jFo66L/blib/arch:/home/sand/.cpan/build/ProjectBuilder-0.11.2-jFo66L/blib/lib"
PERL5OPT=""
PERL5_CPANPLUS_IS_RUNNING="656"
PERL5_CPAN_IS_RUNNING="656"
@INC:
/home/sand/.cpan/build/WAP-wbxml-1.12-3tJU7L/blib/arch
/home/sand/.cpan/build/WAP-wbxml-1.12-3tJU7L/blib/lib
/home/sand/.cpan/build/ProjectBuilder-0.11.2-jFo66L/blib/arch
/home/sand/.cpan/build/ProjectBuilder-0.11.2-jFo66L/blib/lib
/home/src/perl/repoperls/installed-perls/perl/v5.13.11-18-gc34fab5/lib/site_perl/5.13.11/x86_64-linux-ld
/home/src/perl/repoperls/installed-perls/perl/v5.13.11-18-gc34fab5/lib/site_perl/5.13.11
/home/src/perl/repoperls/installed-perls/perl/v5.13.11-18-gc34fab5/lib/5.13.11/x86_64-linux-ld
/home/src/perl/repoperls/installed-perls/perl/v5.13.11-18-gc34fab5/lib/5.13.11
.