Sub-ForceEval v2.04 Perl 5 v5.14.3 i686-linux

Status
Pass
From
Serguei Trouchelle (STRO)
Dist
Sub-ForceEval v2.04
Platform
Perl 5 v5.14.3 i686-linux
Date
2012-11-14 22:52:43
ID
0038d5a4-2eae-11e2-83c6-1e4b9c3d5bf3
This distribution has been tested as part of the CPAN Testers
project, supporting the Perl programming language.  See
http://wiki.cpantesters.org/ for more information or email
questions to cpan-testers-discuss@perl.org


--
Dear Steven Lembark,

This is a computer-generated report for Sub-ForceEval-2.04
on perl 5.14.3, created by CPAN-Reporter-1.2006.

Thank you for uploading your work to CPAN.  Congratulations!
All tests were successful.

Sections of this report:

    * Tester comments
    * Program output
    * Prerequisites
    * Environment and other context

------------------------------
TESTER COMMENTS
------------------------------

Additional comments from tester:

this report is from an automated smoke testing program
and was not reviewed by a human for accuracy

------------------------------
PROGRAM OUTPUT
------------------------------

Output from '/usr/bin/make test':

PERL_DL_NONLAZY=1 /home/stro/perl/perl5143/bin/perl "-MExtUtils::Command::MM" "-e" "test_harness(0, 'blib/lib', 'blib/arch')" t/*.t
t/00-depend.t ....... ok
t/01-module.t ....... ok
Subroutine main::foo redefined at /home/stro/cpan/build/5.14.3/Sub-ForceEval-2.04-qQNv_d/blib/lib/Sub/ForceEval.pm line 203.
t/10-in-eval.t ...... ok
Subroutine main::foo redefined at /home/stro/cpan/build/5.14.3/Sub-ForceEval-2.04-qQNv_d/blib/lib/Sub/ForceEval.pm line 203.
t/11-return-type.t .. ok
Subroutine main::foo redefined at /home/stro/cpan/build/5.14.3/Sub-ForceEval-2.04-qQNv_d/blib/lib/Sub/ForceEval.pm line 203.
Subroutine main::bar redefined at /home/stro/cpan/build/5.14.3/Sub-ForceEval-2.04-qQNv_d/blib/lib/Sub/ForceEval.pm line 203.

Die with eval:

Die outside eval:
Missing eval for 'main::foo' (died with: 'foo') caught at /home/stro/cpan/build/5.14.3/Sub-ForceEval-2.04-qQNv_d/blib/lib/Sub/ForceEval.pm line 191
	main::foo() called at t/20-exception.t line 35
Missing eval for 'main::bar' (died with: 'bar') caught at /home/stro/cpan/build/5.14.3/Sub-ForceEval-2.04-qQNv_d/blib/lib/Sub/ForceEval.pm line 191
	main::bar() called at t/20-exception.t line 36
t/20-exception.t .... ok
Subroutine Frob::Nicate::AUTOLOAD redefined at /home/stro/cpan/build/5.14.3/Sub-ForceEval-2.04-qQNv_d/blib/lib/Sub/ForceEval.pm line 203.
Missing eval for 'Frob::Nicate::AUTOLOAD' (died with: 'Frob::Nicate::aughtta_auto died') caught at /home/stro/cpan/build/5.14.3/Sub-ForceEval-2.04-qQNv_d/blib/lib/Sub/ForceEval.pm line 191
	Frob::Nicate::AUTOLOAD('Frob::Nicate') called at t/30-autoload.t line 16
t/30-autoload.t ..... ok
All tests successful.
Files=6, Tests=19,  0 wallclock secs ( 0.06 usr  0.07 sys +  0.27 cusr  0.20 csys =  0.60 CPU)
Result: PASS

------------------------------
PREREQUISITES
------------------------------

Prerequisite modules loaded:

requires:

    Module              Need Have
    ------------------- ---- ----
    Attribute::Handlers 0.78 0.89
    Carp                0    1.20
    strict              0    1.04
    Symbol              0    1.07
    version             0    0.88

build_requires:

    Module              Need Have
    ------------------- ---- ----
    ExtUtils::MakeMaker 0    6.62


------------------------------
ENVIRONMENT AND OTHER CONTEXT
------------------------------

Environment variables:

    AUTOMATED_TESTING = 1
    LANG = en_US.UTF-8
    PATH = /usr/local/bin:/usr/bin:/bin:/usr/local/games:/usr/games
    PERL5LIB = 
    PERL5OPT = 
    PERL5_CPANPLUS_IS_RUNNING = 27945
    PERL5_CPAN_IS_RUNNING = 27945
    PERL5_CPAN_IS_RUNNING_IN_RECURSION = 12286,27945
    PERL_CR_SMOKER_CURRENT = Sub-ForceEval-2.04
    PERL_EXTUTILS_AUTOINSTALL = --defaultdeps
    PERL_MM_USE_DEFAULT = 1
    SHELL = /bin/bash
    TERM = xterm

Perl special variables (and OS-specific diagnostics, for MSWin32):

    $^X = /home/stro/perl/perl5143/bin/perl
    $UID/$EUID = 1000 / 1000
    $GID = 1000 24 25 29 30 44 46 1000
    $EGID = 1000 24 25 29 30 44 46 1000

Perl module toolchain versions installed:

    Module              Have    
    ------------------- --------
    CPAN                1.9800  
    CPAN::Meta          2.112150
    Cwd                 3.36    
    ExtUtils::CBuilder  0.280203
    ExtUtils::Command   1.17    
    ExtUtils::Install   1.56    
    ExtUtils::MakeMaker 6.62    
    ExtUtils::Manifest  1.58    
    ExtUtils::ParseXS   2.2210  
    File::Spec          3.33    
    JSON                2.53    
    JSON::PP            2.27105 
    Module::Build       0.4003  
    Module::Signature   0.69    
    Parse::CPAN::Meta   1.4401  
    Test::Harness       3.23    
    Test::More          0.98    
    YAML                0.84    
    YAML::Syck          1.21    
    version             0.88    


--

Summary of my perl5 (revision 5 version 14 subversion 3) configuration:
   
  Platform:
    osname=linux, osvers=2.6.32-5-686, archname=i686-linux
    uname='linux vm-debian001 2.6.32-5-686 #1 smp sun sep 23 09:49:36 utc 2012 i686 gnulinux '
    config_args=''
    hint=recommended, useposix=true, d_sigaction=define
    useithreads=undef, usemultiplicity=undef
    useperlio=define, d_sfio=undef, uselargefiles=define, usesocks=undef
    use64bitint=undef, use64bitall=undef, uselongdouble=undef
    usemymalloc=n, bincompat5005=undef
  Compiler:
    cc='cc', ccflags ='-fno-strict-aliasing -pipe -fstack-protector -I/usr/local/include -D_LARGEFILE_SOURCE -D_FILE_OFFSET_BITS=64',
    optimize='-O2',
    cppflags='-fno-strict-aliasing -pipe -fstack-protector -I/usr/local/include'
    ccversion='', gccversion='4.4.5', gccosandvers=''
    intsize=4, longsize=4, ptrsize=4, doublesize=8, byteorder=1234
    d_longlong=define, longlongsize=8, d_longdbl=define, longdblsize=12
    ivtype='long', ivsize=4, nvtype='double', nvsize=8, Off_t='off_t', lseeksize=8
    alignbytes=4, prototype=define
  Linker and Libraries:
    ld='cc', ldflags =' -fstack-protector -L/usr/local/lib'
    libpth=/usr/local/lib /lib/../lib /usr/lib/../lib /lib /usr/lib
    libs=-lnsl -ldl -lm -lcrypt -lutil -lc
    perllibs=-lnsl -ldl -lm -lcrypt -lutil -lc
    libc=/lib/libc-2.11.3.so, so=so, useshrplib=false, libperl=libperl.a
    gnulibc_version='2.11.3'
  Dynamic Linking:
    dlsrc=dl_dlopen.xs, dlext=so, d_dlsymun=undef, ccdlflags='-Wl,-E'
    cccdlflags='-fPIC', lddlflags='-shared -O2 -L/usr/local/lib -fstack-protector'


Characteristics of this binary (from libperl): 
  Compile-time options: PERL_DONT_CREATE_GVSV PERL_MALLOC_WRAP
                        PERL_PRESERVE_IVUV USE_LARGE_FILES USE_PERLIO
                        USE_PERL_ATOF
  Built under linux
  Compiled at Oct 27 2012 03:27:35
  %ENV:
    PERL5LIB=""
    PERL5OPT=""
    PERL5_CPANPLUS_IS_RUNNING="27945"
    PERL5_CPAN_IS_RUNNING="27945"
    PERL5_CPAN_IS_RUNNING_IN_RECURSION="12286,27945"
    PERL_CR_SMOKER_CURRENT="Sub-ForceEval-2.04"
    PERL_EXTUTILS_AUTOINSTALL="--defaultdeps"
    PERL_MM_USE_DEFAULT="1"
  @INC:
    /home/stro/perl/perl5143/lib/site_perl/5.14.3/i686-linux
    /home/stro/perl/perl5143/lib/site_perl/5.14.3
    /home/stro/perl/perl5143/lib/5.14.3/i686-linux
    /home/stro/perl/perl5143/lib/5.14.3
    .