Apache-ASP v2.61 Perl 5 v5.13.11 x86_64-linux-thread-multi
- Status
- Pass
- From
- Chris Williams (BINGOS)
- Dist
-
Apache-ASP v2.61
- Platform
- Perl 5 v5.13.11 x86_64-linux-thread-multi
- Date
- 2011-04-30 21:51:27
- ID
- 004205a8-7374-11e0-9c74-cad5bcb8094c
This distribution has been tested as part of the CPAN Testers
project, supporting the Perl programming language. See
http://wiki.cpantesters.org/ for more information or email
questions to cpan-testers-discuss@perl.org
--
Dear Joshua Chamas,
This is a computer-generated error report created automatically by
CPANPLUS, version 0.9104. Testers personal comments may appear
at the end of this report.
MAKE TEST passed: PERL_DL_NONLAZY=1 /home/cpan/pit/thr/perl-5.13.11/bin/perl5.13.11 "-MExtUtils::Command::MM" "-e" "test_harness(0, 'blib/lib', 'blib/arch')" t/*.t
Use of uninitialized value $rv in lc at /home/cpan/pit/thr/conf/perl-5.13.11/.cpanplus/5.13.11/build/Apache-ASP-2.61/blib/lib/Apache/ASP.pm line 2018.
Use of uninitialized value $rv in lc at /home/cpan/pit/thr/conf/perl-5.13.11/.cpanplus/5.13.11/build/Apache-ASP-2.61/blib/lib/Apache/ASP.pm line 2018.
Use of uninitialized value $rv in lc at /home/cpan/pit/thr/conf/perl-5.13.11/.cpanplus/5.13.11/build/Apache-ASP-2.61/blib/lib/Apache/ASP.pm line 2018.
Use of uninitialized value $rv in lc at /home/cpan/pit/thr/conf/perl-5.13.11/.cpanplus/5.13.11/build/Apache-ASP-2.61/blib/lib/Apache/ASP.pm line 2018.
Use of uninitialized value $rv in lc at /home/cpan/pit/thr/conf/perl-5.13.11/.cpanplus/5.13.11/build/Apache-ASP-2.61/blib/lib/Apache/ASP.pm line 2018.
Use of uninitialized value $rv in lc at /home/cpan/pit/thr/conf/perl-5.13.11/.cpanplus/5.13.11/build/Apache-ASP-2.61/blib/lib/Apache/ASP.pm line 2018.
Use of uninitialized value $rv in lc at /home/cpan/pit/thr/conf/perl-5.13.11/.cpanplus/5.13.11/build/Apache-ASP-2.61/blib/lib/Apache/ASP.pm line 2018.
Use of uninitialized value $rv in lc at /home/cpan/pit/thr/conf/perl-5.13.11/.cpanplus/5.13.11/build/Apache-ASP-2.61/blib/lib/Apache/ASP.pm line 2018.
Use of uninitialized value $rv in lc at /home/cpan/pit/thr/conf/perl-5.13.11/.cpanplus/5.13.11/build/Apache-ASP-2.61/blib/lib/Apache/ASP.pm line 2018.
Use of uninitialized value $rv in lc at /home/cpan/pit/thr/conf/perl-5.13.11/.cpanplus/5.13.11/build/Apache-ASP-2.61/blib/lib/Apache/ASP.pm line 2018.
Use of uninitialized value $rv in lc at /home/cpan/pit/thr/conf/perl-5.13.11/.cpanplus/5.13.11/build/Apache-ASP-2.61/blib/lib/Apache/ASP.pm line 2018.
t/application.t .......... ok
Use of uninitialized value $rv in lc at ../blib/lib/Apache/ASP.pm line 2018.
Use of uninitialized value $rv in lc at ../blib/lib/Apache/ASP.pm line 2018.
Use of uninitialized value $rv in lc at ../blib/lib/Apache/ASP.pm line 2018.
Use of uninitialized value $rv in lc at ../blib/lib/Apache/ASP.pm line 2018.
Use of uninitialized value $rv in lc at ../blib/lib/Apache/ASP.pm line 2018.
Use of uninitialized value $rv in lc at ../blib/lib/Apache/ASP.pm line 2018.
Use of uninitialized value $rv in lc at ../blib/lib/Apache/ASP.pm line 2018.
Use of uninitialized value $rv in lc at ../blib/lib/Apache/ASP.pm line 2018.
Use of uninitialized value $rv in lc at ../blib/lib/Apache/ASP.pm line 2018.
Use of uninitialized value $rv in lc at ../blib/lib/Apache/ASP.pm line 2018.
t/asp-perl1.t ............ ok
Use of uninitialized value $rv in lc at ../../blib/lib/Apache/ASP.pm line 2018.
Use of uninitialized value $rv in lc at ../../blib/lib/Apache/ASP.pm line 2018.
Use of uninitialized value $rv in lc at ../../blib/lib/Apache/ASP.pm line 2018.
Use of uninitialized value $rv in lc at ../../blib/lib/Apache/ASP.pm line 2018.
Use of uninitialized value $rv in lc at ../../blib/lib/Apache/ASP.pm line 2018.
Use of uninitialized value $rv in lc at ../../blib/lib/Apache/ASP.pm line 2018.
Use of uninitialized value $rv in lc at ../../blib/lib/Apache/ASP.pm line 2018.
Use of uninitialized value $rv in lc at ../../blib/lib/Apache/ASP.pm line 2018.
Use of uninitialized value $rv in lc at ../../blib/lib/Apache/ASP.pm line 2018.
Use of uninitialized value $rv in lc at ../../blib/lib/Apache/ASP.pm line 2018.
t/asp-perl2.t ............ ok
Use of uninitialized value $rv in lc at /home/cpan/pit/thr/conf/perl-5.13.11/.cpanplus/5.13.11/build/Apache-ASP-2.61/blib/lib/Apache/ASP.pm line 2018.
Use of uninitialized value $rv in lc at /home/cpan/pit/thr/conf/perl-5.13.11/.cpanplus/5.13.11/build/Apache-ASP-2.61/blib/lib/Apache/ASP.pm line 2018.
Use of uninitialized value $rv in lc at /home/cpan/pit/thr/conf/perl-5.13.11/.cpanplus/5.13.11/build/Apache-ASP-2.61/blib/lib/Apache/ASP.pm line 2018.
Use of uninitialized value $rv in lc at /home/cpan/pit/thr/conf/perl-5.13.11/.cpanplus/5.13.11/build/Apache-ASP-2.61/blib/lib/Apache/ASP.pm line 2018.
Use of uninitialized value $rv in lc at /home/cpan/pit/thr/conf/perl-5.13.11/.cpanplus/5.13.11/build/Apache-ASP-2.61/blib/lib/Apache/ASP.pm line 2018.
Use of uninitialized value $rv in lc at /home/cpan/pit/thr/conf/perl-5.13.11/.cpanplus/5.13.11/build/Apache-ASP-2.61/blib/lib/Apache/ASP.pm line 2018.
Use of uninitialized value $rv in lc at /home/cpan/pit/thr/conf/perl-5.13.11/.cpanplus/5.13.11/build/Apache-ASP-2.61/blib/lib/Apache/ASP.pm line 2018.
Use of uninitialized value $rv in lc at /home/cpan/pit/thr/conf/perl-5.13.11/.cpanplus/5.13.11/build/Apache-ASP-2.61/blib/lib/Apache/ASP.pm line 2018.
Use of uninitialized value $rv in lc at /home/cpan/pit/thr/conf/perl-5.13.11/.cpanplus/5.13.11/build/Apache-ASP-2.61/blib/lib/Apache/ASP.pm line 2018.
Use of uninitialized value $rv in lc at /home/cpan/pit/thr/conf/perl-5.13.11/.cpanplus/5.13.11/build/Apache-ASP-2.61/blib/lib/Apache/ASP.pm line 2018.
Use of uninitialized value $rv in lc at /home/cpan/pit/thr/conf/perl-5.13.11/.cpanplus/5.13.11/build/Apache-ASP-2.61/blib/lib/Apache/ASP.pm line 2018.
Use of uninitialized value $rv in lc at /home/cpan/pit/thr/conf/perl-5.13.11/.cpanplus/5.13.11/build/Apache-ASP-2.61/blib/lib/Apache/ASP.pm line 2018.
Use of uninitialized value $rv in lc at /home/cpan/pit/thr/conf/perl-5.13.11/.cpanplus/5.13.11/build/Apache-ASP-2.61/blib/lib/Apache/ASP.pm line 2018.
Use of uninitialized value $rv in lc at /home/cpan/pit/thr/conf/perl-5.13.11/.cpanplus/5.13.11/build/Apache-ASP-2.61/blib/lib/Apache/ASP.pm line 2018.
Use of uninitialized value $rv in lc at /home/cpan/pit/thr/conf/perl-5.13.11/.cpanplus/5.13.11/build/Apache-ASP-2.61/blib/lib/Apache/ASP.pm line 2018.
Use of uninitialized value $rv in lc at /home/cpan/pit/thr/conf/perl-5.13.11/.cpanplus/5.13.11/build/Apache-ASP-2.61/blib/lib/Apache/ASP.pm line 2018.
Use of uninitialized value $rv in lc at /home/cpan/pit/thr/conf/perl-5.13.11/.cpanplus/5.13.11/build/Apache-ASP-2.61/blib/lib/Apache/ASP.pm line 2018.
Use of uninitialized value $rv in lc at /home/cpan/pit/thr/conf/perl-5.13.11/.cpanplus/5.13.11/build/Apache-ASP-2.61/blib/lib/Apache/ASP.pm line 2018.
Use of uninitialized value $rv in lc at /home/cpan/pit/thr/conf/perl-5.13.11/.cpanplus/5.13.11/build/Apache-ASP-2.61/blib/lib/Apache/ASP.pm line 2018.
Use of uninitialized value $rv in lc at /home/cpan/pit/thr/conf/perl-5.13.11/.cpanplus/5.13.11/build/Apache-ASP-2.61/blib/lib/Apache/ASP.pm line 2018.
Use of uninitialized value $rv in lc at /home/cpan/pit/thr/conf/perl-5.13.11/.cpanplus/5.13.11/build/Apache-ASP-2.61/blib/lib/Apache/ASP.pm line 2018.
Use of uninitialized value $rv in lc at /home/cpan/pit/thr/conf/perl-5.13.11/.cpanplus/5.13.11/build/Apache-ASP-2.61/blib/lib/Apache/ASP.pm line 2018.
t/asp_object.t ........... ok
Use of uninitialized value $rv in lc at /home/cpan/pit/thr/conf/perl-5.13.11/.cpanplus/5.13.11/build/Apache-ASP-2.61/blib/lib/Apache/ASP.pm line 2018.
Use of uninitialized value $rv in lc at /home/cpan/pit/thr/conf/perl-5.13.11/.cpanplus/5.13.11/build/Apache-ASP-2.61/blib/lib/Apache/ASP.pm line 2018.
Use of uninitialized value $rv in lc at /home/cpan/pit/thr/conf/perl-5.13.11/.cpanplus/5.13.11/build/Apache-ASP-2.61/blib/lib/Apache/ASP.pm line 2018.
Use of uninitialized value $rv in lc at /home/cpan/pit/thr/conf/perl-5.13.11/.cpanplus/5.13.11/build/Apache-ASP-2.61/blib/lib/Apache/ASP.pm line 2018.
Use of uninitialized value $rv in lc at /home/cpan/pit/thr/conf/perl-5.13.11/.cpanplus/5.13.11/build/Apache-ASP-2.61/blib/lib/Apache/ASP.pm line 2018.
Use of uninitialized value $rv in lc at /home/cpan/pit/thr/conf/perl-5.13.11/.cpanplus/5.13.11/build/Apache-ASP-2.61/blib/lib/Apache/ASP.pm line 2018.
Use of uninitialized value $rv in lc at /home/cpan/pit/thr/conf/perl-5.13.11/.cpanplus/5.13.11/build/Apache-ASP-2.61/blib/lib/Apache/ASP.pm line 2018.
Use of uninitialized value $rv in lc at /home/cpan/pit/thr/conf/perl-5.13.11/.cpanplus/5.13.11/build/Apache-ASP-2.61/blib/lib/Apache/ASP.pm line 2018.
Use of uninitialized value $rv in lc at /home/cpan/pit/thr/conf/perl-5.13.11/.cpanplus/5.13.11/build/Apache-ASP-2.61/blib/lib/Apache/ASP.pm line 2018.
Use of uninitialized value $rv in lc at /home/cpan/pit/thr/conf/perl-5.13.11/.cpanplus/5.13.11/build/Apache-ASP-2.61/blib/lib/Apache/ASP.pm line 2018.
t/cache.t ................ ok
Use of uninitialized value $rv in lc at /home/cpan/pit/thr/conf/perl-5.13.11/.cpanplus/5.13.11/build/Apache-ASP-2.61/blib/lib/Apache/ASP.pm line 2018.
Use of uninitialized value $rv in lc at /home/cpan/pit/thr/conf/perl-5.13.11/.cpanplus/5.13.11/build/Apache-ASP-2.61/blib/lib/Apache/ASP.pm line 2018.
Use of uninitialized value $rv in lc at /home/cpan/pit/thr/conf/perl-5.13.11/.cpanplus/5.13.11/build/Apache-ASP-2.61/blib/lib/Apache/ASP.pm line 2018.
Use of uninitialized value $rv in lc at /home/cpan/pit/thr/conf/perl-5.13.11/.cpanplus/5.13.11/build/Apache-ASP-2.61/blib/lib/Apache/ASP.pm line 2018.
Use of uninitialized value $rv in lc at /home/cpan/pit/thr/conf/perl-5.13.11/.cpanplus/5.13.11/build/Apache-ASP-2.61/blib/lib/Apache/ASP.pm line 2018.
Use of uninitialized value $rv in lc at /home/cpan/pit/thr/conf/perl-5.13.11/.cpanplus/5.13.11/build/Apache-ASP-2.61/blib/lib/Apache/ASP.pm line 2018.
Use of uninitialized value $rv in lc at /home/cpan/pit/thr/conf/perl-5.13.11/.cpanplus/5.13.11/build/Apache-ASP-2.61/blib/lib/Apache/ASP.pm line 2018.
Use of uninitialized value $rv in lc at /home/cpan/pit/thr/conf/perl-5.13.11/.cpanplus/5.13.11/build/Apache-ASP-2.61/blib/lib/Apache/ASP.pm line 2018.
Use of uninitialized value $rv in lc at /home/cpan/pit/thr/conf/perl-5.13.11/.cpanplus/5.13.11/build/Apache-ASP-2.61/blib/lib/Apache/ASP.pm line 2018.
Use of uninitialized value $rv in lc at /home/cpan/pit/thr/conf/perl-5.13.11/.cpanplus/5.13.11/build/Apache-ASP-2.61/blib/lib/Apache/ASP.pm line 2018.
t/cgi_headers.t .......... ok
Use of uninitialized value $rv in lc at /home/cpan/pit/thr/conf/perl-5.13.11/.cpanplus/5.13.11/build/Apache-ASP-2.61/blib/lib/Apache/ASP.pm line 2018.
Use of uninitialized value $rv in lc at /home/cpan/pit/thr/conf/perl-5.13.11/.cpanplus/5.13.11/build/Apache-ASP-2.61/blib/lib/Apache/ASP.pm line 2018.
Use of uninitialized value $rv in lc at /home/cpan/pit/thr/conf/perl-5.13.11/.cpanplus/5.13.11/build/Apache-ASP-2.61/blib/lib/Apache/ASP.pm line 2018.
Use of uninitialized value $rv in lc at /home/cpan/pit/thr/conf/perl-5.13.11/.cpanplus/5.13.11/build/Apache-ASP-2.61/blib/lib/Apache/ASP.pm line 2018.
Use of uninitialized value $rv in lc at /home/cpan/pit/thr/conf/perl-5.13.11/.cpanplus/5.13.11/build/Apache-ASP-2.61/blib/lib/Apache/ASP.pm line 2018.
Use of uninitialized value $rv in lc at /home/cpan/pit/thr/conf/perl-5.13.11/.cpanplus/5.13.11/build/Apache-ASP-2.61/blib/lib/Apache/ASP.pm line 2018.
Use of uninitialized value $rv in lc at /home/cpan/pit/thr/conf/perl-5.13.11/.cpanplus/5.13.11/build/Apache-ASP-2.61/blib/lib/Apache/ASP.pm line 2018.
Use of uninitialized value $rv in lc at /home/cpan/pit/thr/conf/perl-5.13.11/.cpanplus/5.13.11/build/Apache-ASP-2.61/blib/lib/Apache/ASP.pm line 2018.
Use of uninitialized value $rv in lc at /home/cpan/pit/thr/conf/perl-5.13.11/.cpanplus/5.13.11/build/Apache-ASP-2.61/blib/lib/Apache/ASP.pm line 2018.
t/closure.t .............. ok
Use of uninitialized value $rv in lc at /home/cpan/pit/thr/conf/perl-5.13.11/.cpanplus/5.13.11/build/Apache-ASP-2.61/blib/lib/Apache/ASP.pm line 2018.
Use of uninitialized value $rv in lc at /home/cpan/pit/thr/conf/perl-5.13.11/.cpanplus/5.13.11/build/Apache-ASP-2.61/blib/lib/Apache/ASP.pm line 2018.
Use of uninitialized value $rv in lc at /home/cpan/pit/thr/conf/perl-5.13.11/.cpanplus/5.13.11/build/Apache-ASP-2.61/blib/lib/Apache/ASP.pm line 2018.
Use of uninitialized value $rv in lc at /home/cpan/pit/thr/conf/perl-5.13.11/.cpanplus/5.13.11/build/Apache-ASP-2.61/blib/lib/Apache/ASP.pm line 2018.
Use of uninitialized value $rv in lc at /home/cpan/pit/thr/conf/perl-5.13.11/.cpanplus/5.13.11/build/Apache-ASP-2.61/blib/lib/Apache/ASP.pm line 2018.
Use of uninitialized value $rv in lc at /home/cpan/pit/thr/conf/perl-5.13.11/.cpanplus/5.13.11/build/Apache-ASP-2.61/blib/lib/Apache/ASP.pm line 2018.
Use of uninitialized value $rv in lc at /home/cpan/pit/thr/conf/perl-5.13.11/.cpanplus/5.13.11/build/Apache-ASP-2.61/blib/lib/Apache/ASP.pm line 2018.
Use of uninitialized value $rv in lc at /home/cpan/pit/thr/conf/perl-5.13.11/.cpanplus/5.13.11/build/Apache-ASP-2.61/blib/lib/Apache/ASP.pm line 2018.
Use of uninitialized value $rv in lc at /home/cpan/pit/thr/conf/perl-5.13.11/.cpanplus/5.13.11/build/Apache-ASP-2.61/blib/lib/Apache/ASP.pm line 2018.
Use of uninitialized value $rv in lc at /home/cpan/pit/thr/conf/perl-5.13.11/.cpanplus/5.13.11/build/Apache-ASP-2.61/blib/lib/Apache/ASP.pm line 2018.
Use of uninitialized value $rv in lc at /home/cpan/pit/thr/conf/perl-5.13.11/.cpanplus/5.13.11/build/Apache-ASP-2.61/blib/lib/Apache/ASP.pm line 2018.
t/collection.t ........... ok
Use of uninitialized value $rv in lc at /home/cpan/pit/thr/conf/perl-5.13.11/.cpanplus/5.13.11/build/Apache-ASP-2.61/blib/lib/Apache/ASP.pm line 2018.
Use of uninitialized value $rv in lc at /home/cpan/pit/thr/conf/perl-5.13.11/.cpanplus/5.13.11/build/Apache-ASP-2.61/blib/lib/Apache/ASP.pm line 2018.
Use of uninitialized value $rv in lc at /home/cpan/pit/thr/conf/perl-5.13.11/.cpanplus/5.13.11/build/Apache-ASP-2.61/blib/lib/Apache/ASP.pm line 2018.
Use of uninitialized value $rv in lc at /home/cpan/pit/thr/conf/perl-5.13.11/.cpanplus/5.13.11/build/Apache-ASP-2.61/blib/lib/Apache/ASP.pm line 2018.
Use of uninitialized value $rv in lc at /home/cpan/pit/thr/conf/perl-5.13.11/.cpanplus/5.13.11/build/Apache-ASP-2.61/blib/lib/Apache/ASP.pm line 2018.
Use of uninitialized value $rv in lc at /home/cpan/pit/thr/conf/perl-5.13.11/.cpanplus/5.13.11/build/Apache-ASP-2.61/blib/lib/Apache/ASP.pm line 2018.
Use of uninitialized value $rv in lc at /home/cpan/pit/thr/conf/perl-5.13.11/.cpanplus/5.13.11/build/Apache-ASP-2.61/blib/lib/Apache/ASP.pm line 2018.
Use of uninitialized value $rv in lc at /home/cpan/pit/thr/conf/perl-5.13.11/.cpanplus/5.13.11/build/Apache-ASP-2.61/blib/lib/Apache/ASP.pm line 2018.
Use of uninitialized value $rv in lc at /home/cpan/pit/thr/conf/perl-5.13.11/.cpanplus/5.13.11/build/Apache-ASP-2.61/blib/lib/Apache/ASP.pm line 2018.
Use of uninitialized value $rv in lc at /home/cpan/pit/thr/conf/perl-5.13.11/.cpanplus/5.13.11/build/Apache-ASP-2.61/blib/lib/Apache/ASP.pm line 2018.
Use of uninitialized value $rv in lc at /home/cpan/pit/thr/conf/perl-5.13.11/.cpanplus/5.13.11/build/Apache-ASP-2.61/blib/lib/Apache/ASP.pm line 2018.
t/collectionitem.t ....... ok
Use of uninitialized value $rv in lc at /home/cpan/pit/thr/conf/perl-5.13.11/.cpanplus/5.13.11/build/Apache-ASP-2.61/blib/lib/Apache/ASP.pm line 2018.
Use of uninitialized value $rv in lc at /home/cpan/pit/thr/conf/perl-5.13.11/.cpanplus/5.13.11/build/Apache-ASP-2.61/blib/lib/Apache/ASP.pm line 2018.
Use of uninitialized value $rv in lc at /home/cpan/pit/thr/conf/perl-5.13.11/.cpanplus/5.13.11/build/Apache-ASP-2.61/blib/lib/Apache/ASP.pm line 2018.
Use of uninitialized value $rv in lc at /home/cpan/pit/thr/conf/perl-5.13.11/.cpanplus/5.13.11/build/Apache-ASP-2.61/blib/lib/Apache/ASP.pm line 2018.
Use of uninitialized value $rv in lc at /home/cpan/pit/thr/conf/perl-5.13.11/.cpanplus/5.13.11/build/Apache-ASP-2.61/blib/lib/Apache/ASP.pm line 2018.
Use of uninitialized value $rv in lc at /home/cpan/pit/thr/conf/perl-5.13.11/.cpanplus/5.13.11/build/Apache-ASP-2.61/blib/lib/Apache/ASP.pm line 2018.
Use of uninitialized value $rv in lc at /home/cpan/pit/thr/conf/perl-5.13.11/.cpanplus/5.13.11/build/Apache-ASP-2.61/blib/lib/Apache/ASP.pm line 2018.
Use of uninitialized value $rv in lc at /home/cpan/pit/thr/conf/perl-5.13.11/.cpanplus/5.13.11/build/Apache-ASP-2.61/blib/lib/Apache/ASP.pm line 2018.
Use of uninitialized value $rv in lc at /home/cpan/pit/thr/conf/perl-5.13.11/.cpanplus/5.13.11/build/Apache-ASP-2.61/blib/lib/Apache/ASP.pm line 2018.
Use of uninitialized value $rv in lc at /home/cpan/pit/thr/conf/perl-5.13.11/.cpanplus/5.13.11/build/Apache-ASP-2.61/blib/lib/Apache/ASP.pm line 2018.
t/cookies.t .............. ok
Use of uninitialized value $rv in lc at /home/cpan/pit/thr/conf/perl-5.13.11/.cpanplus/5.13.11/build/Apache-ASP-2.61/blib/lib/Apache/ASP.pm line 2018.
Use of uninitialized value $rv in lc at /home/cpan/pit/thr/conf/perl-5.13.11/.cpanplus/5.13.11/build/Apache-ASP-2.61/blib/lib/Apache/ASP.pm line 2018.
Use of uninitialized value $rv in lc at /home/cpan/pit/thr/conf/perl-5.13.11/.cpanplus/5.13.11/build/Apache-ASP-2.61/blib/lib/Apache/ASP.pm line 2018.
Use of uninitialized value $rv in lc at /home/cpan/pit/thr/conf/perl-5.13.11/.cpanplus/5.13.11/build/Apache-ASP-2.61/blib/lib/Apache/ASP.pm line 2018.
Use of uninitialized value $rv in lc at /home/cpan/pit/thr/conf/perl-5.13.11/.cpanplus/5.13.11/build/Apache-ASP-2.61/blib/lib/Apache/ASP.pm line 2018.
Use of uninitialized value $rv in lc at /home/cpan/pit/thr/conf/perl-5.13.11/.cpanplus/5.13.11/build/Apache-ASP-2.61/blib/lib/Apache/ASP.pm line 2018.
Use of uninitialized value $rv in lc at /home/cpan/pit/thr/conf/perl-5.13.11/.cpanplus/5.13.11/build/Apache-ASP-2.61/blib/lib/Apache/ASP.pm line 2018.
Use of uninitialized value $rv in lc at /home/cpan/pit/thr/conf/perl-5.13.11/.cpanplus/5.13.11/build/Apache-ASP-2.61/blib/lib/Apache/ASP.pm line 2018.
Use of uninitialized value $rv in lc at /home/cpan/pit/thr/conf/perl-5.13.11/.cpanplus/5.13.11/build/Apache-ASP-2.61/blib/lib/Apache/ASP.pm line 2018.
Use of uninitialized value $rv in lc at /home/cpan/pit/thr/conf/perl-5.13.11/.cpanplus/5.13.11/build/Apache-ASP-2.61/blib/lib/Apache/ASP.pm line 2018.
Use of uninitialized value $rv in lc at /home/cpan/pit/thr/conf/perl-5.13.11/.cpanplus/5.13.11/build/Apache-ASP-2.61/blib/lib/Apache/ASP.pm line 2018.
Use of uninitialized value $rv in lc at /home/cpan/pit/thr/conf/perl-5.13.11/.cpanplus/5.13.11/build/Apache-ASP-2.61/blib/lib/Apache/ASP.pm line 2018.
Use of uninitialized value $rv in lc at /home/cpan/pit/thr/conf/perl-5.13.11/.cpanplus/5.13.11/build/Apache-ASP-2.61/blib/lib/Apache/ASP.pm line 2018.
Use of uninitialized value $rv in lc at /home/cpan/pit/thr/conf/perl-5.13.11/.cpanplus/5.13.11/build/Apache-ASP-2.61/blib/lib/Apache/ASP.pm line 2018.
Use of uninitialized value $rv in lc at /home/cpan/pit/thr/conf/perl-5.13.11/.cpanplus/5.13.11/build/Apache-ASP-2.61/blib/lib/Apache/ASP.pm line 2018.
Use of uninitialized value $rv in lc at /home/cpan/pit/thr/conf/perl-5.13.11/.cpanplus/5.13.11/build/Apache-ASP-2.61/blib/lib/Apache/ASP.pm line 2018.
Use of uninitialized value $rv in lc at /home/cpan/pit/thr/conf/perl-5.13.11/.cpanplus/5.13.11/build/Apache-ASP-2.61/blib/lib/Apache/ASP.pm line 2018.
Use of uninitialized value $rv in lc at /home/cpan/pit/thr/conf/perl-5.13.11/.cpanplus/5.13.11/build/Apache-ASP-2.61/blib/lib/Apache/ASP.pm line 2018.
Use of uninitialized value $rv in lc at /home/cpan/pit/thr/conf/perl-5.13.11/.cpanplus/5.13.11/build/Apache-ASP-2.61/blib/lib/Apache/ASP.pm line 2018.
Use of uninitialized value $rv in lc at /home/cpan/pit/thr/conf/perl-5.13.11/.cpanplus/5.13.11/build/Apache-ASP-2.61/blib/lib/Apache/ASP.pm line 2018.
Use of uninitialized value $rv in lc at /home/cpan/pit/thr/conf/perl-5.13.11/.cpanplus/5.13.11/build/Apache-ASP-2.61/blib/lib/Apache/ASP.pm line 2018.
Use of uninitialized value $rv in lc at /home/cpan/pit/thr/conf/perl-5.13.11/.cpanplus/5.13.11/build/Apache-ASP-2.61/blib/lib/Apache/ASP.pm line 2018.
Use of uninitialized value $rv in lc at /home/cpan/pit/thr/conf/perl-5.13.11/.cpanplus/5.13.11/build/Apache-ASP-2.61/blib/lib/Apache/ASP.pm line 2018.
Use of uninitialized value $rv in lc at /home/cpan/pit/thr/conf/perl-5.13.11/.cpanplus/5.13.11/build/Apache-ASP-2.61/blib/lib/Apache/ASP.pm line 2018.
Use of uninitialized value $rv in lc at /home/cpan/pit/thr/conf/perl-5.13.11/.cpanplus/5.13.11/build/Apache-ASP-2.61/blib/lib/Apache/ASP.pm line 2018.
Use of uninitialized value $rv in lc at /home/cpan/pit/thr/conf/perl-5.13.11/.cpanplus/5.13.11/build/Apache-ASP-2.61/blib/lib/Apache/ASP.pm line 2018.
Use of uninitialized value $rv in lc at /home/cpan/pit/thr/conf/perl-5.13.11/.cpanplus/5.13.11/build/Apache-ASP-2.61/blib/lib/Apache/ASP.pm line 2018.
Use of uninitialized value $rv in lc at /home/cpan/pit/thr/conf/perl-5.13.11/.cpanplus/5.13.11/build/Apache-ASP-2.61/blib/lib/Apache/ASP.pm line 2018.
Use of uninitialized value $rv in lc at /home/cpan/pit/thr/conf/perl-5.13.11/.cpanplus/5.13.11/build/Apache-ASP-2.61/blib/lib/Apache/ASP.pm line 2018.
Use of uninitialized value $rv in lc at /home/cpan/pit/thr/conf/perl-5.13.11/.cpanplus/5.13.11/build/Apache-ASP-2.61/blib/lib/Apache/ASP.pm line 2018.
Use of uninitialized value $rv in lc at /home/cpan/pit/thr/conf/perl-5.13.11/.cpanplus/5.13.11/build/Apache-ASP-2.61/blib/lib/Apache/ASP.pm line 2018.
Use of uninitialized value $rv in lc at /home/cpan/pit/thr/conf/perl-5.13.11/.cpanplus/5.13.11/build/Apache-ASP-2.61/blib/lib/Apache/ASP.pm line 2018.
Use of uninitialized value $rv in lc at /home/cpan/pit/thr/conf/perl-5.13.11/.cpanplus/5.13.11/build/Apache-ASP-2.61/blib/lib/Apache/ASP.pm line 2018.
Use of uninitialized value $rv in lc at /home/cpan/pit/thr/conf/perl-5.13.11/.cpanplus/5.13.11/build/Apache-ASP-2.61/blib/lib/Apache/ASP.pm line 2018.
Use of uninitialized value $rv in lc at /home/cpan/pit/thr/conf/perl-5.13.11/.cpanplus/5.13.11/build/Apache-ASP-2.61/blib/lib/Apache/ASP.pm line 2018.
Use of uninitialized value $rv in lc at /home/cpan/pit/thr/conf/perl-5.13.11/.cpanplus/5.13.11/build/Apache-ASP-2.61/blib/lib/Apache/ASP.pm line 2018.
Use of uninitialized value $rv in lc at /home/cpan/pit/thr/conf/perl-5.13.11/.cpanplus/5.13.11/build/Apache-ASP-2.61/blib/lib/Apache/ASP.pm line 2018.
Use of uninitialized value $rv in lc at /home/cpan/pit/thr/conf/perl-5.13.11/.cpanplus/5.13.11/build/Apache-ASP-2.61/blib/lib/Apache/ASP.pm line 2018.
Use of uninitialized value $rv in lc at /home/cpan/pit/thr/conf/perl-5.13.11/.cpanplus/5.13.11/build/Apache-ASP-2.61/blib/lib/Apache/ASP.pm line 2018.
Use of uninitialized value $rv in lc at /home/cpan/pit/thr/conf/perl-5.13.11/.cpanplus/5.13.11/build/Apache-ASP-2.61/blib/lib/Apache/ASP.pm line 2018.
Use of uninitialized value $rv in lc at /home/cpan/pit/thr/conf/perl-5.13.11/.cpanplus/5.13.11/build/Apache-ASP-2.61/blib/lib/Apache/ASP.pm line 2018.
Use of uninitialized value $rv in lc at /home/cpan/pit/thr/conf/perl-5.13.11/.cpanplus/5.13.11/build/Apache-ASP-2.61/blib/lib/Apache/ASP.pm line 2018.
Use of uninitialized value $rv in lc at /home/cpan/pit/thr/conf/perl-5.13.11/.cpanplus/5.13.11/build/Apache-ASP-2.61/blib/lib/Apache/ASP.pm line 2018.
Use of uninitialized value $rv in lc at /home/cpan/pit/thr/conf/perl-5.13.11/.cpanplus/5.13.11/build/Apache-ASP-2.61/blib/lib/Apache/ASP.pm line 2018.
Use of uninitialized value $rv in lc at /home/cpan/pit/thr/conf/perl-5.13.11/.cpanplus/5.13.11/build/Apache-ASP-2.61/blib/lib/Apache/ASP.pm line 2018.
Use of uninitialized value $rv in lc at /home/cpan/pit/thr/conf/perl-5.13.11/.cpanplus/5.13.11/build/Apache-ASP-2.61/blib/lib/Apache/ASP.pm line 2018.
Use of uninitialized value $rv in lc at /home/cpan/pit/thr/conf/perl-5.13.11/.cpanplus/5.13.11/build/Apache-ASP-2.61/blib/lib/Apache/ASP.pm line 2018.
Use of uninitialized value $rv in lc at /home/cpan/pit/thr/conf/perl-5.13.11/.cpanplus/5.13.11/build/Apache-ASP-2.61/blib/lib/Apache/ASP.pm line 2018.
Use of uninitialized value $rv in lc at /home/cpan/pit/thr/conf/perl-5.13.11/.cpanplus/5.13.11/build/Apache-ASP-2.61/blib/lib/Apache/ASP.pm line 2018.
Use of uninitialized value $rv in lc at /home/cpan/pit/thr/conf/perl-5.13.11/.cpanplus/5.13.11/build/Apache-ASP-2.61/blib/lib/Apache/ASP.pm line 2018.
Use of uninitialized value $rv in lc at /home/cpan/pit/thr/conf/perl-5.13.11/.cpanplus/5.13.11/build/Apache-ASP-2.61/blib/lib/Apache/ASP.pm line 2018.
Use of uninitialized value $rv in lc at /home/cpan/pit/thr/conf/perl-5.13.11/.cpanplus/5.13.11/build/Apache-ASP-2.61/blib/lib/Apache/ASP.pm line 2018.
Use of uninitialized value $rv in lc at /home/cpan/pit/thr/conf/perl-5.13.11/.cpanplus/5.13.11/build/Apache-ASP-2.61/blib/lib/Apache/ASP.pm line 2018.
Use of uninitialized value $rv in lc at /home/cpan/pit/thr/conf/perl-5.13.11/.cpanplus/5.13.11/build/Apache-ASP-2.61/blib/lib/Apache/ASP.pm line 2018.
t/end.t .................. ok
Use of uninitialized value $rv in lc at /home/cpan/pit/thr/conf/perl-5.13.11/.cpanplus/5.13.11/build/Apache-ASP-2.61/blib/lib/Apache/ASP.pm line 2018.
Use of uninitialized value $rv in lc at /home/cpan/pit/thr/conf/perl-5.13.11/.cpanplus/5.13.11/build/Apache-ASP-2.61/blib/lib/Apache/ASP.pm line 2018.
Use of uninitialized value $rv in lc at /home/cpan/pit/thr/conf/perl-5.13.11/.cpanplus/5.13.11/build/Apache-ASP-2.61/blib/lib/Apache/ASP.pm line 2018.
Use of uninitialized value $rv in lc at /home/cpan/pit/thr/conf/perl-5.13.11/.cpanplus/5.13.11/build/Apache-ASP-2.61/blib/lib/Apache/ASP.pm line 2018.
Use of uninitialized value $rv in lc at /home/cpan/pit/thr/conf/perl-5.13.11/.cpanplus/5.13.11/build/Apache-ASP-2.61/blib/lib/Apache/ASP.pm line 2018.
Use of uninitialized value $rv in lc at /home/cpan/pit/thr/conf/perl-5.13.11/.cpanplus/5.13.11/build/Apache-ASP-2.61/blib/lib/Apache/ASP.pm line 2018.
Use of uninitialized value $rv in lc at /home/cpan/pit/thr/conf/perl-5.13.11/.cpanplus/5.13.11/build/Apache-ASP-2.61/blib/lib/Apache/ASP.pm line 2018.
Use of uninitialized value $rv in lc at /home/cpan/pit/thr/conf/perl-5.13.11/.cpanplus/5.13.11/build/Apache-ASP-2.61/blib/lib/Apache/ASP.pm line 2018.
Use of uninitialized value $rv in lc at /home/cpan/pit/thr/conf/perl-5.13.11/.cpanplus/5.13.11/build/Apache-ASP-2.61/blib/lib/Apache/ASP.pm line 2018.
Use of uninitialized value $rv in lc at /home/cpan/pit/thr/conf/perl-5.13.11/.cpanplus/5.13.11/build/Apache-ASP-2.61/blib/lib/Apache/ASP.pm line 2018.
Use of uninitialized value $rv in lc at /home/cpan/pit/thr/conf/perl-5.13.11/.cpanplus/5.13.11/build/Apache-ASP-2.61/blib/lib/Apache/ASP.pm line 2018.
t/general.t .............. ok
Use of uninitialized value $rv in lc at /home/cpan/pit/thr/conf/perl-5.13.11/.cpanplus/5.13.11/build/Apache-ASP-2.61/blib/lib/Apache/ASP.pm line 2018.
Use of uninitialized value $rv in lc at /home/cpan/pit/thr/conf/perl-5.13.11/.cpanplus/5.13.11/build/Apache-ASP-2.61/blib/lib/Apache/ASP.pm line 2018.
Use of uninitialized value $rv in lc at /home/cpan/pit/thr/conf/perl-5.13.11/.cpanplus/5.13.11/build/Apache-ASP-2.61/blib/lib/Apache/ASP.pm line 2018.
Use of uninitialized value $rv in lc at /home/cpan/pit/thr/conf/perl-5.13.11/.cpanplus/5.13.11/build/Apache-ASP-2.61/blib/lib/Apache/ASP.pm line 2018.
Use of uninitialized value $rv in lc at /home/cpan/pit/thr/conf/perl-5.13.11/.cpanplus/5.13.11/build/Apache-ASP-2.61/blib/lib/Apache/ASP.pm line 2018.
Use of uninitialized value $rv in lc at /home/cpan/pit/thr/conf/perl-5.13.11/.cpanplus/5.13.11/build/Apache-ASP-2.61/blib/lib/Apache/ASP.pm line 2018.
Use of uninitialized value $rv in lc at /home/cpan/pit/thr/conf/perl-5.13.11/.cpanplus/5.13.11/build/Apache-ASP-2.61/blib/lib/Apache/ASP.pm line 2018.
Use of uninitialized value $rv in lc at /home/cpan/pit/thr/conf/perl-5.13.11/.cpanplus/5.13.11/build/Apache-ASP-2.61/blib/lib/Apache/ASP.pm line 2018.
Use of uninitialized value $rv in lc at /home/cpan/pit/thr/conf/perl-5.13.11/.cpanplus/5.13.11/build/Apache-ASP-2.61/blib/lib/Apache/ASP.pm line 2018.
Use of uninitialized value $rv in lc at /home/cpan/pit/thr/conf/perl-5.13.11/.cpanplus/5.13.11/build/Apache-ASP-2.61/blib/lib/Apache/ASP.pm line 2018.
t/global_event_end.t ..... ok
Use of uninitialized value $rv in lc at /home/cpan/pit/thr/conf/perl-5.13.11/.cpanplus/5.13.11/build/Apache-ASP-2.61/blib/lib/Apache/ASP.pm line 2018.
Use of uninitialized value $rv in lc at /home/cpan/pit/thr/conf/perl-5.13.11/.cpanplus/5.13.11/build/Apache-ASP-2.61/blib/lib/Apache/ASP.pm line 2018.
Use of uninitialized value $rv in lc at /home/cpan/pit/thr/conf/perl-5.13.11/.cpanplus/5.13.11/build/Apache-ASP-2.61/blib/lib/Apache/ASP.pm line 2018.
Use of uninitialized value $rv in lc at /home/cpan/pit/thr/conf/perl-5.13.11/.cpanplus/5.13.11/build/Apache-ASP-2.61/blib/lib/Apache/ASP.pm line 2018.
Use of uninitialized value $rv in lc at /home/cpan/pit/thr/conf/perl-5.13.11/.cpanplus/5.13.11/build/Apache-ASP-2.61/blib/lib/Apache/ASP.pm line 2018.
Use of uninitialized value $rv in lc at /home/cpan/pit/thr/conf/perl-5.13.11/.cpanplus/5.13.11/build/Apache-ASP-2.61/blib/lib/Apache/ASP.pm line 2018.
Use of uninitialized value $rv in lc at /home/cpan/pit/thr/conf/perl-5.13.11/.cpanplus/5.13.11/build/Apache-ASP-2.61/blib/lib/Apache/ASP.pm line 2018.
Use of uninitialized value $rv in lc at /home/cpan/pit/thr/conf/perl-5.13.11/.cpanplus/5.13.11/build/Apache-ASP-2.61/blib/lib/Apache/ASP.pm line 2018.
Use of uninitialized value $rv in lc at /home/cpan/pit/thr/conf/perl-5.13.11/.cpanplus/5.13.11/build/Apache-ASP-2.61/blib/lib/Apache/ASP.pm line 2018.
Use of uninitialized value $rv in lc at /home/cpan/pit/thr/conf/perl-5.13.11/.cpanplus/5.13.11/build/Apache-ASP-2.61/blib/lib/Apache/ASP.pm line 2018.
t/include.t .............. ok
Use of uninitialized value $rv in lc at /home/cpan/pit/thr/conf/perl-5.13.11/.cpanplus/5.13.11/build/Apache-ASP-2.61/blib/lib/Apache/ASP.pm line 2018.
at /home/cpan/pit/thr/conf/perl-5.13.11/.cpanplus/5.13.11/build/Apache-ASP-2.61/blib/lib/Apache/ASP.pm line 2018
Apache::ASP::get_dir_config('Apache::ASP::CGI::Table=HASH(0xbb6888)', 'Global') called at /home/cpan/pit/thr/conf/perl-5.13.11/.cpanplus/5.13.11/build/Apache-ASP-2.61/blib/lib/Apache/ASP.pm line 276
Apache::ASP::new('Apache::ASP', 'Apache::ASP::CGI=HASH(0x793fc8)', 't/include_change.t') called at /home/cpan/pit/thr/conf/perl-5.13.11/.cpanplus/5.13.11/build/Apache-ASP-2.61/blib/lib/Apache/ASP.pm line 184
Apache::ASP::handler('Apache::ASP::CGI=HASH(0x793fc8)') called at /home/cpan/pit/thr/conf/perl-5.13.11/.cpanplus/5.13.11/build/Apache-ASP-2.61/blib/lib/Apache/ASP/CGI.pm line 40
Apache::ASP::CGI::do_self('NoState', 1, 'Debug', 0, 'UseStrict', 0) called at t/include_change.t line 5
Use of uninitialized value $rv in lc at /home/cpan/pit/thr/conf/perl-5.13.11/.cpanplus/5.13.11/build/Apache-ASP-2.61/blib/lib/Apache/ASP.pm line 2018.
at /home/cpan/pit/thr/conf/perl-5.13.11/.cpanplus/5.13.11/build/Apache-ASP-2.61/blib/lib/Apache/ASP.pm line 2018
Apache::ASP::get_dir_config('Apache::ASP::CGI::Table=HASH(0xbb6888)', 'GlobalPackage') called at /home/cpan/pit/thr/conf/perl-5.13.11/.cpanplus/5.13.11/build/Apache-ASP-2.61/blib/lib/Apache/ASP.pm line 280
Apache::ASP::new('Apache::ASP', 'Apache::ASP::CGI=HASH(0x793fc8)', 't/include_change.t') called at /home/cpan/pit/thr/conf/perl-5.13.11/.cpanplus/5.13.11/build/Apache-ASP-2.61/blib/lib/Apache/ASP.pm line 184
Apache::ASP::handler('Apache::ASP::CGI=HASH(0x793fc8)') called at /home/cpan/pit/thr/conf/perl-5.13.11/.cpanplus/5.13.11/build/Apache-ASP-2.61/blib/lib/Apache/ASP/CGI.pm line 40
Apache::ASP::CGI::do_self('NoState', 1, 'Debug', 0, 'UseStrict', 0) called at t/include_change.t line 5
Use of uninitialized value $rv in lc at /home/cpan/pit/thr/conf/perl-5.13.11/.cpanplus/5.13.11/build/Apache-ASP-2.61/blib/lib/Apache/ASP.pm line 2018.
at /home/cpan/pit/thr/conf/perl-5.13.11/.cpanplus/5.13.11/build/Apache-ASP-2.61/blib/lib/Apache/ASP.pm line 2018
Apache::ASP::get_dir_config('Apache::ASP::CGI::Table=HASH(0xbb6888)', 'InodeNames') called at /home/cpan/pit/thr/conf/perl-5.13.11/.cpanplus/5.13.11/build/Apache-ASP-2.61/blib/lib/Apache/ASP.pm line 280
Apache::ASP::new('Apache::ASP', 'Apache::ASP::CGI=HASH(0x793fc8)', 't/include_change.t') called at /home/cpan/pit/thr/conf/perl-5.13.11/.cpanplus/5.13.11/build/Apache-ASP-2.61/blib/lib/Apache/ASP.pm line 184
Apache::ASP::handler('Apache::ASP::CGI=HASH(0x793fc8)') called at /home/cpan/pit/thr/conf/perl-5.13.11/.cpanplus/5.13.11/build/Apache-ASP-2.61/blib/lib/Apache/ASP/CGI.pm line 40
Apache::ASP::CGI::do_self('NoState', 1, 'Debug', 0, 'UseStrict', 0) called at t/include_change.t line 5
Use of uninitialized value $rv in lc at /home/cpan/pit/thr/conf/perl-5.13.11/.cpanplus/5.13.11/build/Apache-ASP-2.61/blib/lib/Apache/ASP.pm line 2018.
at /home/cpan/pit/thr/conf/perl-5.13.11/.cpanplus/5.13.11/build/Apache-ASP-2.61/blib/lib/Apache/ASP.pm line 2018
Apache::ASP::get_dir_config('Apache::ASP::CGI::Table=HASH(0xbb6888)', 'NoCache') called at /home/cpan/pit/thr/conf/perl-5.13.11/.cpanplus/5.13.11/build/Apache-ASP-2.61/blib/lib/Apache/ASP.pm line 280
Apache::ASP::new('Apache::ASP', 'Apache::ASP::CGI=HASH(0x793fc8)', 't/include_change.t') called at /home/cpan/pit/thr/conf/perl-5.13.11/.cpanplus/5.13.11/build/Apache-ASP-2.61/blib/lib/Apache/ASP.pm line 184
Apache::ASP::handler('Apache::ASP::CGI=HASH(0x793fc8)') called at /home/cpan/pit/thr/conf/perl-5.13.11/.cpanplus/5.13.11/build/Apache-ASP-2.61/blib/lib/Apache/ASP/CGI.pm line 40
Apache::ASP::CGI::do_self('NoState', 1, 'Debug', 0, 'UseStrict', 0) called at t/include_change.t line 5
Use of uninitialized value $rv in lc at /home/cpan/pit/thr/conf/perl-5.13.11/.cpanplus/5.13.11/build/Apache-ASP-2.61/blib/lib/Apache/ASP.pm line 2018.
at /home/cpan/pit/thr/conf/perl-5.13.11/.cpanplus/5.13.11/build/Apache-ASP-2.61/blib/lib/Apache/ASP.pm line 2018
Apache::ASP::get_dir_config('Apache::ASP::CGI::Table=HASH(0xbb6888)', 'StatINC') called at /home/cpan/pit/thr/conf/perl-5.13.11/.cpanplus/5.13.11/build/Apache-ASP-2.61/blib/lib/Apache/ASP.pm line 280
Apache::ASP::new('Apache::ASP', 'Apache::ASP::CGI=HASH(0x793fc8)', 't/include_change.t') called at /home/cpan/pit/thr/conf/perl-5.13.11/.cpanplus/5.13.11/build/Apache-ASP-2.61/blib/lib/Apache/ASP.pm line 184
Apache::ASP::handler('Apache::ASP::CGI=HASH(0x793fc8)') called at /home/cpan/pit/thr/conf/perl-5.13.11/.cpanplus/5.13.11/build/Apache-ASP-2.61/blib/lib/Apache/ASP/CGI.pm line 40
Apache::ASP::CGI::do_self('NoState', 1, 'Debug', 0, 'UseStrict', 0) called at t/include_change.t line 5
Use of uninitialized value $rv in lc at /home/cpan/pit/thr/conf/perl-5.13.11/.cpanplus/5.13.11/build/Apache-ASP-2.61/blib/lib/Apache/ASP.pm line 2018.
at /home/cpan/pit/thr/conf/perl-5.13.11/.cpanplus/5.13.11/build/Apache-ASP-2.61/blib/lib/Apache/ASP.pm line 2018
Apache::ASP::get_dir_config('Apache::ASP::CGI::Table=HASH(0xbb6888)', 'StatINCMatch') called at /home/cpan/pit/thr/conf/perl-5.13.11/.cpanplus/5.13.11/build/Apache-ASP-2.61/blib/lib/Apache/ASP.pm line 280
Apache::ASP::new('Apache::ASP', 'Apache::ASP::CGI=HASH(0x793fc8)', 't/include_change.t') called at /home/cpan/pit/thr/conf/perl-5.13.11/.cpanplus/5.13.11/build/Apache-ASP-2.61/blib/lib/Apache/ASP.pm line 184
Apache::ASP::handler('Apache::ASP::CGI=HASH(0x793fc8)') called at /home/cpan/pit/thr/conf/perl-5.13.11/.cpanplus/5.13.11/build/Apache-ASP-2.61/blib/lib/Apache/ASP/CGI.pm line 40
Apache::ASP::CGI::do_self('NoState', 1, 'Debug', 0, 'UseStrict', 0) called at t/include_change.t line 5
Use of uninitialized value $rv in lc at /home/cpan/pit/thr/conf/perl-5.13.11/.cpanplus/5.13.11/build/Apache-ASP-2.61/blib/lib/Apache/ASP.pm line 2018.
at /home/cpan/pit/thr/conf/perl-5.13.11/.cpanplus/5.13.11/build/Apache-ASP-2.61/blib/lib/Apache/ASP.pm line 2018
Apache::ASP::get_dir_config('Apache::ASP::CGI::Table=HASH(0xbb6888)', 'XSLT') called at /home/cpan/pit/thr/conf/perl-5.13.11/.cpanplus/5.13.11/build/Apache-ASP-2.61/blib/lib/Apache/ASP.pm line 280
Apache::ASP::new('Apache::ASP', 'Apache::ASP::CGI=HASH(0x793fc8)', 't/include_change.t') called at /home/cpan/pit/thr/conf/perl-5.13.11/.cpanplus/5.13.11/build/Apache-ASP-2.61/blib/lib/Apache/ASP.pm line 184
Apache::ASP::handler('Apache::ASP::CGI=HASH(0x793fc8)') called at /home/cpan/pit/thr/conf/perl-5.13.11/.cpanplus/5.13.11/build/Apache-ASP-2.61/blib/lib/Apache/ASP/CGI.pm line 40
Apache::ASP::CGI::do_self('NoState', 1, 'Debug', 0, 'UseStrict', 0) called at t/include_change.t line 5
Use of uninitialized value $rv in lc at /home/cpan/pit/thr/conf/perl-5.13.11/.cpanplus/5.13.11/build/Apache-ASP-2.61/blib/lib/Apache/ASP.pm line 2018.
at /home/cpan/pit/thr/conf/perl-5.13.11/.cpanplus/5.13.11/build/Apache-ASP-2.61/blib/lib/Apache/ASP.pm line 2018
Apache::ASP::get_dir_config('Apache::ASP::CGI::Table=HASH(0xbb6888)', 'Filter') called at /home/cpan/pit/thr/conf/perl-5.13.11/.cpanplus/5.13.11/build/Apache-ASP-2.61/blib/lib/Apache/ASP.pm line 326
Apache::ASP::new('Apache::ASP', 'Apache::ASP::CGI=HASH(0x793fc8)', 't/include_change.t') called at /home/cpan/pit/thr/conf/perl-5.13.11/.cpanplus/5.13.11/build/Apache-ASP-2.61/blib/lib/Apache/ASP.pm line 184
Apache::ASP::handler('Apache::ASP::CGI=HASH(0x793fc8)') called at /home/cpan/pit/thr/conf/perl-5.13.11/.cpanplus/5.13.11/build/Apache-ASP-2.61/blib/lib/Apache/ASP/CGI.pm line 40
Apache::ASP::CGI::do_self('NoState', 1, 'Debug', 0, 'UseStrict', 0) called at t/include_change.t line 5
Use of uninitialized value $rv in lc at /home/cpan/pit/thr/conf/perl-5.13.11/.cpanplus/5.13.11/build/Apache-ASP-2.61/blib/lib/Apache/ASP.pm line 2018.
at /home/cpan/pit/thr/conf/perl-5.13.11/.cpanplus/5.13.11/build/Apache-ASP-2.61/blib/lib/Apache/ASP.pm line 2018
Apache::ASP::get_dir_config('Apache::ASP::CGI::Table=HASH(0xbb6888)', 'CompressGzip') called at /home/cpan/pit/thr/conf/perl-5.13.11/.cpanplus/5.13.11/build/Apache-ASP-2.61/blib/lib/Apache/ASP.pm line 353
Apache::ASP::new('Apache::ASP', 'Apache::ASP::CGI=HASH(0x793fc8)', 't/include_change.t') called at /home/cpan/pit/thr/conf/perl-5.13.11/.cpanplus/5.13.11/build/Apache-ASP-2.61/blib/lib/Apache/ASP.pm line 184
Apache::ASP::handler('Apache::ASP::CGI=HASH(0x793fc8)') called at /home/cpan/pit/thr/conf/perl-5.13.11/.cpanplus/5.13.11/build/Apache-ASP-2.61/blib/lib/Apache/ASP/CGI.pm line 40
Apache::ASP::CGI::do_self('NoState', 1, 'Debug', 0, 'UseStrict', 0) called at t/include_change.t line 5
t/include_change.t ....... ok
Use of uninitialized value $rv in lc at /home/cpan/pit/thr/conf/perl-5.13.11/.cpanplus/5.13.11/build/Apache-ASP-2.61/blib/lib/Apache/ASP.pm line 2018.
Use of uninitialized value $rv in lc at /home/cpan/pit/thr/conf/perl-5.13.11/.cpanplus/5.13.11/build/Apache-ASP-2.61/blib/lib/Apache/ASP.pm line 2018.
Use of uninitialized value $rv in lc at /home/cpan/pit/thr/conf/perl-5.13.11/.cpanplus/5.13.11/build/Apache-ASP-2.61/blib/lib/Apache/ASP.pm line 2018.
Use of uninitialized value $rv in lc at /home/cpan/pit/thr/conf/perl-5.13.11/.cpanplus/5.13.11/build/Apache-ASP-2.61/blib/lib/Apache/ASP.pm line 2018.
Use of uninitialized value $rv in lc at /home/cpan/pit/thr/conf/perl-5.13.11/.cpanplus/5.13.11/build/Apache-ASP-2.61/blib/lib/Apache/ASP.pm line 2018.
Use of uninitialized value $rv in lc at /home/cpan/pit/thr/conf/perl-5.13.11/.cpanplus/5.13.11/build/Apache-ASP-2.61/blib/lib/Apache/ASP.pm line 2018.
Use of uninitialized value $rv in lc at /home/cpan/pit/thr/conf/perl-5.13.11/.cpanplus/5.13.11/build/Apache-ASP-2.61/blib/lib/Apache/ASP.pm line 2018.
Use of uninitialized value $rv in lc at /home/cpan/pit/thr/conf/perl-5.13.11/.cpanplus/5.13.11/build/Apache-ASP-2.61/blib/lib/Apache/ASP.pm line 2018.
Use of uninitialized value $rv in lc at /home/cpan/pit/thr/conf/perl-5.13.11/.cpanplus/5.13.11/build/Apache-ASP-2.61/blib/lib/Apache/ASP.pm line 2018.
Use of uninitialized value $rv in lc at /home/cpan/pit/thr/conf/perl-5.13.11/.cpanplus/5.13.11/build/Apache-ASP-2.61/blib/lib/Apache/ASP.pm line 2018.
Use of uninitialized value $rv in lc at /home/cpan/pit/thr/conf/perl-5.13.11/.cpanplus/5.13.11/build/Apache-ASP-2.61/blib/lib/Apache/ASP.pm line 2018.
t/include_dir_error.t .... ok
Use of uninitialized value $rv in lc at /home/cpan/pit/thr/conf/perl-5.13.11/.cpanplus/5.13.11/build/Apache-ASP-2.61/blib/lib/Apache/ASP.pm line 2018.
Use of uninitialized value $rv in lc at /home/cpan/pit/thr/conf/perl-5.13.11/.cpanplus/5.13.11/build/Apache-ASP-2.61/blib/lib/Apache/ASP.pm line 2018.
Use of uninitialized value $rv in lc at /home/cpan/pit/thr/conf/perl-5.13.11/.cpanplus/5.13.11/build/Apache-ASP-2.61/blib/lib/Apache/ASP.pm line 2018.
Use of uninitialized value $rv in lc at /home/cpan/pit/thr/conf/perl-5.13.11/.cpanplus/5.13.11/build/Apache-ASP-2.61/blib/lib/Apache/ASP.pm line 2018.
Use of uninitialized value $rv in lc at /home/cpan/pit/thr/conf/perl-5.13.11/.cpanplus/5.13.11/build/Apache-ASP-2.61/blib/lib/Apache/ASP.pm line 2018.
Use of uninitialized value $rv in lc at /home/cpan/pit/thr/conf/perl-5.13.11/.cpanplus/5.13.11/build/Apache-ASP-2.61/blib/lib/Apache/ASP.pm line 2018.
Use of uninitialized value $rv in lc at /home/cpan/pit/thr/conf/perl-5.13.11/.cpanplus/5.13.11/build/Apache-ASP-2.61/blib/lib/Apache/ASP.pm line 2018.
Use of uninitialized value $rv in lc at /home/cpan/pit/thr/conf/perl-5.13.11/.cpanplus/5.13.11/build/Apache-ASP-2.61/blib/lib/Apache/ASP.pm line 2018.
Use of uninitialized value $rv in lc at /home/cpan/pit/thr/conf/perl-5.13.11/.cpanplus/5.13.11/build/Apache-ASP-2.61/blib/lib/Apache/ASP.pm line 2018.
Use of uninitialized value $rv in lc at /home/cpan/pit/thr/conf/perl-5.13.11/.cpanplus/5.13.11/build/Apache-ASP-2.61/blib/lib/Apache/ASP.pm line 2018.
Use of uninitialized value $rv in lc at /home/cpan/pit/thr/conf/perl-5.13.11/.cpanplus/5.13.11/build/Apache-ASP-2.61/blib/lib/Apache/ASP.pm line 2018.
t/include_runtime.t ...... ok
Use of uninitialized value $rv in lc at /home/cpan/pit/thr/conf/perl-5.13.11/.cpanplus/5.13.11/build/Apache-ASP-2.61/blib/lib/Apache/ASP.pm line 2018.
Use of uninitialized value $rv in lc at /home/cpan/pit/thr/conf/perl-5.13.11/.cpanplus/5.13.11/build/Apache-ASP-2.61/blib/lib/Apache/ASP.pm line 2018.
Use of uninitialized value $rv in lc at /home/cpan/pit/thr/conf/perl-5.13.11/.cpanplus/5.13.11/build/Apache-ASP-2.61/blib/lib/Apache/ASP.pm line 2018.
Use of uninitialized value $rv in lc at /home/cpan/pit/thr/conf/perl-5.13.11/.cpanplus/5.13.11/build/Apache-ASP-2.61/blib/lib/Apache/ASP.pm line 2018.
Use of uninitialized value $rv in lc at /home/cpan/pit/thr/conf/perl-5.13.11/.cpanplus/5.13.11/build/Apache-ASP-2.61/blib/lib/Apache/ASP.pm line 2018.
Use of uninitialized value $rv in lc at /home/cpan/pit/thr/conf/perl-5.13.11/.cpanplus/5.13.11/build/Apache-ASP-2.61/blib/lib/Apache/ASP.pm line 2018.
Use of uninitialized value $rv in lc at /home/cpan/pit/thr/conf/perl-5.13.11/.cpanplus/5.13.11/build/Apache-ASP-2.61/blib/lib/Apache/ASP.pm line 2018.
Use of uninitialized value $rv in lc at /home/cpan/pit/thr/conf/perl-5.13.11/.cpanplus/5.13.11/build/Apache-ASP-2.61/blib/lib/Apache/ASP.pm line 2018.
Use of uninitialized value $rv in lc at /home/cpan/pit/thr/conf/perl-5.13.11/.cpanplus/5.13.11/build/Apache-ASP-2.61/blib/lib/Apache/ASP.pm line 2018.
t/inode_names.t .......... ok
[ASP WARN] Use of uninitialized value $rv in lc at /home/cpan/pit/thr/conf/perl-5.13.11/.cpanplus/5.13.11/build/Apache-ASP-2.61/blib/lib/Apache/ASP.pm line 2018.
[ASP WARN] Use of uninitialized value $rv in lc at /home/cpan/pit/thr/conf/perl-5.13.11/.cpanplus/5.13.11/build/Apache-ASP-2.61/blib/lib/Apache/ASP.pm line 2018.
[ASP WARN] Use of uninitialized value $rv in lc at /home/cpan/pit/thr/conf/perl-5.13.11/.cpanplus/5.13.11/build/Apache-ASP-2.61/blib/lib/Apache/ASP.pm line 2018.
[ASP WARN] Use of uninitialized value $rv in lc at /home/cpan/pit/thr/conf/perl-5.13.11/.cpanplus/5.13.11/build/Apache-ASP-2.61/blib/lib/Apache/ASP.pm line 2018.
[ASP WARN] Use of uninitialized value $rv in lc at /home/cpan/pit/thr/conf/perl-5.13.11/.cpanplus/5.13.11/build/Apache-ASP-2.61/blib/lib/Apache/ASP.pm line 2018.
[ASP WARN] Use of uninitialized value $rv in lc at /home/cpan/pit/thr/conf/perl-5.13.11/.cpanplus/5.13.11/build/Apache-ASP-2.61/blib/lib/Apache/ASP.pm line 2018.
[ASP WARN] Use of uninitialized value $rv in lc at /home/cpan/pit/thr/conf/perl-5.13.11/.cpanplus/5.13.11/build/Apache-ASP-2.61/blib/lib/Apache/ASP.pm line 2018.
[ASP WARN] Use of uninitialized value $rv in lc at /home/cpan/pit/thr/conf/perl-5.13.11/.cpanplus/5.13.11/build/Apache-ASP-2.61/blib/lib/Apache/ASP.pm line 2018.
[ASP WARN] Use of uninitialized value $rv in lc at /home/cpan/pit/thr/conf/perl-5.13.11/.cpanplus/5.13.11/build/Apache-ASP-2.61/blib/lib/Apache/ASP.pm line 2018.
[ASP WARN] Use of uninitialized value $rv in lc at /home/cpan/pit/thr/conf/perl-5.13.11/.cpanplus/5.13.11/build/Apache-ASP-2.61/blib/lib/Apache/ASP.pm line 2018.
Use of uninitialized value $rv in lc at /home/cpan/pit/thr/conf/perl-5.13.11/.cpanplus/5.13.11/build/Apache-ASP-2.61/blib/lib/Apache/ASP.pm line 2018.
Use of uninitialized value $rv in lc at /home/cpan/pit/thr/conf/perl-5.13.11/.cpanplus/5.13.11/build/Apache-ASP-2.61/blib/lib/Apache/ASP.pm line 2018.
Use of uninitialized value $rv in lc at /home/cpan/pit/thr/conf/perl-5.13.11/.cpanplus/5.13.11/build/Apache-ASP-2.61/blib/lib/Apache/ASP.pm line 2018.
Use of uninitialized value $rv in lc at /home/cpan/pit/thr/conf/perl-5.13.11/.cpanplus/5.13.11/build/Apache-ASP-2.61/blib/lib/Apache/ASP.pm line 2018.
Use of uninitialized value $rv in lc at /home/cpan/pit/thr/conf/perl-5.13.11/.cpanplus/5.13.11/build/Apache-ASP-2.61/blib/lib/Apache/ASP.pm line 2018.
Use of uninitialized value $rv in lc at /home/cpan/pit/thr/conf/perl-5.13.11/.cpanplus/5.13.11/build/Apache-ASP-2.61/blib/lib/Apache/ASP.pm line 2018.
Use of uninitialized value $rv in lc at /home/cpan/pit/thr/conf/perl-5.13.11/.cpanplus/5.13.11/build/Apache-ASP-2.61/blib/lib/Apache/ASP.pm line 2018.
Use of uninitialized value $rv in lc at /home/cpan/pit/thr/conf/perl-5.13.11/.cpanplus/5.13.11/build/Apache-ASP-2.61/blib/lib/Apache/ASP.pm line 2018.
Use of uninitialized value $rv in lc at /home/cpan/pit/thr/conf/perl-5.13.11/.cpanplus/5.13.11/build/Apache-ASP-2.61/blib/lib/Apache/ASP.pm line 2018.
t/load.t ................. ok
Use of uninitialized value $rv in lc at /home/cpan/pit/thr/conf/perl-5.13.11/.cpanplus/5.13.11/build/Apache-ASP-2.61/blib/lib/Apache/ASP.pm line 2018.
Use of uninitialized value $rv in lc at /home/cpan/pit/thr/conf/perl-5.13.11/.cpanplus/5.13.11/build/Apache-ASP-2.61/blib/lib/Apache/ASP.pm line 2018.
Use of uninitialized value $rv in lc at /home/cpan/pit/thr/conf/perl-5.13.11/.cpanplus/5.13.11/build/Apache-ASP-2.61/blib/lib/Apache/ASP.pm line 2018.
Use of uninitialized value $rv in lc at /home/cpan/pit/thr/conf/perl-5.13.11/.cpanplus/5.13.11/build/Apache-ASP-2.61/blib/lib/Apache/ASP.pm line 2018.
Use of uninitialized value $rv in lc at /home/cpan/pit/thr/conf/perl-5.13.11/.cpanplus/5.13.11/build/Apache-ASP-2.61/blib/lib/Apache/ASP.pm line 2018.
Use of uninitialized value $rv in lc at /home/cpan/pit/thr/conf/perl-5.13.11/.cpanplus/5.13.11/build/Apache-ASP-2.61/blib/lib/Apache/ASP.pm line 2018.
Use of uninitialized value $rv in lc at /home/cpan/pit/thr/conf/perl-5.13.11/.cpanplus/5.13.11/build/Apache-ASP-2.61/blib/lib/Apache/ASP.pm line 2018.
Use of uninitialized value $rv in lc at /home/cpan/pit/thr/conf/perl-5.13.11/.cpanplus/5.13.11/build/Apache-ASP-2.61/blib/lib/Apache/ASP.pm line 2018.
Use of uninitialized value $rv in lc at /home/cpan/pit/thr/conf/perl-5.13.11/.cpanplus/5.13.11/build/Apache-ASP-2.61/blib/lib/Apache/ASP.pm line 2018.
t/long_names.t ........... ok
Use of uninitialized value $rv in lc at /home/cpan/pit/thr/conf/perl-5.13.11/.cpanplus/5.13.11/build/Apache-ASP-2.61/blib/lib/Apache/ASP.pm line 2018.
Use of uninitialized value $rv in lc at /home/cpan/pit/thr/conf/perl-5.13.11/.cpanplus/5.13.11/build/Apache-ASP-2.61/blib/lib/Apache/ASP.pm line 2018.
Use of uninitialized value $rv in lc at /home/cpan/pit/thr/conf/perl-5.13.11/.cpanplus/5.13.11/build/Apache-ASP-2.61/blib/lib/Apache/ASP.pm line 2018.
Use of uninitialized value $rv in lc at /home/cpan/pit/thr/conf/perl-5.13.11/.cpanplus/5.13.11/build/Apache-ASP-2.61/blib/lib/Apache/ASP.pm line 2018.
Use of uninitialized value $rv in lc at /home/cpan/pit/thr/conf/perl-5.13.11/.cpanplus/5.13.11/build/Apache-ASP-2.61/blib/lib/Apache/ASP.pm line 2018.
Use of uninitialized value $rv in lc at /home/cpan/pit/thr/conf/perl-5.13.11/.cpanplus/5.13.11/build/Apache-ASP-2.61/blib/lib/Apache/ASP.pm line 2018.
Use of uninitialized value $rv in lc at /home/cpan/pit/thr/conf/perl-5.13.11/.cpanplus/5.13.11/build/Apache-ASP-2.61/blib/lib/Apache/ASP.pm line 2018.
Use of uninitialized value $rv in lc at /home/cpan/pit/thr/conf/perl-5.13.11/.cpanplus/5.13.11/build/Apache-ASP-2.61/blib/lib/Apache/ASP.pm line 2018.
Use of uninitialized value $rv in lc at /home/cpan/pit/thr/conf/perl-5.13.11/.cpanplus/5.13.11/build/Apache-ASP-2.61/blib/lib/Apache/ASP.pm line 2018.
Use of uninitialized value $rv in lc at /home/cpan/pit/thr/conf/perl-5.13.11/.cpanplus/5.13.11/build/Apache-ASP-2.61/blib/lib/Apache/ASP.pm line 2018.
Use of uninitialized value $rv in lc at /home/cpan/pit/thr/conf/perl-5.13.11/.cpanplus/5.13.11/build/Apache-ASP-2.61/blib/lib/Apache/ASP.pm line 2018.
t/loops.t ................ ok
Use of uninitialized value $rv in lc at /home/cpan/pit/thr/conf/perl-5.13.11/.cpanplus/5.13.11/build/Apache-ASP-2.61/blib/lib/Apache/ASP.pm line 2018.
Use of uninitialized value $rv in lc at /home/cpan/pit/thr/conf/perl-5.13.11/.cpanplus/5.13.11/build/Apache-ASP-2.61/blib/lib/Apache/ASP.pm line 2018.
Use of uninitialized value $rv in lc at /home/cpan/pit/thr/conf/perl-5.13.11/.cpanplus/5.13.11/build/Apache-ASP-2.61/blib/lib/Apache/ASP.pm line 2018.
Use of uninitialized value $rv in lc at /home/cpan/pit/thr/conf/perl-5.13.11/.cpanplus/5.13.11/build/Apache-ASP-2.61/blib/lib/Apache/ASP.pm line 2018.
Use of uninitialized value $rv in lc at /home/cpan/pit/thr/conf/perl-5.13.11/.cpanplus/5.13.11/build/Apache-ASP-2.61/blib/lib/Apache/ASP.pm line 2018.
Use of uninitialized value $rv in lc at /home/cpan/pit/thr/conf/perl-5.13.11/.cpanplus/5.13.11/build/Apache-ASP-2.61/blib/lib/Apache/ASP.pm line 2018.
Use of uninitialized value $rv in lc at /home/cpan/pit/thr/conf/perl-5.13.11/.cpanplus/5.13.11/build/Apache-ASP-2.61/blib/lib/Apache/ASP.pm line 2018.
Use of uninitialized value $rv in lc at /home/cpan/pit/thr/conf/perl-5.13.11/.cpanplus/5.13.11/build/Apache-ASP-2.61/blib/lib/Apache/ASP.pm line 2018.
Use of uninitialized value $rv in lc at /home/cpan/pit/thr/conf/perl-5.13.11/.cpanplus/5.13.11/build/Apache-ASP-2.61/blib/lib/Apache/ASP.pm line 2018.
Use of uninitialized value $rv in lc at /home/cpan/pit/thr/conf/perl-5.13.11/.cpanplus/5.13.11/build/Apache-ASP-2.61/blib/lib/Apache/ASP.pm line 2018.
t/mail_error.t ........... ok
Use of uninitialized value $rv in lc at /home/cpan/pit/thr/conf/perl-5.13.11/.cpanplus/5.13.11/build/Apache-ASP-2.61/blib/lib/Apache/ASP.pm line 2018.
Use of uninitialized value $rv in lc at /home/cpan/pit/thr/conf/perl-5.13.11/.cpanplus/5.13.11/build/Apache-ASP-2.61/blib/lib/Apache/ASP.pm line 2018.
Use of uninitialized value $rv in lc at /home/cpan/pit/thr/conf/perl-5.13.11/.cpanplus/5.13.11/build/Apache-ASP-2.61/blib/lib/Apache/ASP.pm line 2018.
Use of uninitialized value $rv in lc at /home/cpan/pit/thr/conf/perl-5.13.11/.cpanplus/5.13.11/build/Apache-ASP-2.61/blib/lib/Apache/ASP.pm line 2018.
Use of uninitialized value $rv in lc at /home/cpan/pit/thr/conf/perl-5.13.11/.cpanplus/5.13.11/build/Apache-ASP-2.61/blib/lib/Apache/ASP.pm line 2018.
Use of uninitialized value $rv in lc at /home/cpan/pit/thr/conf/perl-5.13.11/.cpanplus/5.13.11/build/Apache-ASP-2.61/blib/lib/Apache/ASP.pm line 2018.
Use of uninitialized value $rv in lc at /home/cpan/pit/thr/conf/perl-5.13.11/.cpanplus/5.13.11/build/Apache-ASP-2.61/blib/lib/Apache/ASP.pm line 2018.
t/no_cache.t ............. ok
Use of uninitialized value $rv in lc at /home/cpan/pit/thr/conf/perl-5.13.11/.cpanplus/5.13.11/build/Apache-ASP-2.61/blib/lib/Apache/ASP.pm line 2018.
Use of uninitialized value $rv in lc at /home/cpan/pit/thr/conf/perl-5.13.11/.cpanplus/5.13.11/build/Apache-ASP-2.61/blib/lib/Apache/ASP.pm line 2018.
Use of uninitialized value $rv in lc at /home/cpan/pit/thr/conf/perl-5.13.11/.cpanplus/5.13.11/build/Apache-ASP-2.61/blib/lib/Apache/ASP.pm line 2018.
Use of uninitialized value $rv in lc at /home/cpan/pit/thr/conf/perl-5.13.11/.cpanplus/5.13.11/build/Apache-ASP-2.61/blib/lib/Apache/ASP.pm line 2018.
Use of uninitialized value $rv in lc at /home/cpan/pit/thr/conf/perl-5.13.11/.cpanplus/5.13.11/build/Apache-ASP-2.61/blib/lib/Apache/ASP.pm line 2018.
Use of uninitialized value $rv in lc at /home/cpan/pit/thr/conf/perl-5.13.11/.cpanplus/5.13.11/build/Apache-ASP-2.61/blib/lib/Apache/ASP.pm line 2018.
Use of uninitialized value $rv in lc at /home/cpan/pit/thr/conf/perl-5.13.11/.cpanplus/5.13.11/build/Apache-ASP-2.61/blib/lib/Apache/ASP.pm line 2018.
Use of uninitialized value $rv in lc at /home/cpan/pit/thr/conf/perl-5.13.11/.cpanplus/5.13.11/build/Apache-ASP-2.61/blib/lib/Apache/ASP.pm line 2018.
Use of uninitialized value $rv in lc at /home/cpan/pit/thr/conf/perl-5.13.11/.cpanplus/5.13.11/build/Apache-ASP-2.61/blib/lib/Apache/ASP.pm line 2018.
t/raw.t .................. ok
Use of uninitialized value $rv in lc at /home/cpan/pit/thr/conf/perl-5.13.11/.cpanplus/5.13.11/build/Apache-ASP-2.61/blib/lib/Apache/ASP.pm line 2018.
Use of uninitialized value $rv in lc at /home/cpan/pit/thr/conf/perl-5.13.11/.cpanplus/5.13.11/build/Apache-ASP-2.61/blib/lib/Apache/ASP.pm line 2018.
Use of uninitialized value $rv in lc at /home/cpan/pit/thr/conf/perl-5.13.11/.cpanplus/5.13.11/build/Apache-ASP-2.61/blib/lib/Apache/ASP.pm line 2018.
Use of uninitialized value $rv in lc at /home/cpan/pit/thr/conf/perl-5.13.11/.cpanplus/5.13.11/build/Apache-ASP-2.61/blib/lib/Apache/ASP.pm line 2018.
Use of uninitialized value $rv in lc at /home/cpan/pit/thr/conf/perl-5.13.11/.cpanplus/5.13.11/build/Apache-ASP-2.61/blib/lib/Apache/ASP.pm line 2018.
Use of uninitialized value $rv in lc at /home/cpan/pit/thr/conf/perl-5.13.11/.cpanplus/5.13.11/build/Apache-ASP-2.61/blib/lib/Apache/ASP.pm line 2018.
Use of uninitialized value $rv in lc at /home/cpan/pit/thr/conf/perl-5.13.11/.cpanplus/5.13.11/build/Apache-ASP-2.61/blib/lib/Apache/ASP.pm line 2018.
Use of uninitialized value $rv in lc at /home/cpan/pit/thr/conf/perl-5.13.11/.cpanplus/5.13.11/build/Apache-ASP-2.61/blib/lib/Apache/ASP.pm line 2018.
Use of uninitialized value $rv in lc at /home/cpan/pit/thr/conf/perl-5.13.11/.cpanplus/5.13.11/build/Apache-ASP-2.61/blib/lib/Apache/ASP.pm line 2018.
t/raw_include.t .......... ok
Use of uninitialized value $rv in lc at /home/cpan/pit/thr/conf/perl-5.13.11/.cpanplus/5.13.11/build/Apache-ASP-2.61/blib/lib/Apache/ASP.pm line 2018.
Use of uninitialized value $rv in lc at /home/cpan/pit/thr/conf/perl-5.13.11/.cpanplus/5.13.11/build/Apache-ASP-2.61/blib/lib/Apache/ASP.pm line 2018.
Use of uninitialized value $rv in lc at /home/cpan/pit/thr/conf/perl-5.13.11/.cpanplus/5.13.11/build/Apache-ASP-2.61/blib/lib/Apache/ASP.pm line 2018.
Use of uninitialized value $rv in lc at /home/cpan/pit/thr/conf/perl-5.13.11/.cpanplus/5.13.11/build/Apache-ASP-2.61/blib/lib/Apache/ASP.pm line 2018.
Use of uninitialized value $rv in lc at /home/cpan/pit/thr/conf/perl-5.13.11/.cpanplus/5.13.11/build/Apache-ASP-2.61/blib/lib/Apache/ASP.pm line 2018.
Use of uninitialized value $rv in lc at /home/cpan/pit/thr/conf/perl-5.13.11/.cpanplus/5.13.11/build/Apache-ASP-2.61/blib/lib/Apache/ASP.pm line 2018.
Use of uninitialized value $rv in lc at /home/cpan/pit/thr/conf/perl-5.13.11/.cpanplus/5.13.11/build/Apache-ASP-2.61/blib/lib/Apache/ASP.pm line 2018.
Use of uninitialized value $rv in lc at /home/cpan/pit/thr/conf/perl-5.13.11/.cpanplus/5.13.11/build/Apache-ASP-2.61/blib/lib/Apache/ASP.pm line 2018.
Use of uninitialized value $rv in lc at /home/cpan/pit/thr/conf/perl-5.13.11/.cpanplus/5.13.11/build/Apache-ASP-2.61/blib/lib/Apache/ASP.pm line 2018.
Use of uninitialized value $rv in lc at /home/cpan/pit/thr/conf/perl-5.13.11/.cpanplus/5.13.11/build/Apache-ASP-2.61/blib/lib/Apache/ASP.pm line 2018.
Use of uninitialized value $rv in lc at /home/cpan/pit/thr/conf/perl-5.13.11/.cpanplus/5.13.11/build/Apache-ASP-2.61/blib/lib/Apache/ASP.pm line 2018.
Use of uninitialized value $rv in lc at /home/cpan/pit/thr/conf/perl-5.13.11/.cpanplus/5.13.11/build/Apache-ASP-2.61/blib/lib/Apache/ASP.pm line 2018.
Use of uninitialized value $rv in lc at /home/cpan/pit/thr/conf/perl-5.13.11/.cpanplus/5.13.11/build/Apache-ASP-2.61/blib/lib/Apache/ASP.pm line 2018.
Use of uninitialized value $rv in lc at /home/cpan/pit/thr/conf/perl-5.13.11/.cpanplus/5.13.11/build/Apache-ASP-2.61/blib/lib/Apache/ASP.pm line 2018.
Use of uninitialized value $rv in lc at /home/cpan/pit/thr/conf/perl-5.13.11/.cpanplus/5.13.11/build/Apache-ASP-2.61/blib/lib/Apache/ASP.pm line 2018.
Use of uninitialized value $rv in lc at /home/cpan/pit/thr/conf/perl-5.13.11/.cpanplus/5.13.11/build/Apache-ASP-2.61/blib/lib/Apache/ASP.pm line 2018.
Use of uninitialized value $rv in lc at /home/cpan/pit/thr/conf/perl-5.13.11/.cpanplus/5.13.11/build/Apache-ASP-2.61/blib/lib/Apache/ASP.pm line 2018.
Use of uninitialized value $rv in lc at /home/cpan/pit/thr/conf/perl-5.13.11/.cpanplus/5.13.11/build/Apache-ASP-2.61/blib/lib/Apache/ASP.pm line 2018.
Use of uninitialized value $rv in lc at /home/cpan/pit/thr/conf/perl-5.13.11/.cpanplus/5.13.11/build/Apache-ASP-2.61/blib/lib/Apache/ASP.pm line 2018.
Use of uninitialized value $rv in lc at /home/cpan/pit/thr/conf/perl-5.13.11/.cpanplus/5.13.11/build/Apache-ASP-2.61/blib/lib/Apache/ASP.pm line 2018.
t/reload_global_asa.t .... ok
Use of uninitialized value $rv in lc at /home/cpan/pit/thr/conf/perl-5.13.11/.cpanplus/5.13.11/build/Apache-ASP-2.61/blib/lib/Apache/ASP.pm line 2018.
Use of uninitialized value $rv in lc at /home/cpan/pit/thr/conf/perl-5.13.11/.cpanplus/5.13.11/build/Apache-ASP-2.61/blib/lib/Apache/ASP.pm line 2018.
Use of uninitialized value $rv in lc at /home/cpan/pit/thr/conf/perl-5.13.11/.cpanplus/5.13.11/build/Apache-ASP-2.61/blib/lib/Apache/ASP.pm line 2018.
Use of uninitialized value $rv in lc at /home/cpan/pit/thr/conf/perl-5.13.11/.cpanplus/5.13.11/build/Apache-ASP-2.61/blib/lib/Apache/ASP.pm line 2018.
Use of uninitialized value $rv in lc at /home/cpan/pit/thr/conf/perl-5.13.11/.cpanplus/5.13.11/build/Apache-ASP-2.61/blib/lib/Apache/ASP.pm line 2018.
Use of uninitialized value $rv in lc at /home/cpan/pit/thr/conf/perl-5.13.11/.cpanplus/5.13.11/build/Apache-ASP-2.61/blib/lib/Apache/ASP.pm line 2018.
Use of uninitialized value $rv in lc at /home/cpan/pit/thr/conf/perl-5.13.11/.cpanplus/5.13.11/build/Apache-ASP-2.61/blib/lib/Apache/ASP.pm line 2018.
Use of uninitialized value $rv in lc at /home/cpan/pit/thr/conf/perl-5.13.11/.cpanplus/5.13.11/build/Apache-ASP-2.61/blib/lib/Apache/ASP.pm line 2018.
Use of uninitialized value $rv in lc at /home/cpan/pit/thr/conf/perl-5.13.11/.cpanplus/5.13.11/build/Apache-ASP-2.61/blib/lib/Apache/ASP.pm line 2018.
Use of uninitialized value $rv in lc at /home/cpan/pit/thr/conf/perl-5.13.11/.cpanplus/5.13.11/build/Apache-ASP-2.61/blib/lib/Apache/ASP.pm line 2018.
Use of uninitialized value $rv in lc at /home/cpan/pit/thr/conf/perl-5.13.11/.cpanplus/5.13.11/build/Apache-ASP-2.61/blib/lib/Apache/ASP.pm line 2018.
t/req_params_none.t ...... ok
Use of uninitialized value $rv in lc at /home/cpan/pit/thr/conf/perl-5.13.11/.cpanplus/5.13.11/build/Apache-ASP-2.61/blib/lib/Apache/ASP.pm line 2018.
Use of uninitialized value $rv in lc at /home/cpan/pit/thr/conf/perl-5.13.11/.cpanplus/5.13.11/build/Apache-ASP-2.61/blib/lib/Apache/ASP.pm line 2018.
Use of uninitialized value $rv in lc at /home/cpan/pit/thr/conf/perl-5.13.11/.cpanplus/5.13.11/build/Apache-ASP-2.61/blib/lib/Apache/ASP.pm line 2018.
Use of uninitialized value $rv in lc at /home/cpan/pit/thr/conf/perl-5.13.11/.cpanplus/5.13.11/build/Apache-ASP-2.61/blib/lib/Apache/ASP.pm line 2018.
Use of uninitialized value $rv in lc at /home/cpan/pit/thr/conf/perl-5.13.11/.cpanplus/5.13.11/build/Apache-ASP-2.61/blib/lib/Apache/ASP.pm line 2018.
Use of uninitialized value $rv in lc at /home/cpan/pit/thr/conf/perl-5.13.11/.cpanplus/5.13.11/build/Apache-ASP-2.61/blib/lib/Apache/ASP.pm line 2018.
Use of uninitialized value $rv in lc at /home/cpan/pit/thr/conf/perl-5.13.11/.cpanplus/5.13.11/build/Apache-ASP-2.61/blib/lib/Apache/ASP.pm line 2018.
Use of uninitialized value $rv in lc at /home/cpan/pit/thr/conf/perl-5.13.11/.cpanplus/5.13.11/build/Apache-ASP-2.61/blib/lib/Apache/ASP.pm line 2018.
Use of uninitialized value $rv in lc at /home/cpan/pit/thr/conf/perl-5.13.11/.cpanplus/5.13.11/build/Apache-ASP-2.61/blib/lib/Apache/ASP.pm line 2018.
Use of uninitialized value $rv in lc at /home/cpan/pit/thr/conf/perl-5.13.11/.cpanplus/5.13.11/build/Apache-ASP-2.61/blib/lib/Apache/ASP.pm line 2018.
Use of uninitialized value $rv in lc at /home/cpan/pit/thr/conf/perl-5.13.11/.cpanplus/5.13.11/build/Apache-ASP-2.61/blib/lib/Apache/ASP.pm line 2018.
t/request.t .............. ok
Use of uninitialized value $rv in lc at /home/cpan/pit/thr/conf/perl-5.13.11/.cpanplus/5.13.11/build/Apache-ASP-2.61/blib/lib/Apache/ASP.pm line 2018.
Use of uninitialized value $rv in lc at /home/cpan/pit/thr/conf/perl-5.13.11/.cpanplus/5.13.11/build/Apache-ASP-2.61/blib/lib/Apache/ASP.pm line 2018.
Use of uninitialized value $rv in lc at /home/cpan/pit/thr/conf/perl-5.13.11/.cpanplus/5.13.11/build/Apache-ASP-2.61/blib/lib/Apache/ASP.pm line 2018.
Use of uninitialized value $rv in lc at /home/cpan/pit/thr/conf/perl-5.13.11/.cpanplus/5.13.11/build/Apache-ASP-2.61/blib/lib/Apache/ASP.pm line 2018.
Use of uninitialized value $rv in lc at /home/cpan/pit/thr/conf/perl-5.13.11/.cpanplus/5.13.11/build/Apache-ASP-2.61/blib/lib/Apache/ASP.pm line 2018.
Use of uninitialized value $rv in lc at /home/cpan/pit/thr/conf/perl-5.13.11/.cpanplus/5.13.11/build/Apache-ASP-2.61/blib/lib/Apache/ASP.pm line 2018.
Use of uninitialized value $rv in lc at /home/cpan/pit/thr/conf/perl-5.13.11/.cpanplus/5.13.11/build/Apache-ASP-2.61/blib/lib/Apache/ASP.pm line 2018.
Use of uninitialized value $rv in lc at /home/cpan/pit/thr/conf/perl-5.13.11/.cpanplus/5.13.11/build/Apache-ASP-2.61/blib/lib/Apache/ASP.pm line 2018.
Use of uninitialized value $rv in lc at /home/cpan/pit/thr/conf/perl-5.13.11/.cpanplus/5.13.11/build/Apache-ASP-2.61/blib/lib/Apache/ASP.pm line 2018.
Use of uninitialized value $rv in lc at /home/cpan/pit/thr/conf/perl-5.13.11/.cpanplus/5.13.11/build/Apache-ASP-2.61/blib/lib/Apache/ASP.pm line 2018.
Use of uninitialized value $rv in lc at /home/cpan/pit/thr/conf/perl-5.13.11/.cpanplus/5.13.11/build/Apache-ASP-2.61/blib/lib/Apache/ASP.pm line 2018.
t/response.t ............. ok
Use of uninitialized value $rv in lc at /home/cpan/pit/thr/conf/perl-5.13.11/.cpanplus/5.13.11/build/Apache-ASP-2.61/blib/lib/Apache/ASP.pm line 2018.
Use of uninitialized value $rv in lc at /home/cpan/pit/thr/conf/perl-5.13.11/.cpanplus/5.13.11/build/Apache-ASP-2.61/blib/lib/Apache/ASP.pm line 2018.
Use of uninitialized value $rv in lc at /home/cpan/pit/thr/conf/perl-5.13.11/.cpanplus/5.13.11/build/Apache-ASP-2.61/blib/lib/Apache/ASP.pm line 2018.
Use of uninitialized value $rv in lc at /home/cpan/pit/thr/conf/perl-5.13.11/.cpanplus/5.13.11/build/Apache-ASP-2.61/blib/lib/Apache/ASP.pm line 2018.
Use of uninitialized value $rv in lc at /home/cpan/pit/thr/conf/perl-5.13.11/.cpanplus/5.13.11/build/Apache-ASP-2.61/blib/lib/Apache/ASP.pm line 2018.
Use of uninitialized value $rv in lc at /home/cpan/pit/thr/conf/perl-5.13.11/.cpanplus/5.13.11/build/Apache-ASP-2.61/blib/lib/Apache/ASP.pm line 2018.
Use of uninitialized value $rv in lc at /home/cpan/pit/thr/conf/perl-5.13.11/.cpanplus/5.13.11/build/Apache-ASP-2.61/blib/lib/Apache/ASP.pm line 2018.
Use of uninitialized value $rv in lc at /home/cpan/pit/thr/conf/perl-5.13.11/.cpanplus/5.13.11/build/Apache-ASP-2.61/blib/lib/Apache/ASP.pm line 2018.
Use of uninitialized value $rv in lc at /home/cpan/pit/thr/conf/perl-5.13.11/.cpanplus/5.13.11/build/Apache-ASP-2.61/blib/lib/Apache/ASP.pm line 2018.
Use of uninitialized value $rv in lc at /home/cpan/pit/thr/conf/perl-5.13.11/.cpanplus/5.13.11/build/Apache-ASP-2.61/blib/lib/Apache/ASP.pm line 2018.
Use of uninitialized value $rv in lc at /home/cpan/pit/thr/conf/perl-5.13.11/.cpanplus/5.13.11/build/Apache-ASP-2.61/blib/lib/Apache/ASP.pm line 2018.
t/response_end.t ......... ok
Use of uninitialized value $rv in lc at /home/cpan/pit/thr/conf/perl-5.13.11/.cpanplus/5.13.11/build/Apache-ASP-2.61/blib/lib/Apache/ASP.pm line 2018.
Use of uninitialized value $rv in lc at /home/cpan/pit/thr/conf/perl-5.13.11/.cpanplus/5.13.11/build/Apache-ASP-2.61/blib/lib/Apache/ASP.pm line 2018.
Use of uninitialized value $rv in lc at /home/cpan/pit/thr/conf/perl-5.13.11/.cpanplus/5.13.11/build/Apache-ASP-2.61/blib/lib/Apache/ASP.pm line 2018.
Use of uninitialized value $rv in lc at /home/cpan/pit/thr/conf/perl-5.13.11/.cpanplus/5.13.11/build/Apache-ASP-2.61/blib/lib/Apache/ASP.pm line 2018.
Use of uninitialized value $rv in lc at /home/cpan/pit/thr/conf/perl-5.13.11/.cpanplus/5.13.11/build/Apache-ASP-2.61/blib/lib/Apache/ASP.pm line 2018.
Use of uninitialized value $rv in lc at /home/cpan/pit/thr/conf/perl-5.13.11/.cpanplus/5.13.11/build/Apache-ASP-2.61/blib/lib/Apache/ASP.pm line 2018.
Use of uninitialized value $rv in lc at /home/cpan/pit/thr/conf/perl-5.13.11/.cpanplus/5.13.11/build/Apache-ASP-2.61/blib/lib/Apache/ASP.pm line 2018.
Use of uninitialized value $rv in lc at /home/cpan/pit/thr/conf/perl-5.13.11/.cpanplus/5.13.11/build/Apache-ASP-2.61/blib/lib/Apache/ASP.pm line 2018.
Use of uninitialized value $rv in lc at /home/cpan/pit/thr/conf/perl-5.13.11/.cpanplus/5.13.11/build/Apache-ASP-2.61/blib/lib/Apache/ASP.pm line 2018.
Use of uninitialized value $rv in lc at /home/cpan/pit/thr/conf/perl-5.13.11/.cpanplus/5.13.11/build/Apache-ASP-2.61/blib/lib/Apache/ASP.pm line 2018.
Use of uninitialized value $rv in lc at /home/cpan/pit/thr/conf/perl-5.13.11/.cpanplus/5.13.11/build/Apache-ASP-2.61/blib/lib/Apache/ASP.pm line 2018.
Use of uninitialized value $rv in lc at /home/cpan/pit/thr/conf/perl-5.13.11/.cpanplus/5.13.11/build/Apache-ASP-2.61/blib/lib/Apache/ASP.pm line 2018.
Use of uninitialized value $rv in lc at /home/cpan/pit/thr/conf/perl-5.13.11/.cpanplus/5.13.11/build/Apache-ASP-2.61/blib/lib/Apache/ASP.pm line 2018.
Use of uninitialized value $rv in lc at /home/cpan/pit/thr/conf/perl-5.13.11/.cpanplus/5.13.11/build/Apache-ASP-2.61/blib/lib/Apache/ASP.pm line 2018.
Use of uninitialized value $rv in lc at /home/cpan/pit/thr/conf/perl-5.13.11/.cpanplus/5.13.11/build/Apache-ASP-2.61/blib/lib/Apache/ASP.pm line 2018.
Use of uninitialized value $rv in lc at /home/cpan/pit/thr/conf/perl-5.13.11/.cpanplus/5.13.11/build/Apache-ASP-2.61/blib/lib/Apache/ASP.pm line 2018.
Use of uninitialized value $rv in lc at /home/cpan/pit/thr/conf/perl-5.13.11/.cpanplus/5.13.11/build/Apache-ASP-2.61/blib/lib/Apache/ASP.pm line 2018.
Use of uninitialized value $rv in lc at /home/cpan/pit/thr/conf/perl-5.13.11/.cpanplus/5.13.11/build/Apache-ASP-2.61/blib/lib/Apache/ASP.pm line 2018.
Use of uninitialized value $rv in lc at /home/cpan/pit/thr/conf/perl-5.13.11/.cpanplus/5.13.11/build/Apache-ASP-2.61/blib/lib/Apache/ASP.pm line 2018.
Use of uninitialized value $rv in lc at /home/cpan/pit/thr/conf/perl-5.13.11/.cpanplus/5.13.11/build/Apache-ASP-2.61/blib/lib/Apache/ASP.pm line 2018.
t/same_name.t ............ ok
Use of uninitialized value $rv in lc at /home/cpan/pit/thr/conf/perl-5.13.11/.cpanplus/5.13.11/build/Apache-ASP-2.61/blib/lib/Apache/ASP.pm line 2018.
Use of uninitialized value $rv in lc at /home/cpan/pit/thr/conf/perl-5.13.11/.cpanplus/5.13.11/build/Apache-ASP-2.61/blib/lib/Apache/ASP.pm line 2018.
Use of uninitialized value $rv in lc at /home/cpan/pit/thr/conf/perl-5.13.11/.cpanplus/5.13.11/build/Apache-ASP-2.61/blib/lib/Apache/ASP.pm line 2018.
Use of uninitialized value $rv in lc at /home/cpan/pit/thr/conf/perl-5.13.11/.cpanplus/5.13.11/build/Apache-ASP-2.61/blib/lib/Apache/ASP.pm line 2018.
Use of uninitialized value $rv in lc at /home/cpan/pit/thr/conf/perl-5.13.11/.cpanplus/5.13.11/build/Apache-ASP-2.61/blib/lib/Apache/ASP.pm line 2018.
Use of uninitialized value $rv in lc at /home/cpan/pit/thr/conf/perl-5.13.11/.cpanplus/5.13.11/build/Apache-ASP-2.61/blib/lib/Apache/ASP.pm line 2018.
Use of uninitialized value $rv in lc at /home/cpan/pit/thr/conf/perl-5.13.11/.cpanplus/5.13.11/build/Apache-ASP-2.61/blib/lib/Apache/ASP.pm line 2018.
Use of uninitialized value $rv in lc at /home/cpan/pit/thr/conf/perl-5.13.11/.cpanplus/5.13.11/build/Apache-ASP-2.61/blib/lib/Apache/ASP.pm line 2018.
Use of uninitialized value $rv in lc at /home/cpan/pit/thr/conf/perl-5.13.11/.cpanplus/5.13.11/build/Apache-ASP-2.61/blib/lib/Apache/ASP.pm line 2018.
Use of uninitialized value $rv in lc at /home/cpan/pit/thr/conf/perl-5.13.11/.cpanplus/5.13.11/build/Apache-ASP-2.61/blib/lib/Apache/ASP.pm line 2018.
t/server.t ............... ok
Use of uninitialized value $rv in lc at /home/cpan/pit/thr/conf/perl-5.13.11/.cpanplus/5.13.11/build/Apache-ASP-2.61/blib/lib/Apache/ASP.pm line 2018.
Use of uninitialized value $rv in lc at /home/cpan/pit/thr/conf/perl-5.13.11/.cpanplus/5.13.11/build/Apache-ASP-2.61/blib/lib/Apache/ASP.pm line 2018.
Use of uninitialized value $rv in lc at /home/cpan/pit/thr/conf/perl-5.13.11/.cpanplus/5.13.11/build/Apache-ASP-2.61/blib/lib/Apache/ASP.pm line 2018.
Use of uninitialized value $rv in lc at /home/cpan/pit/thr/conf/perl-5.13.11/.cpanplus/5.13.11/build/Apache-ASP-2.61/blib/lib/Apache/ASP.pm line 2018.
Use of uninitialized value $rv in lc at /home/cpan/pit/thr/conf/perl-5.13.11/.cpanplus/5.13.11/build/Apache-ASP-2.61/blib/lib/Apache/ASP.pm line 2018.
Use of uninitialized value $rv in lc at /home/cpan/pit/thr/conf/perl-5.13.11/.cpanplus/5.13.11/build/Apache-ASP-2.61/blib/lib/Apache/ASP.pm line 2018.
Use of uninitialized value $rv in lc at /home/cpan/pit/thr/conf/perl-5.13.11/.cpanplus/5.13.11/build/Apache-ASP-2.61/blib/lib/Apache/ASP.pm line 2018.
Use of uninitialized value $rv in lc at /home/cpan/pit/thr/conf/perl-5.13.11/.cpanplus/5.13.11/build/Apache-ASP-2.61/blib/lib/Apache/ASP.pm line 2018.
Use of uninitialized value $rv in lc at /home/cpan/pit/thr/conf/perl-5.13.11/.cpanplus/5.13.11/build/Apache-ASP-2.61/blib/lib/Apache/ASP.pm line 2018.
Use of uninitialized value $rv in lc at /home/cpan/pit/thr/conf/perl-5.13.11/.cpanplus/5.13.11/build/Apache-ASP-2.61/blib/lib/Apache/ASP.pm line 2018.
t/server_mail.t .......... skipped: (no reason given)
Use of uninitialized value $rv in lc at /home/cpan/pit/thr/conf/perl-5.13.11/.cpanplus/5.13.11/build/Apache-ASP-2.61/blib/lib/Apache/ASP.pm line 2018.
Use of uninitialized value $rv in lc at /home/cpan/pit/thr/conf/perl-5.13.11/.cpanplus/5.13.11/build/Apache-ASP-2.61/blib/lib/Apache/ASP.pm line 2018.
Use of uninitialized value $rv in lc at /home/cpan/pit/thr/conf/perl-5.13.11/.cpanplus/5.13.11/build/Apache-ASP-2.61/blib/lib/Apache/ASP.pm line 2018.
Use of uninitialized value $rv in lc at /home/cpan/pit/thr/conf/perl-5.13.11/.cpanplus/5.13.11/build/Apache-ASP-2.61/blib/lib/Apache/ASP.pm line 2018.
Use of uninitialized value $rv in lc at /home/cpan/pit/thr/conf/perl-5.13.11/.cpanplus/5.13.11/build/Apache-ASP-2.61/blib/lib/Apache/ASP.pm line 2018.
Use of uninitialized value $rv in lc at /home/cpan/pit/thr/conf/perl-5.13.11/.cpanplus/5.13.11/build/Apache-ASP-2.61/blib/lib/Apache/ASP.pm line 2018.
Use of uninitialized value $rv in lc at /home/cpan/pit/thr/conf/perl-5.13.11/.cpanplus/5.13.11/build/Apache-ASP-2.61/blib/lib/Apache/ASP.pm line 2018.
Use of uninitialized value $rv in lc at /home/cpan/pit/thr/conf/perl-5.13.11/.cpanplus/5.13.11/build/Apache-ASP-2.61/blib/lib/Apache/ASP.pm line 2018.
Use of uninitialized value $rv in lc at /home/cpan/pit/thr/conf/perl-5.13.11/.cpanplus/5.13.11/build/Apache-ASP-2.61/blib/lib/Apache/ASP.pm line 2018.
t/server_transfer.t ...... ok
Use of uninitialized value $rv in lc at /home/cpan/pit/thr/conf/perl-5.13.11/.cpanplus/5.13.11/build/Apache-ASP-2.61/blib/lib/Apache/ASP.pm line 2018.
Use of uninitialized value $rv in lc at /home/cpan/pit/thr/conf/perl-5.13.11/.cpanplus/5.13.11/build/Apache-ASP-2.61/blib/lib/Apache/ASP.pm line 2018.
Use of uninitialized value $rv in lc at /home/cpan/pit/thr/conf/perl-5.13.11/.cpanplus/5.13.11/build/Apache-ASP-2.61/blib/lib/Apache/ASP.pm line 2018.
Use of uninitialized value $rv in lc at /home/cpan/pit/thr/conf/perl-5.13.11/.cpanplus/5.13.11/build/Apache-ASP-2.61/blib/lib/Apache/ASP.pm line 2018.
Use of uninitialized value $rv in lc at /home/cpan/pit/thr/conf/perl-5.13.11/.cpanplus/5.13.11/build/Apache-ASP-2.61/blib/lib/Apache/ASP.pm line 2018.
Use of uninitialized value $rv in lc at /home/cpan/pit/thr/conf/perl-5.13.11/.cpanplus/5.13.11/build/Apache-ASP-2.61/blib/lib/Apache/ASP.pm line 2018.
Use of uninitialized value $rv in lc at /home/cpan/pit/thr/conf/perl-5.13.11/.cpanplus/5.13.11/build/Apache-ASP-2.61/blib/lib/Apache/ASP.pm line 2018.
Use of uninitialized value $rv in lc at /home/cpan/pit/thr/conf/perl-5.13.11/.cpanplus/5.13.11/build/Apache-ASP-2.61/blib/lib/Apache/ASP.pm line 2018.
Use of uninitialized value $rv in lc at /home/cpan/pit/thr/conf/perl-5.13.11/.cpanplus/5.13.11/build/Apache-ASP-2.61/blib/lib/Apache/ASP.pm line 2018.
Use of uninitialized value $rv in lc at /home/cpan/pit/thr/conf/perl-5.13.11/.cpanplus/5.13.11/build/Apache-ASP-2.61/blib/lib/Apache/ASP.pm line 2018.
Use of uninitialized value $rv in lc at /home/cpan/pit/thr/conf/perl-5.13.11/.cpanplus/5.13.11/build/Apache-ASP-2.61/blib/lib/Apache/ASP.pm line 2018.
t/session.t .............. ok
t/session_events.t ....... ok
Use of uninitialized value $rv in lc at /home/cpan/pit/thr/conf/perl-5.13.11/.cpanplus/5.13.11/build/Apache-ASP-2.61/blib/lib/Apache/ASP.pm line 2018.
Use of uninitialized value $rv in lc at /home/cpan/pit/thr/conf/perl-5.13.11/.cpanplus/5.13.11/build/Apache-ASP-2.61/blib/lib/Apache/ASP.pm line 2018.
Use of uninitialized value $rv in lc at /home/cpan/pit/thr/conf/perl-5.13.11/.cpanplus/5.13.11/build/Apache-ASP-2.61/blib/lib/Apache/ASP.pm line 2018.
Use of uninitialized value $rv in lc at /home/cpan/pit/thr/conf/perl-5.13.11/.cpanplus/5.13.11/build/Apache-ASP-2.61/blib/lib/Apache/ASP.pm line 2018.
Use of uninitialized value $rv in lc at /home/cpan/pit/thr/conf/perl-5.13.11/.cpanplus/5.13.11/build/Apache-ASP-2.61/blib/lib/Apache/ASP.pm line 2018.
Use of uninitialized value $rv in lc at /home/cpan/pit/thr/conf/perl-5.13.11/.cpanplus/5.13.11/build/Apache-ASP-2.61/blib/lib/Apache/ASP.pm line 2018.
Use of uninitialized value $rv in lc at /home/cpan/pit/thr/conf/perl-5.13.11/.cpanplus/5.13.11/build/Apache-ASP-2.61/blib/lib/Apache/ASP.pm line 2018.
Use of uninitialized value $rv in lc at /home/cpan/pit/thr/conf/perl-5.13.11/.cpanplus/5.13.11/build/Apache-ASP-2.61/blib/lib/Apache/ASP.pm line 2018.
Use of uninitialized value $rv in lc at /home/cpan/pit/thr/conf/perl-5.13.11/.cpanplus/5.13.11/build/Apache-ASP-2.61/blib/lib/Apache/ASP.pm line 2018.
t/session_query_parse.t .. ok
Use of uninitialized value $rv in lc at /home/cpan/pit/thr/conf/perl-5.13.11/.cpanplus/5.13.11/build/Apache-ASP-2.61/blib/lib/Apache/ASP.pm line 2018.
Use of uninitialized value $rv in lc at /home/cpan/pit/thr/conf/perl-5.13.11/.cpanplus/5.13.11/build/Apache-ASP-2.61/blib/lib/Apache/ASP.pm line 2018.
Use of uninitialized value $rv in lc at /home/cpan/pit/thr/conf/perl-5.13.11/.cpanplus/5.13.11/build/Apache-ASP-2.61/blib/lib/Apache/ASP.pm line 2018.
Use of uninitialized value $rv in lc at /home/cpan/pit/thr/conf/perl-5.13.11/.cpanplus/5.13.11/build/Apache-ASP-2.61/blib/lib/Apache/ASP.pm line 2018.
Use of uninitialized value $rv in lc at /home/cpan/pit/thr/conf/perl-5.13.11/.cpanplus/5.13.11/build/Apache-ASP-2.61/blib/lib/Apache/ASP.pm line 2018.
Use of uninitialized value $rv in lc at /home/cpan/pit/thr/conf/perl-5.13.11/.cpanplus/5.13.11/build/Apache-ASP-2.61/blib/lib/Apache/ASP.pm line 2018.
Use of uninitialized value $rv in lc at /home/cpan/pit/thr/conf/perl-5.13.11/.cpanplus/5.13.11/build/Apache-ASP-2.61/blib/lib/Apache/ASP.pm line 2018.
Use of uninitialized value $rv in lc at /home/cpan/pit/thr/conf/perl-5.13.11/.cpanplus/5.13.11/build/Apache-ASP-2.61/blib/lib/Apache/ASP.pm line 2018.
Use of uninitialized value $rv in lc at /home/cpan/pit/thr/conf/perl-5.13.11/.cpanplus/5.13.11/build/Apache-ASP-2.61/blib/lib/Apache/ASP.pm line 2018.
Use of uninitialized value $rv in lc at /home/cpan/pit/thr/conf/perl-5.13.11/.cpanplus/5.13.11/build/Apache-ASP-2.61/blib/lib/Apache/ASP.pm line 2018.
Use of uninitialized value $rv in lc at /home/cpan/pit/thr/conf/perl-5.13.11/.cpanplus/5.13.11/build/Apache-ASP-2.61/blib/lib/Apache/ASP.pm line 2018.
t/session_serialize.t .... ok
Use of uninitialized value $rv in lc at /home/cpan/pit/thr/conf/perl-5.13.11/.cpanplus/5.13.11/build/Apache-ASP-2.61/blib/lib/Apache/ASP.pm line 2018.
Use of uninitialized value $rv in lc at /home/cpan/pit/thr/conf/perl-5.13.11/.cpanplus/5.13.11/build/Apache-ASP-2.61/blib/lib/Apache/ASP.pm line 2018.
Use of uninitialized value $rv in lc at /home/cpan/pit/thr/conf/perl-5.13.11/.cpanplus/5.13.11/build/Apache-ASP-2.61/blib/lib/Apache/ASP.pm line 2018.
Use of uninitialized value $rv in lc at /home/cpan/pit/thr/conf/perl-5.13.11/.cpanplus/5.13.11/build/Apache-ASP-2.61/blib/lib/Apache/ASP.pm line 2018.
Use of uninitialized value $rv in lc at /home/cpan/pit/thr/conf/perl-5.13.11/.cpanplus/5.13.11/build/Apache-ASP-2.61/blib/lib/Apache/ASP.pm line 2018.
Use of uninitialized value $rv in lc at /home/cpan/pit/thr/conf/perl-5.13.11/.cpanplus/5.13.11/build/Apache-ASP-2.61/blib/lib/Apache/ASP.pm line 2018.
Use of uninitialized value $rv in lc at /home/cpan/pit/thr/conf/perl-5.13.11/.cpanplus/5.13.11/build/Apache-ASP-2.61/blib/lib/Apache/ASP.pm line 2018.
Use of uninitialized value $rv in lc at /home/cpan/pit/thr/conf/perl-5.13.11/.cpanplus/5.13.11/build/Apache-ASP-2.61/blib/lib/Apache/ASP.pm line 2018.
Use of uninitialized value $rv in lc at /home/cpan/pit/thr/conf/perl-5.13.11/.cpanplus/5.13.11/build/Apache-ASP-2.61/blib/lib/Apache/ASP.pm line 2018.
Use of uninitialized value $rv in lc at /home/cpan/pit/thr/conf/perl-5.13.11/.cpanplus/5.13.11/build/Apache-ASP-2.61/blib/lib/Apache/ASP.pm line 2018.
Use of uninitialized value $rv in lc at /home/cpan/pit/thr/conf/perl-5.13.11/.cpanplus/5.13.11/build/Apache-ASP-2.61/blib/lib/Apache/ASP.pm line 2018.
t/share.t ................ ok
Use of uninitialized value $rv in lc at /home/cpan/pit/thr/conf/perl-5.13.11/.cpanplus/5.13.11/build/Apache-ASP-2.61/blib/lib/Apache/ASP.pm line 2018.
Use of uninitialized value $rv in lc at /home/cpan/pit/thr/conf/perl-5.13.11/.cpanplus/5.13.11/build/Apache-ASP-2.61/blib/lib/Apache/ASP.pm line 2018.
Use of uninitialized value $rv in lc at /home/cpan/pit/thr/conf/perl-5.13.11/.cpanplus/5.13.11/build/Apache-ASP-2.61/blib/lib/Apache/ASP.pm line 2018.
Use of uninitialized value $rv in lc at /home/cpan/pit/thr/conf/perl-5.13.11/.cpanplus/5.13.11/build/Apache-ASP-2.61/blib/lib/Apache/ASP.pm line 2018.
Use of uninitialized value $rv in lc at /home/cpan/pit/thr/conf/perl-5.13.11/.cpanplus/5.13.11/build/Apache-ASP-2.61/blib/lib/Apache/ASP.pm line 2018.
Use of uninitialized value $rv in lc at /home/cpan/pit/thr/conf/perl-5.13.11/.cpanplus/5.13.11/build/Apache-ASP-2.61/blib/lib/Apache/ASP.pm line 2018.
Use of uninitialized value $rv in lc at /home/cpan/pit/thr/conf/perl-5.13.11/.cpanplus/5.13.11/build/Apache-ASP-2.61/blib/lib/Apache/ASP.pm line 2018.
Use of uninitialized value $rv in lc at /home/cpan/pit/thr/conf/perl-5.13.11/.cpanplus/5.13.11/build/Apache-ASP-2.61/blib/lib/Apache/ASP.pm line 2018.
Use of uninitialized value $rv in lc at /home/cpan/pit/thr/conf/perl-5.13.11/.cpanplus/5.13.11/build/Apache-ASP-2.61/blib/lib/Apache/ASP.pm line 2018.
Use of uninitialized value $rv in lc at /home/cpan/pit/thr/conf/perl-5.13.11/.cpanplus/5.13.11/build/Apache-ASP-2.61/blib/lib/Apache/ASP.pm line 2018.
t/stat_inc.t ............. skipped: (no reason given)
Use of uninitialized value $rv in lc at /home/cpan/pit/thr/conf/perl-5.13.11/.cpanplus/5.13.11/build/Apache-ASP-2.61/blib/lib/Apache/ASP.pm line 2018.
Use of uninitialized value $rv in lc at /home/cpan/pit/thr/conf/perl-5.13.11/.cpanplus/5.13.11/build/Apache-ASP-2.61/blib/lib/Apache/ASP.pm line 2018.
Use of uninitialized value $rv in lc at /home/cpan/pit/thr/conf/perl-5.13.11/.cpanplus/5.13.11/build/Apache-ASP-2.61/blib/lib/Apache/ASP.pm line 2018.
Use of uninitialized value $rv in lc at /home/cpan/pit/thr/conf/perl-5.13.11/.cpanplus/5.13.11/build/Apache-ASP-2.61/blib/lib/Apache/ASP.pm line 2018.
Use of uninitialized value $rv in lc at /home/cpan/pit/thr/conf/perl-5.13.11/.cpanplus/5.13.11/build/Apache-ASP-2.61/blib/lib/Apache/ASP.pm line 2018.
Use of uninitialized value $rv in lc at /home/cpan/pit/thr/conf/perl-5.13.11/.cpanplus/5.13.11/build/Apache-ASP-2.61/blib/lib/Apache/ASP.pm line 2018.
Use of uninitialized value $rv in lc at /home/cpan/pit/thr/conf/perl-5.13.11/.cpanplus/5.13.11/build/Apache-ASP-2.61/blib/lib/Apache/ASP.pm line 2018.
Use of uninitialized value $rv in lc at /home/cpan/pit/thr/conf/perl-5.13.11/.cpanplus/5.13.11/build/Apache-ASP-2.61/blib/lib/Apache/ASP.pm line 2018.
Use of uninitialized value $rv in lc at /home/cpan/pit/thr/conf/perl-5.13.11/.cpanplus/5.13.11/build/Apache-ASP-2.61/blib/lib/Apache/ASP.pm line 2018.
t/strict_error.t ......... ok
Use of uninitialized value $rv in lc at blib/lib/Apache/ASP.pm line 2018.
Use of uninitialized value $rv in lc at blib/lib/Apache/ASP.pm line 2018.
Use of uninitialized value $rv in lc at blib/lib/Apache/ASP.pm line 2018.
Use of uninitialized value $rv in lc at blib/lib/Apache/ASP.pm line 2018.
Use of uninitialized value $rv in lc at blib/lib/Apache/ASP.pm line 2018.
Use of uninitialized value $rv in lc at blib/lib/Apache/ASP.pm line 2018.
Use of uninitialized value $rv in lc at blib/lib/Apache/ASP.pm line 2018.
Use of uninitialized value $rv in lc at blib/lib/Apache/ASP.pm line 2018.
Use of uninitialized value $rv in lc at blib/lib/Apache/ASP.pm line 2018.
Use of uninitialized value $rv in lc at blib/lib/Apache/ASP.pm line 2018.
Use of uninitialized value $rv in lc at blib/lib/Apache/ASP.pm line 2018.
t/taint_check.t .......... ok
Use of uninitialized value $rv in lc at /home/cpan/pit/thr/conf/perl-5.13.11/.cpanplus/5.13.11/build/Apache-ASP-2.61/blib/lib/Apache/ASP.pm line 2018.
Use of uninitialized value $rv in lc at /home/cpan/pit/thr/conf/perl-5.13.11/.cpanplus/5.13.11/build/Apache-ASP-2.61/blib/lib/Apache/ASP.pm line 2018.
Use of uninitialized value $rv in lc at /home/cpan/pit/thr/conf/perl-5.13.11/.cpanplus/5.13.11/build/Apache-ASP-2.61/blib/lib/Apache/ASP.pm line 2018.
Use of uninitialized value $rv in lc at /home/cpan/pit/thr/conf/perl-5.13.11/.cpanplus/5.13.11/build/Apache-ASP-2.61/blib/lib/Apache/ASP.pm line 2018.
Use of uninitialized value $rv in lc at /home/cpan/pit/thr/conf/perl-5.13.11/.cpanplus/5.13.11/build/Apache-ASP-2.61/blib/lib/Apache/ASP.pm line 2018.
Use of uninitialized value $rv in lc at /home/cpan/pit/thr/conf/perl-5.13.11/.cpanplus/5.13.11/build/Apache-ASP-2.61/blib/lib/Apache/ASP.pm line 2018.
Use of uninitialized value $rv in lc at /home/cpan/pit/thr/conf/perl-5.13.11/.cpanplus/5.13.11/build/Apache-ASP-2.61/blib/lib/Apache/ASP.pm line 2018.
Use of uninitialized value $rv in lc at /home/cpan/pit/thr/conf/perl-5.13.11/.cpanplus/5.13.11/build/Apache-ASP-2.61/blib/lib/Apache/ASP.pm line 2018.
t/unique_packages.t ...... ok
Use of uninitialized value $rv in lc at /home/cpan/pit/thr/conf/perl-5.13.11/.cpanplus/5.13.11/build/Apache-ASP-2.61/blib/lib/Apache/ASP.pm line 2018.
Use of uninitialized value $rv in lc at /home/cpan/pit/thr/conf/perl-5.13.11/.cpanplus/5.13.11/build/Apache-ASP-2.61/blib/lib/Apache/ASP.pm line 2018.
Use of uninitialized value $rv in lc at /home/cpan/pit/thr/conf/perl-5.13.11/.cpanplus/5.13.11/build/Apache-ASP-2.61/blib/lib/Apache/ASP.pm line 2018.
Use of uninitialized value $rv in lc at /home/cpan/pit/thr/conf/perl-5.13.11/.cpanplus/5.13.11/build/Apache-ASP-2.61/blib/lib/Apache/ASP.pm line 2018.
Use of uninitialized value $rv in lc at /home/cpan/pit/thr/conf/perl-5.13.11/.cpanplus/5.13.11/build/Apache-ASP-2.61/blib/lib/Apache/ASP.pm line 2018.
Use of uninitialized value $rv in lc at /home/cpan/pit/thr/conf/perl-5.13.11/.cpanplus/5.13.11/build/Apache-ASP-2.61/blib/lib/Apache/ASP.pm line 2018.
Use of uninitialized value $rv in lc at /home/cpan/pit/thr/conf/perl-5.13.11/.cpanplus/5.13.11/build/Apache-ASP-2.61/blib/lib/Apache/ASP.pm line 2018.
Use of uninitialized value $rv in lc at /home/cpan/pit/thr/conf/perl-5.13.11/.cpanplus/5.13.11/build/Apache-ASP-2.61/blib/lib/Apache/ASP.pm line 2018.
Use of uninitialized value $rv in lc at /home/cpan/pit/thr/conf/perl-5.13.11/.cpanplus/5.13.11/build/Apache-ASP-2.61/blib/lib/Apache/ASP.pm line 2018.
t/xmlsubs.t .............. ok
Use of uninitialized value $rv in lc at /home/cpan/pit/thr/conf/perl-5.13.11/.cpanplus/5.13.11/build/Apache-ASP-2.61/blib/lib/Apache/ASP.pm line 2018.
Use of uninitialized value $rv in lc at /home/cpan/pit/thr/conf/perl-5.13.11/.cpanplus/5.13.11/build/Apache-ASP-2.61/blib/lib/Apache/ASP.pm line 2018.
Use of uninitialized value $rv in lc at /home/cpan/pit/thr/conf/perl-5.13.11/.cpanplus/5.13.11/build/Apache-ASP-2.61/blib/lib/Apache/ASP.pm line 2018.
Use of uninitialized value $rv in lc at /home/cpan/pit/thr/conf/perl-5.13.11/.cpanplus/5.13.11/build/Apache-ASP-2.61/blib/lib/Apache/ASP.pm line 2018.
Use of uninitialized value $rv in lc at /home/cpan/pit/thr/conf/perl-5.13.11/.cpanplus/5.13.11/build/Apache-ASP-2.61/blib/lib/Apache/ASP.pm line 2018.
Use of uninitialized value $rv in lc at /home/cpan/pit/thr/conf/perl-5.13.11/.cpanplus/5.13.11/build/Apache-ASP-2.61/blib/lib/Apache/ASP.pm line 2018.
Use of uninitialized value $rv in lc at /home/cpan/pit/thr/conf/perl-5.13.11/.cpanplus/5.13.11/build/Apache-ASP-2.61/blib/lib/Apache/ASP.pm line 2018.
Use of uninitialized value $rv in lc at /home/cpan/pit/thr/conf/perl-5.13.11/.cpanplus/5.13.11/build/Apache-ASP-2.61/blib/lib/Apache/ASP.pm line 2018.
Use of uninitialized value $rv in lc at /home/cpan/pit/thr/conf/perl-5.13.11/.cpanplus/5.13.11/build/Apache-ASP-2.61/blib/lib/Apache/ASP.pm line 2018.
t/xmlsubs_aspargs.t ...... ok
Use of uninitialized value $rv in lc at /home/cpan/pit/thr/conf/perl-5.13.11/.cpanplus/5.13.11/build/Apache-ASP-2.61/blib/lib/Apache/ASP.pm line 2018.
Use of uninitialized value $rv in lc at /home/cpan/pit/thr/conf/perl-5.13.11/.cpanplus/5.13.11/build/Apache-ASP-2.61/blib/lib/Apache/ASP.pm line 2018.
Use of uninitialized value $rv in lc at /home/cpan/pit/thr/conf/perl-5.13.11/.cpanplus/5.13.11/build/Apache-ASP-2.61/blib/lib/Apache/ASP.pm line 2018.
Use of uninitialized value $rv in lc at /home/cpan/pit/thr/conf/perl-5.13.11/.cpanplus/5.13.11/build/Apache-ASP-2.61/blib/lib/Apache/ASP.pm line 2018.
Use of uninitialized value $rv in lc at /home/cpan/pit/thr/conf/perl-5.13.11/.cpanplus/5.13.11/build/Apache-ASP-2.61/blib/lib/Apache/ASP.pm line 2018.
Use of uninitialized value $rv in lc at /home/cpan/pit/thr/conf/perl-5.13.11/.cpanplus/5.13.11/build/Apache-ASP-2.61/blib/lib/Apache/ASP.pm line 2018.
Use of uninitialized value $rv in lc at /home/cpan/pit/thr/conf/perl-5.13.11/.cpanplus/5.13.11/build/Apache-ASP-2.61/blib/lib/Apache/ASP.pm line 2018.
Use of uninitialized value $rv in lc at /home/cpan/pit/thr/conf/perl-5.13.11/.cpanplus/5.13.11/build/Apache-ASP-2.61/blib/lib/Apache/ASP.pm line 2018.
Use of uninitialized value $rv in lc at /home/cpan/pit/thr/conf/perl-5.13.11/.cpanplus/5.13.11/build/Apache-ASP-2.61/blib/lib/Apache/ASP.pm line 2018.
t/xmlsubs_perlargs.t ..... ok
Use of uninitialized value $rv in lc at /home/cpan/pit/thr/conf/perl-5.13.11/.cpanplus/5.13.11/build/Apache-ASP-2.61/blib/lib/Apache/ASP.pm line 2018.
Use of uninitialized value $rv in lc at /home/cpan/pit/thr/conf/perl-5.13.11/.cpanplus/5.13.11/build/Apache-ASP-2.61/blib/lib/Apache/ASP.pm line 2018.
Use of uninitialized value $rv in lc at /home/cpan/pit/thr/conf/perl-5.13.11/.cpanplus/5.13.11/build/Apache-ASP-2.61/blib/lib/Apache/ASP.pm line 2018.
Use of uninitialized value $rv in lc at /home/cpan/pit/thr/conf/perl-5.13.11/.cpanplus/5.13.11/build/Apache-ASP-2.61/blib/lib/Apache/ASP.pm line 2018.
Use of uninitialized value $rv in lc at /home/cpan/pit/thr/conf/perl-5.13.11/.cpanplus/5.13.11/build/Apache-ASP-2.61/blib/lib/Apache/ASP.pm line 2018.
Use of uninitialized value $rv in lc at /home/cpan/pit/thr/conf/perl-5.13.11/.cpanplus/5.13.11/build/Apache-ASP-2.61/blib/lib/Apache/ASP.pm line 2018.
Use of uninitialized value $rv in lc at /home/cpan/pit/thr/conf/perl-5.13.11/.cpanplus/5.13.11/build/Apache-ASP-2.61/blib/lib/Apache/ASP.pm line 2018.
Use of uninitialized value $rv in lc at /home/cpan/pit/thr/conf/perl-5.13.11/.cpanplus/5.13.11/build/Apache-ASP-2.61/blib/lib/Apache/ASP.pm line 2018.
Use of uninitialized value $rv in lc at /home/cpan/pit/thr/conf/perl-5.13.11/.cpanplus/5.13.11/build/Apache-ASP-2.61/blib/lib/Apache/ASP.pm line 2018.
Use of uninitialized value $rv in lc at /home/cpan/pit/thr/conf/perl-5.13.11/.cpanplus/5.13.11/build/Apache-ASP-2.61/blib/lib/Apache/ASP.pm line 2018.
t/xmlsubsmatch.t ......... ok
All tests successful.
Files=47, Tests=339, 8 wallclock secs ( 0.16 usr 0.05 sys + 3.10 cusr 0.36 csys = 3.67 CPU)
Result: PASS
[MSG] [Sat Apr 30 22:50:43 2011] Sending test report for 'Apache-ASP-2.61'
This report was machine-generated by CPANPLUS::Dist::YACSmoke 0.62.
Powered by minismokebox version 0.44
------------------------------
ENVIRONMENT AND OTHER CONTEXT
------------------------------
Environment variables:
AUTOMATED_TESTING = 1
LANG = en_US
LC_COLLATE = C
PATH = /usr/local/bin:/usr/bin:/bin:/usr/games:/usr/lib64/java/bin:/usr/lib64/qt/bin:/usr/share/texmf/bin:.
PERL5LIB = :/home/cpan/pit/thr/conf/perl-5.13.11/.cpanplus/5.13.11/build/MLDBM-2.04/blib/lib:/home/cpan/pit/thr/conf/perl-5.13.11/.cpanplus/5.13.11/build/MLDBM-2.04/blib/arch:/home/cpan/pit/thr/conf/perl-5.13.11/.cpanplus/5.13.11/build/MLDBM-Sync-0.30/blib/lib:/home/cpan/pit/thr/conf/perl-5.13.11/.cpanplus/5.13.11/build/MLDBM-Sync-0.30/blib/arch:/home/cpan/pit/thr/conf/perl-5.13.11/.cpanplus/5.13.11/build/Apache-ASP-2.61/blib/lib:/home/cpan/pit/thr/conf/perl-5.13.11/.cpanplus/5.13.11/build/Apache-ASP-2.61/blib/arch
PERL5_CPANPLUS_IS_RUNNING = 597
PERL5_CPANPLUS_IS_VERSION = 0.9104
PERL5_MINISMOKEBOX = 0.44
PERL5_YACSMOKE_BASE = /home/cpan/pit/thr/conf/perl-5.13.11
PERL_EXTUTILS_AUTOINSTALL = --defaultdeps
PERL_MM_USE_DEFAULT = 1
SHELL = /bin/bash
TERM = screen
Perl special variables (and OS-specific diagnostics, for MSWin32):
Perl: $^X = /home/cpan/pit/thr/perl-5.13.11/bin/perl5.13.11
UID: $< = 1001
EUID: $> = 1001
GID: $( = 100 100
EGID: $) = 100 100
-------------------------------
--
Summary of my perl5 (revision 5 version 13 subversion 11) configuration:
Platform:
osname=linux, osvers=2.6.33.4, archname=x86_64-linux-thread-multi
uname='linux slack64 2.6.33.4 #3 smp wed may 12 23:13:09 cdt 2010 x86_64 intel(r) xeon(r) cpu e5520 @ 2.27ghz genuineintel gnulinux '
config_args='-des -Dprefix=/home/cpan/pit/thr/perl-5.13.11 -Dusethreads -Dusedevel'
hint=recommended, useposix=true, d_sigaction=define
useithreads=define, usemultiplicity=define
useperlio=define, d_sfio=undef, uselargefiles=define, usesocks=undef
use64bitint=define, use64bitall=define, uselongdouble=undef
usemymalloc=n, bincompat5005=undef
Compiler:
cc='cc', ccflags ='-D_REENTRANT -D_GNU_SOURCE -fno-strict-aliasing -pipe -fstack-protector -I/usr/local/include -D_LARGEFILE_SOURCE -D_FILE_OFFSET_BITS=64',
optimize='-O2',
cppflags='-D_REENTRANT -D_GNU_SOURCE -fno-strict-aliasing -pipe -fstack-protector -I/usr/local/include'
ccversion='', gccversion='4.4.4', gccosandvers=''
intsize=4, longsize=8, ptrsize=8, doublesize=8, byteorder=12345678
d_longlong=define, longlongsize=8, d_longdbl=define, longdblsize=16
ivtype='long', ivsize=8, nvtype='double', nvsize=8, Off_t='off_t', lseeksize=8
alignbytes=8, prototype=define
Linker and Libraries:
ld='cc', ldflags =' -fstack-protector -L/usr/local/lib'
libpth=/usr/local/lib /lib /usr/lib /lib64 /usr/lib64 /usr/local/lib64
libs=-lnsl -lgdbm -ldb -ldl -lm -lcrypt -lutil -lpthread -lc
perllibs=-lnsl -ldl -lm -lcrypt -lutil -lpthread -lc
libc=, so=so, useshrplib=false, libperl=libperl.a
gnulibc_version='2.11.1'
Dynamic Linking:
dlsrc=dl_dlopen.xs, dlext=so, d_dlsymun=undef, ccdlflags='-Wl,-E'
cccdlflags='-fPIC', lddlflags='-shared -O2 -L/usr/local/lib -fstack-protector'
Characteristics of this binary (from libperl):
Compile-time options: MULTIPLICITY PERL_DONT_CREATE_GVSV
PERL_IMPLICIT_CONTEXT PERL_MALLOC_WRAP
PERL_PRESERVE_IVUV PERL_USE_DEVEL USE_64_BIT_ALL
USE_64_BIT_INT USE_ITHREADS USE_LARGE_FILES
USE_PERLIO USE_PERL_ATOF USE_REENTRANT_API
Built under linux
Compiled at Mar 29 2011 10:14:11
%ENV:
PERL5LIB=":/home/cpan/pit/thr/conf/perl-5.13.11/.cpanplus/5.13.11/build/MLDBM-2.04/blib/lib:/home/cpan/pit/thr/conf/perl-5.13.11/.cpanplus/5.13.11/build/MLDBM-2.04/blib/arch:/home/cpan/pit/thr/conf/perl-5.13.11/.cpanplus/5.13.11/build/MLDBM-Sync-0.30/blib/lib:/home/cpan/pit/thr/conf/perl-5.13.11/.cpanplus/5.13.11/build/MLDBM-Sync-0.30/blib/arch:/home/cpan/pit/thr/conf/perl-5.13.11/.cpanplus/5.13.11/build/Apache-ASP-2.61/blib/lib:/home/cpan/pit/thr/conf/perl-5.13.11/.cpanplus/5.13.11/build/Apache-ASP-2.61/blib/arch"
PERL5_CPANPLUS_IS_RUNNING="597"
PERL5_CPANPLUS_IS_VERSION="0.9104"
PERL5_MINISMOKEBOX="0.44"
PERL5_YACSMOKE_BASE="/home/cpan/pit/thr/conf/perl-5.13.11"
PERL_EXTUTILS_AUTOINSTALL="--defaultdeps"
PERL_MM_USE_DEFAULT="1"
@INC:
/home/cpan/pit/thr/conf/perl-5.13.11/.cpanplus/5.13.11/build/MLDBM-2.04/blib/lib
/home/cpan/pit/thr/conf/perl-5.13.11/.cpanplus/5.13.11/build/MLDBM-2.04/blib/arch
/home/cpan/pit/thr/conf/perl-5.13.11/.cpanplus/5.13.11/build/MLDBM-Sync-0.30/blib/lib
/home/cpan/pit/thr/conf/perl-5.13.11/.cpanplus/5.13.11/build/MLDBM-Sync-0.30/blib/arch
/home/cpan/pit/thr/conf/perl-5.13.11/.cpanplus/5.13.11/build/Apache-ASP-2.61/blib/lib
/home/cpan/pit/thr/conf/perl-5.13.11/.cpanplus/5.13.11/build/Apache-ASP-2.61/blib/arch
/home/cpan/pit/thr/perl-5.13.11/lib/site_perl/5.13.11/x86_64-linux-thread-multi
/home/cpan/pit/thr/perl-5.13.11/lib/site_perl/5.13.11
/home/cpan/pit/thr/perl-5.13.11/lib/5.13.11/x86_64-linux-thread-multi
/home/cpan/pit/thr/perl-5.13.11/lib/5.13.11
.