HTTP-Session2 v1.10 Perl 5 v5.24.1 amd64-freebsd-thread-multi

Status
Pass
From
Chris Williams (BINGOS)
Dist
HTTP-Session2 v1.10
Platform
Perl 5 v5.24.1 amd64-freebsd-thread-multi
Date
2018-01-31 18:17:30
ID
005700b4-06b3-11e8-a1cf-bb670eaac09d
This distribution has been tested as part of the CPAN Testers
project, supporting the Perl programming language.  See
http://wiki.cpantesters.org/ for more information or email
questions to cpan-testers-discuss@perl.org


--

Dear TOKUHIROM,

This is a computer-generated error report created automatically by
CPANPLUS, version 0.9170. Testers personal comments may appear
at the end of this report.


Thank you for uploading your work to CPAN.  Congratulations!
All tests were successful.

TEST RESULTS:

Below is the error stack from stage 'make test':

t/00_compile.t .............. ok
Secret string too short at /usr/home/cpan/pit/thr/conf/perl-5.24.1/.cpanplus/5.24.1/build/KDcaDxwy0I/HTTP-Session2-1.10/blib/lib/HTTP/Session2/Base.pm line 79.
	HTTP::Session2::Base::__ANON__(HTTP::Session2::ServerStore=HASH(0x803ac7570), "s3cret") called at t/01_server_side.t line 23
	main::__ANON__("client -> server: request without cookie", CODE(0x803ac7360)) called at t/01_server_side.t line 25
	main::__ANON__() called at /usr/home/cpan/pit/thr/perl-5.24.1/lib/site_perl/5.24.1/Test/Builder.pm line 326
	eval {...} called at /usr/home/cpan/pit/thr/perl-5.24.1/lib/site_perl/5.24.1/Test/Builder.pm line 326
	Test::Builder::subtest(Test::Builder=HASH(0x801b553c0), "First request", CODE(0x801add888)) called at /usr/home/cpan/pit/thr/perl-5.24.1/lib/site_perl/5.24.1/Test/More.pm line 807
	Test::More::subtest("First request", CODE(0x801add888)) called at t/01_server_side.t line 11
	main::scenario("First request", CODE(0x801add888)) called at t/01_server_side.t line 31
Secret string too short at /usr/home/cpan/pit/thr/conf/perl-5.24.1/.cpanplus/5.24.1/build/KDcaDxwy0I/HTTP-Session2-1.10/blib/lib/HTTP/Session2/Base.pm line 79.
	HTTP::Session2::Base::__ANON__(HTTP::Session2::ServerStore=HASH(0x803ac73a8), "s3cret") called at t/01_server_side.t line 40
	main::__ANON__("client -> server: request without cookie", CODE(0x803ab5eb8)) called at t/01_server_side.t line 42
	main::__ANON__() called at /usr/home/cpan/pit/thr/perl-5.24.1/lib/site_perl/5.24.1/Test/Builder.pm line 326
	eval {...} called at /usr/home/cpan/pit/thr/perl-5.24.1/lib/site_perl/5.24.1/Test/Builder.pm line 326
	Test::Builder::subtest(Test::Builder=HASH(0x801b553c0), "Store something without login", CODE(0x803a6eb28)) called at /usr/home/cpan/pit/thr/perl-5.24.1/lib/site_perl/5.24.1/Test/More.pm line 807
	Test::More::subtest("Store something without login", CODE(0x803a6eb28)) called at t/01_server_side.t line 11
	main::scenario("Store something without login", CODE(0x803a6eb28)) called at t/01_server_side.t line 58
Secret string too short at /usr/home/cpan/pit/thr/conf/perl-5.24.1/.cpanplus/5.24.1/build/KDcaDxwy0I/HTTP-Session2-1.10/blib/lib/HTTP/Session2/Base.pm line 79.
	HTTP::Session2::Base::__ANON__(HTTP::Session2::ServerStore=HASH(0x803ac9bb8), "s3cret") called at t/01_server_side.t line 70
	main::__ANON__("client -> server: request without cookie", CODE(0x803ac9018)) called at t/01_server_side.t line 72
	main::__ANON__() called at /usr/home/cpan/pit/thr/perl-5.24.1/lib/site_perl/5.24.1/Test/Builder.pm line 326
	eval {...} called at /usr/home/cpan/pit/thr/perl-5.24.1/lib/site_perl/5.24.1/Test/Builder.pm line 326
	Test::Builder::subtest(Test::Builder=HASH(0x801b553c0), "Login", CODE(0x803a6ede0)) called at /usr/home/cpan/pit/thr/perl-5.24.1/lib/site_perl/5.24.1/Test/More.pm line 807
	Test::More::subtest("Login", CODE(0x803a6ede0)) called at t/01_server_side.t line 11
	main::scenario("Login", CODE(0x803a6ede0)) called at t/01_server_side.t line 96
Secret string too short at /usr/home/cpan/pit/thr/conf/perl-5.24.1/.cpanplus/5.24.1/build/KDcaDxwy0I/HTTP-Session2-1.10/blib/lib/HTTP/Session2/Base.pm line 79.
	HTTP::Session2::Base::__ANON__(HTTP::Session2::ServerStore=HASH(0x803acbeb8), "s3cret") called at t/01_server_side.t line 108
	main::__ANON__("client -> server: request without cookie", CODE(0x803ab5ae0)) called at t/01_server_side.t line 110
	main::__ANON__() called at /usr/home/cpan/pit/thr/perl-5.24.1/lib/site_perl/5.24.1/Test/Builder.pm line 326
	eval {...} called at /usr/home/cpan/pit/thr/perl-5.24.1/lib/site_perl/5.24.1/Test/Builder.pm line 326
	Test::Builder::subtest(Test::Builder=HASH(0x801b553c0), "In a login session", CODE(0x803aaf558)) called at /usr/home/cpan/pit/thr/perl-5.24.1/lib/site_perl/5.24.1/Test/More.pm line 807
	Test::More::subtest("In a login session", CODE(0x803aaf558)) called at t/01_server_side.t line 11
	main::scenario("In a login session", CODE(0x803aaf558)) called at t/01_server_side.t line 124
Secret string too short at /usr/home/cpan/pit/thr/conf/perl-5.24.1/.cpanplus/5.24.1/build/KDcaDxwy0I/HTTP-Session2-1.10/blib/lib/HTTP/Session2/Base.pm line 79.
	HTTP::Session2::Base::__ANON__(HTTP::Session2::ServerStore=HASH(0x803acb5b8), "s3cret") called at t/01_server_side.t line 136
	main::__ANON__("client -> server: request without cookie", CODE(0x803ac7378)) called at t/01_server_side.t line 138
	main::__ANON__() called at /usr/home/cpan/pit/thr/perl-5.24.1/lib/site_perl/5.24.1/Test/Builder.pm line 326
	eval {...} called at /usr/home/cpan/pit/thr/perl-5.24.1/lib/site_perl/5.24.1/Test/Builder.pm line 326
	Test::Builder::subtest(Test::Builder=HASH(0x801b553c0), "Invalid session id", CODE(0x803aafcf0)) called at /usr/home/cpan/pit/thr/perl-5.24.1/lib/site_perl/5.24.1/Test/More.pm line 807
	Test::More::subtest("Invalid session id", CODE(0x803aafcf0)) called at t/01_server_side.t line 11
	main::scenario("Invalid session id", CODE(0x803aafcf0)) called at t/01_server_side.t line 153
Secret string too short at /usr/home/cpan/pit/thr/conf/perl-5.24.1/.cpanplus/5.24.1/build/KDcaDxwy0I/HTTP-Session2-1.10/blib/lib/HTTP/Session2/Base.pm line 79.
	HTTP::Session2::Base::__ANON__(HTTP::Session2::ServerStore=HASH(0x803acb768), "s3cret") called at t/01_server_side.t line 160
	main::__ANON__("client -> server: request without cookie", CODE(0x803ac9b40)) called at t/01_server_side.t line 167
	main::__ANON__() called at /usr/home/cpan/pit/thr/perl-5.24.1/lib/site_perl/5.24.1/Test/Builder.pm line 326
	eval {...} called at /usr/home/cpan/pit/thr/perl-5.24.1/lib/site_perl/5.24.1/Test/Builder.pm line 326
	Test::Builder::subtest(Test::Builder=HASH(0x801b553c0), "Logout", CODE(0x803ab51b0)) called at /usr/home/cpan/pit/thr/perl-5.24.1/lib/site_perl/5.24.1/Test/More.pm line 807
	Test::More::subtest("Logout", CODE(0x803ab51b0)) called at t/01_server_side.t line 11
	main::scenario("Logout", CODE(0x803ab51b0)) called at t/01_server_side.t line 182
t/01_server_side.t .......... ok
Secret string too short at /usr/home/cpan/pit/thr/conf/perl-5.24.1/.cpanplus/5.24.1/build/KDcaDxwy0I/HTTP-Session2-1.10/blib/lib/HTTP/Session2/Base.pm line 79.
	HTTP::Session2::Base::__ANON__(HTTP::Session2::ClientStore=HASH(0x803eedd68), "s3cret") called at t/02_client_side.t line 17
	main::__ANON__("client -> server: request without cookie", CODE(0x803eeda80)) called at t/02_client_side.t line 22
	main::__ANON__() called at /usr/home/cpan/pit/thr/perl-5.24.1/lib/site_perl/5.24.1/Test/Builder.pm line 326
	eval {...} called at /usr/home/cpan/pit/thr/perl-5.24.1/lib/site_perl/5.24.1/Test/Builder.pm line 326
	Test::Builder::subtest(Test::Builder=HASH(0x801b463c0), "First request", CODE(0x801a66a68)) called at /usr/home/cpan/pit/thr/perl-5.24.1/lib/site_perl/5.24.1/Test/More.pm line 807
	Test::More::subtest("First request", CODE(0x801a66a68)) called at t/02_client_side.t line 9
	main::scenario("First request", CODE(0x801a66a68)) called at t/02_client_side.t line 28
Secret string too short at /usr/home/cpan/pit/thr/conf/perl-5.24.1/.cpanplus/5.24.1/build/KDcaDxwy0I/HTTP-Session2-1.10/blib/lib/HTTP/Session2/Base.pm line 79.
	HTTP::Session2::Base::__ANON__(HTTP::Session2::ClientStore=HASH(0x802d9ac90), "s3cret") called at t/02_client_side.t line 33
	main::__ANON__("client -> server: request without cookie", CODE(0x803eed528)) called at t/02_client_side.t line 38
	main::__ANON__() called at /usr/home/cpan/pit/thr/perl-5.24.1/lib/site_perl/5.24.1/Test/Builder.pm line 326
	eval {...} called at /usr/home/cpan/pit/thr/perl-5.24.1/lib/site_perl/5.24.1/Test/Builder.pm line 326
	Test::Builder::subtest(Test::Builder=HASH(0x801b463c0), "Store something without login", CODE(0x803ec4d38)) called at /usr/home/cpan/pit/thr/perl-5.24.1/lib/site_perl/5.24.1/Test/More.pm line 807
	Test::More::subtest("Store something without login", CODE(0x803ec4d38)) called at t/02_client_side.t line 9
	main::scenario("Store something without login", CODE(0x803ec4d38)) called at t/02_client_side.t line 54
Do not use HTTP::Session2::ClientStore. Use HTTP::Session2::ServerStore or HTTP::Session2::ClientStore2 instead. at /usr/home/cpan/pit/thr/conf/perl-5.24.1/.cpanplus/5.24.1/build/KDcaDxwy0I/HTTP-Session2-1.10/blib/lib/HTTP/Session2/ClientStore.pm line 25.
Secret string too short at /usr/home/cpan/pit/thr/conf/perl-5.24.1/.cpanplus/5.24.1/build/KDcaDxwy0I/HTTP-Session2-1.10/blib/lib/HTTP/Session2/Base.pm line 79.
	HTTP::Session2::Base::__ANON__(HTTP::Session2::ClientStore=HASH(0x803f09a98), "s3cret") called at t/02_client_side.t line 60
	main::__ANON__("client -> server: request without cookie", CODE(0x803f09a38)) called at t/02_client_side.t line 66
	main::__ANON__() called at /usr/home/cpan/pit/thr/perl-5.24.1/lib/site_perl/5.24.1/Test/Builder.pm line 326
	eval {...} called at /usr/home/cpan/pit/thr/perl-5.24.1/lib/site_perl/5.24.1/Test/Builder.pm line 326
	Test::Builder::subtest(Test::Builder=HASH(0x801b463c0), "Login", CODE(0x803ec4f60)) called at /usr/home/cpan/pit/thr/perl-5.24.1/lib/site_perl/5.24.1/Test/More.pm line 807
	Test::More::subtest("Login", CODE(0x803ec4f60)) called at t/02_client_side.t line 9
	main::scenario("Login", CODE(0x803ec4f60)) called at t/02_client_side.t line 86
Do not use HTTP::Session2::ClientStore. Use HTTP::Session2::ServerStore or HTTP::Session2::ClientStore2 instead. at /usr/home/cpan/pit/thr/conf/perl-5.24.1/.cpanplus/5.24.1/build/KDcaDxwy0I/HTTP-Session2-1.10/blib/lib/HTTP/Session2/ClientStore.pm line 35.
Do not use HTTP::Session2::ClientStore. Use HTTP::Session2::ServerStore or HTTP::Session2::ClientStore2 instead. at /usr/home/cpan/pit/thr/conf/perl-5.24.1/.cpanplus/5.24.1/build/KDcaDxwy0I/HTTP-Session2-1.10/blib/lib/HTTP/Session2/ClientStore.pm line 25.
Secret string too short at /usr/home/cpan/pit/thr/conf/perl-5.24.1/.cpanplus/5.24.1/build/KDcaDxwy0I/HTTP-Session2-1.10/blib/lib/HTTP/Session2/Base.pm line 79.
	HTTP::Session2::Base::__ANON__(HTTP::Session2::ClientStore=HASH(0x802d9ad20), "s3cret") called at t/02_client_side.t line 92
	main::__ANON__("client -> server: request without cookie", CODE(0x803f0c3d8)) called at t/02_client_side.t line 98
	main::__ANON__() called at /usr/home/cpan/pit/thr/perl-5.24.1/lib/site_perl/5.24.1/Test/Builder.pm line 326
	eval {...} called at /usr/home/cpan/pit/thr/perl-5.24.1/lib/site_perl/5.24.1/Test/Builder.pm line 326
	Test::Builder::subtest(Test::Builder=HASH(0x801b463c0), "In a login session", CODE(0x802d9a4e0)) called at /usr/home/cpan/pit/thr/perl-5.24.1/lib/site_perl/5.24.1/Test/More.pm line 807
	Test::More::subtest("In a login session", CODE(0x802d9a4e0)) called at t/02_client_side.t line 9
	main::scenario("In a login session", CODE(0x802d9a4e0)) called at t/02_client_side.t line 107
Do not use HTTP::Session2::ClientStore. Use HTTP::Session2::ServerStore or HTTP::Session2::ClientStore2 instead. at /usr/home/cpan/pit/thr/conf/perl-5.24.1/.cpanplus/5.24.1/build/KDcaDxwy0I/HTTP-Session2-1.10/blib/lib/HTTP/Session2/ClientStore.pm line 35.
Do not use HTTP::Session2::ClientStore. Use HTTP::Session2::ServerStore or HTTP::Session2::ClientStore2 instead. at /usr/home/cpan/pit/thr/conf/perl-5.24.1/.cpanplus/5.24.1/build/KDcaDxwy0I/HTTP-Session2-1.10/blib/lib/HTTP/Session2/ClientStore.pm line 25.
Secret string too short at /usr/home/cpan/pit/thr/conf/perl-5.24.1/.cpanplus/5.24.1/build/KDcaDxwy0I/HTTP-Session2-1.10/blib/lib/HTTP/Session2/Base.pm line 79.
	HTTP::Session2::Base::__ANON__(HTTP::Session2::ClientStore=HASH(0x802d9a7e0), "s3cret") called at t/02_client_side.t line 112
	main::__ANON__("client -> server: request without cookie", CODE(0x803f09fc0)) called at t/02_client_side.t line 118
	main::__ANON__() called at /usr/home/cpan/pit/thr/perl-5.24.1/lib/site_perl/5.24.1/Test/Builder.pm line 326
	eval {...} called at /usr/home/cpan/pit/thr/perl-5.24.1/lib/site_perl/5.24.1/Test/Builder.pm line 326
	Test::Builder::subtest(Test::Builder=HASH(0x801b463c0), "Logout", CODE(0x802d9aa38)) called at /usr/home/cpan/pit/thr/perl-5.24.1/lib/site_perl/5.24.1/Test/More.pm line 807
	Test::More::subtest("Logout", CODE(0x802d9aa38)) called at t/02_client_side.t line 9
	main::scenario("Logout", CODE(0x802d9aa38)) called at t/02_client_side.t line 131
t/02_client_side.t .......... ok
Secret string too short at /usr/home/cpan/pit/thr/conf/perl-5.24.1/.cpanplus/5.24.1/build/KDcaDxwy0I/HTTP-Session2-1.10/blib/lib/HTTP/Session2/Base.pm line 79.
	HTTP::Session2::Base::__ANON__(HTTP::Session2::ServerStore=HASH(0x8062b21e0), "s3cret") called at t/03_mech.t line 121
	main::server_session(HASH(0x801a66c48)) called at t/03_mech.t line 17
	main::__ANON__(HASH(0x801a66c48)) called at /usr/home/cpan/pit/thr/conf/perl-5.24.1/.cpanplus/5.24.1/build/kCW4928qF_/Test-WWW-Mechanize-PSGI-0.38/blib/lib/Test/WWW/Mechanize/PSGI.pm line 43
	Test::WWW::Mechanize::PSGI::try {...} () called at /usr/home/cpan/pit/thr/conf/perl-5.24.1/.cpanplus/5.24.1/build/h2sDZ7ONUF/Try-Tiny-0.30/blib/lib/Try/Tiny.pm line 102
	eval {...} called at /usr/home/cpan/pit/thr/conf/perl-5.24.1/.cpanplus/5.24.1/build/h2sDZ7ONUF/Try-Tiny-0.30/blib/lib/Try/Tiny.pm line 93
	Try::Tiny::try(CODE(0x80629dee8), Try::Tiny::Catch=REF(0x802f15ac8)) called at /usr/home/cpan/pit/thr/conf/perl-5.24.1/.cpanplus/5.24.1/build/kCW4928qF_/Test-WWW-Mechanize-PSGI-0.38/blib/lib/Test/WWW/Mechanize/PSGI.pm line 50
	Test::WWW::Mechanize::PSGI::simple_request(Test::WWW::Mechanize::PSGI=HASH(0x805a65510), HTTP::Request=HASH(0x805bcc960), undef, undef) called at /usr/home/cpan/pit/thr/conf/perl-5.24.1/.cpanplus/5.24.1/build/MHH2dAzQrK/libwww-perl-6.31/blib/lib/LWP/UserAgent.pm line 297
	LWP::UserAgent::request(Test::WWW::Mechanize::PSGI=HASH(0x805a65510), HTTP::Request=HASH(0x805bcc960)) called at /usr/home/cpan/pit/thr/conf/perl-5.24.1/.cpanplus/5.24.1/build/KX5o54IIPN/WWW-Mechanize-1.86/blib/lib/WWW/Mechanize.pm line 1413
	WWW::Mechanize::_make_request(Test::WWW::Mechanize::PSGI=HASH(0x805a65510), HTTP::Request=HASH(0x805bcc960)) called at /usr/home/cpan/pit/thr/conf/perl-5.24.1/.cpanplus/5.24.1/build/KX5o54IIPN/WWW-Mechanize-1.86/blib/lib/WWW/Mechanize.pm line 1253
	WWW::Mechanize::request(Test::WWW::Mechanize::PSGI=HASH(0x805a65510), HTTP::Request=HASH(0x805bcc960)) called at /usr/home/cpan/pit/thr/conf/perl-5.24.1/.cpanplus/5.24.1/build/MHH2dAzQrK/libwww-perl-6.31/blib/lib/LWP/UserAgent.pm line 435
	LWP::UserAgent::get(Test::WWW::Mechanize::PSGI=HASH(0x805a65510), "/") called at /usr/home/cpan/pit/thr/conf/perl-5.24.1/.cpanplus/5.24.1/build/KX5o54IIPN/WWW-Mechanize-1.86/blib/lib/WWW/Mechanize.pm line 117
	WWW::Mechanize::get(Test::WWW::Mechanize::PSGI=HASH(0x805a65510), "/") called at /usr/home/cpan/pit/thr/conf/perl-5.24.1/.cpanplus/5.24.1/build/Lsq0GVhuoI/Test-WWW-Mechanize-1.48/blib/lib/Test/WWW/Mechanize.pm line 160
	Test::WWW::Mechanize::get_ok(Test::WWW::Mechanize::PSGI=HASH(0x805a65510), "/") called at t/03_mech.t line 74
Secret string too short at /usr/home/cpan/pit/thr/conf/perl-5.24.1/.cpanplus/5.24.1/build/KDcaDxwy0I/HTTP-Session2-1.10/blib/lib/HTTP/Session2/Base.pm line 79.
	HTTP::Session2::Base::__ANON__(HTTP::Session2::ServerStore=HASH(0x8062b51e0), "s3cret") called at t/03_mech.t line 121
	main::server_session(HASH(0x805bcc978)) called at t/03_mech.t line 17
	main::__ANON__(HASH(0x805bcc978)) called at /usr/home/cpan/pit/thr/conf/perl-5.24.1/.cpanplus/5.24.1/build/kCW4928qF_/Test-WWW-Mechanize-PSGI-0.38/blib/lib/Test/WWW/Mechanize/PSGI.pm line 43
	Test::WWW::Mechanize::PSGI::try {...} () called at /usr/home/cpan/pit/thr/conf/perl-5.24.1/.cpanplus/5.24.1/build/h2sDZ7ONUF/Try-Tiny-0.30/blib/lib/Try/Tiny.pm line 102
	eval {...} called at /usr/home/cpan/pit/thr/conf/perl-5.24.1/.cpanplus/5.24.1/build/h2sDZ7ONUF/Try-Tiny-0.30/blib/lib/Try/Tiny.pm line 93
	Try::Tiny::try(CODE(0x8062b2ca8), Try::Tiny::Catch=REF(0x8062b2030)) called at /usr/home/cpan/pit/thr/conf/perl-5.24.1/.cpanplus/5.24.1/build/kCW4928qF_/Test-WWW-Mechanize-PSGI-0.38/blib/lib/Test/WWW/Mechanize/PSGI.pm line 50
	Test::WWW::Mechanize::PSGI::simple_request(Test::WWW::Mechanize::PSGI=HASH(0x805a65510), HTTP::Request=HASH(0x8062b2690), undef, undef) called at /usr/home/cpan/pit/thr/conf/perl-5.24.1/.cpanplus/5.24.1/build/MHH2dAzQrK/libwww-perl-6.31/blib/lib/LWP/UserAgent.pm line 297
	LWP::UserAgent::request(Test::WWW::Mechanize::PSGI=HASH(0x805a65510), HTTP::Request=HASH(0x8062b2690)) called at /usr/home/cpan/pit/thr/conf/perl-5.24.1/.cpanplus/5.24.1/build/KX5o54IIPN/WWW-Mechanize-1.86/blib/lib/WWW/Mechanize.pm line 1413
	WWW::Mechanize::_make_request(Test::WWW::Mechanize::PSGI=HASH(0x805a65510), HTTP::Request=HASH(0x8062b2690)) called at /usr/home/cpan/pit/thr/conf/perl-5.24.1/.cpanplus/5.24.1/build/KX5o54IIPN/WWW-Mechanize-1.86/blib/lib/WWW/Mechanize.pm line 1253
	WWW::Mechanize::request(Test::WWW::Mechanize::PSGI=HASH(0x805a65510), HTTP::Request=HASH(0x8062b2690)) called at /usr/home/cpan/pit/thr/conf/perl-5.24.1/.cpanplus/5.24.1/build/MHH2dAzQrK/libwww-perl-6.31/blib/lib/LWP/UserAgent.pm line 478
	LWP::UserAgent::post(Test::WWW::Mechanize::PSGI=HASH(0x805a65510), "/wishlist?foo", HASH(0x804f78b28)) called at /usr/home/cpan/pit/thr/conf/perl-5.24.1/.cpanplus/5.24.1/build/Lsq0GVhuoI/Test-WWW-Mechanize-1.48/blib/lib/Test/WWW/Mechanize.pm line 237
	Test::WWW::Mechanize::post_ok(Test::WWW::Mechanize::PSGI=HASH(0x805a65510), "/wishlist?foo") called at t/03_mech.t line 75
Secret string too short at /usr/home/cpan/pit/thr/conf/perl-5.24.1/.cpanplus/5.24.1/build/KDcaDxwy0I/HTTP-Session2-1.10/blib/lib/HTTP/Session2/Base.pm line 79.
	HTTP::Session2::Base::__ANON__(HTTP::Session2::ServerStore=HASH(0x8062b5af8), "s3cret") called at t/03_mech.t line 121
	main::server_session(HASH(0x8062b2288)) called at t/03_mech.t line 17
	main::__ANON__(HASH(0x8062b2288)) called at /usr/home/cpan/pit/thr/conf/perl-5.24.1/.cpanplus/5.24.1/build/kCW4928qF_/Test-WWW-Mechanize-PSGI-0.38/blib/lib/Test/WWW/Mechanize/PSGI.pm line 43
	Test::WWW::Mechanize::PSGI::try {...} () called at /usr/home/cpan/pit/thr/conf/perl-5.24.1/.cpanplus/5.24.1/build/h2sDZ7ONUF/Try-Tiny-0.30/blib/lib/Try/Tiny.pm line 102
	eval {...} called at /usr/home/cpan/pit/thr/conf/perl-5.24.1/.cpanplus/5.24.1/build/h2sDZ7ONUF/Try-Tiny-0.30/blib/lib/Try/Tiny.pm line 93
	Try::Tiny::try(CODE(0x8062b51b0), Try::Tiny::Catch=REF(0x8062b50c0)) called at /usr/home/cpan/pit/thr/conf/perl-5.24.1/.cpanplus/5.24.1/build/kCW4928qF_/Test-WWW-Mechanize-PSGI-0.38/blib/lib/Test/WWW/Mechanize/PSGI.pm line 50
	Test::WWW::Mechanize::PSGI::simple_request(Test::WWW::Mechanize::PSGI=HASH(0x805a65510), HTTP::Request=HASH(0x8062b2de0), undef, undef) called at /usr/home/cpan/pit/thr/conf/perl-5.24.1/.cpanplus/5.24.1/build/MHH2dAzQrK/libwww-perl-6.31/blib/lib/LWP/UserAgent.pm line 297
	LWP::UserAgent::request(Test::WWW::Mechanize::PSGI=HASH(0x805a65510), HTTP::Request=HASH(0x8062b2de0)) called at /usr/home/cpan/pit/thr/conf/perl-5.24.1/.cpanplus/5.24.1/build/KX5o54IIPN/WWW-Mechanize-1.86/blib/lib/WWW/Mechanize.pm line 1413
	WWW::Mechanize::_make_request(Test::WWW::Mechanize::PSGI=HASH(0x805a65510), HTTP::Request=HASH(0x8062b2de0)) called at /usr/home/cpan/pit/thr/conf/perl-5.24.1/.cpanplus/5.24.1/build/KX5o54IIPN/WWW-Mechanize-1.86/blib/lib/WWW/Mechanize.pm line 1253
	WWW::Mechanize::request(Test::WWW::Mechanize::PSGI=HASH(0x805a65510), HTTP::Request=HASH(0x8062b2de0)) called at /usr/home/cpan/pit/thr/conf/perl-5.24.1/.cpanplus/5.24.1/build/MHH2dAzQrK/libwww-perl-6.31/blib/lib/LWP/UserAgent.pm line 435
	LWP::UserAgent::get(Test::WWW::Mechanize::PSGI=HASH(0x805a65510), "http://localhost/wishlist") called at /usr/home/cpan/pit/thr/conf/perl-5.24.1/.cpanplus/5.24.1/build/KX5o54IIPN/WWW-Mechanize-1.86/blib/lib/WWW/Mechanize.pm line 117
	WWW::Mechanize::get(Test::WWW::Mechanize::PSGI=HASH(0x805a65510), "/wishlist") called at /usr/home/cpan/pit/thr/conf/perl-5.24.1/.cpanplus/5.24.1/build/Lsq0GVhuoI/Test-WWW-Mechanize-1.48/blib/lib/Test/WWW/Mechanize.pm line 160
	Test::WWW::Mechanize::get_ok(Test::WWW::Mechanize::PSGI=HASH(0x805a65510), "/wishlist") called at t/03_mech.t line 76
Secret string too short at /usr/home/cpan/pit/thr/conf/perl-5.24.1/.cpanplus/5.24.1/build/KDcaDxwy0I/HTTP-Session2-1.10/blib/lib/HTTP/Session2/Base.pm line 79.
	HTTP::Session2::Base::__ANON__(HTTP::Session2::ServerStore=HASH(0x8062b8138), "s3cret") called at t/03_mech.t line 121
	main::server_session(HASH(0x8062b5660)) called at t/03_mech.t line 17
	main::__ANON__(HASH(0x8062b5660)) called at /usr/home/cpan/pit/thr/conf/perl-5.24.1/.cpanplus/5.24.1/build/kCW4928qF_/Test-WWW-Mechanize-PSGI-0.38/blib/lib/Test/WWW/Mechanize/PSGI.pm line 43
	Test::WWW::Mechanize::PSGI::try {...} () called at /usr/home/cpan/pit/thr/conf/perl-5.24.1/.cpanplus/5.24.1/build/h2sDZ7ONUF/Try-Tiny-0.30/blib/lib/Try/Tiny.pm line 102
	eval {...} called at /usr/home/cpan/pit/thr/conf/perl-5.24.1/.cpanplus/5.24.1/build/h2sDZ7ONUF/Try-Tiny-0.30/blib/lib/Try/Tiny.pm line 93
	Try::Tiny::try(CODE(0x8062b5a98), Try::Tiny::Catch=REF(0x8062b59c0)) called at /usr/home/cpan/pit/thr/conf/perl-5.24.1/.cpanplus/5.24.1/build/kCW4928qF_/Test-WWW-Mechanize-PSGI-0.38/blib/lib/Test/WWW/Mechanize/PSGI.pm line 50
	Test::WWW::Mechanize::PSGI::simple_request(Test::WWW::Mechanize::PSGI=HASH(0x805a65510), HTTP::Request=HASH(0x8062b58e8), undef, undef) called at /usr/home/cpan/pit/thr/conf/perl-5.24.1/.cpanplus/5.24.1/build/MHH2dAzQrK/libwww-perl-6.31/blib/lib/LWP/UserAgent.pm line 297
	LWP::UserAgent::request(Test::WWW::Mechanize::PSGI=HASH(0x805a65510), HTTP::Request=HASH(0x8062b58e8)) called at /usr/home/cpan/pit/thr/conf/perl-5.24.1/.cpanplus/5.24.1/build/KX5o54IIPN/WWW-Mechanize-1.86/blib/lib/WWW/Mechanize.pm line 1413
	WWW::Mechanize::_make_request(Test::WWW::Mechanize::PSGI=HASH(0x805a65510), HTTP::Request=HASH(0x8062b58e8)) called at /usr/home/cpan/pit/thr/conf/perl-5.24.1/.cpanplus/5.24.1/build/KX5o54IIPN/WWW-Mechanize-1.86/blib/lib/WWW/Mechanize.pm line 1253
	WWW::Mechanize::request(Test::WWW::Mechanize::PSGI=HASH(0x805a65510), HTTP::Request=HASH(0x8062b58e8)) called at /usr/home/cpan/pit/thr/conf/perl-5.24.1/.cpanplus/5.24.1/build/MHH2dAzQrK/libwww-perl-6.31/blib/lib/LWP/UserAgent.pm line 478
	LWP::UserAgent::post(Test::WWW::Mechanize::PSGI=HASH(0x805a65510), "/wishlist?bar") called at t/03_mech.t line 78
Secret string too short at /usr/home/cpan/pit/thr/conf/perl-5.24.1/.cpanplus/5.24.1/build/KDcaDxwy0I/HTTP-Session2-1.10/blib/lib/HTTP/Session2/Base.pm line 79.
	HTTP::Session2::Base::__ANON__(HTTP::Session2::ServerStore=HASH(0x8062b87b0), "s3cret") called at t/03_mech.t line 121
	main::server_session(HASH(0x8062b5bb8)) called at t/03_mech.t line 17
	main::__ANON__(HASH(0x8062b5bb8)) called at /usr/home/cpan/pit/thr/conf/perl-5.24.1/.cpanplus/5.24.1/build/kCW4928qF_/Test-WWW-Mechanize-PSGI-0.38/blib/lib/Test/WWW/Mechanize/PSGI.pm line 43
	Test::WWW::Mechanize::PSGI::try {...} () called at /usr/home/cpan/pit/thr/conf/perl-5.24.1/.cpanplus/5.24.1/build/h2sDZ7ONUF/Try-Tiny-0.30/blib/lib/Try/Tiny.pm line 102
	eval {...} called at /usr/home/cpan/pit/thr/conf/perl-5.24.1/.cpanplus/5.24.1/build/h2sDZ7ONUF/Try-Tiny-0.30/blib/lib/Try/Tiny.pm line 93
	Try::Tiny::try(CODE(0x8062b8588), Try::Tiny::Catch=REF(0x8062b5ed0)) called at /usr/home/cpan/pit/thr/conf/perl-5.24.1/.cpanplus/5.24.1/build/kCW4928qF_/Test-WWW-Mechanize-PSGI-0.38/blib/lib/Test/WWW/Mechanize/PSGI.pm line 50
	Test::WWW::Mechanize::PSGI::simple_request(Test::WWW::Mechanize::PSGI=HASH(0x805a65510), HTTP::Request=HASH(0x8062b5498), undef, undef) called at /usr/home/cpan/pit/thr/conf/perl-5.24.1/.cpanplus/5.24.1/build/MHH2dAzQrK/libwww-perl-6.31/blib/lib/LWP/UserAgent.pm line 297
	LWP::UserAgent::request(Test::WWW::Mechanize::PSGI=HASH(0x805a65510), HTTP::Request=HASH(0x8062b5498)) called at /usr/home/cpan/pit/thr/conf/perl-5.24.1/.cpanplus/5.24.1/build/KX5o54IIPN/WWW-Mechanize-1.86/blib/lib/WWW/Mechanize.pm line 1413
	WWW::Mechanize::_make_request(Test::WWW::Mechanize::PSGI=HASH(0x805a65510), HTTP::Request=HASH(0x8062b5498)) called at /usr/home/cpan/pit/thr/conf/perl-5.24.1/.cpanplus/5.24.1/build/KX5o54IIPN/WWW-Mechanize-1.86/blib/lib/WWW/Mechanize.pm line 1253
	WWW::Mechanize::request(Test::WWW::Mechanize::PSGI=HASH(0x805a65510), HTTP::Request=HASH(0x8062b5498)) called at /usr/home/cpan/pit/thr/conf/perl-5.24.1/.cpanplus/5.24.1/build/MHH2dAzQrK/libwww-perl-6.31/blib/lib/LWP/UserAgent.pm line 478
	LWP::UserAgent::post(Test::WWW::Mechanize::PSGI=HASH(0x805a65510), "/wishlist?bar", HASH(0x804f78b28)) called at /usr/home/cpan/pit/thr/conf/perl-5.24.1/.cpanplus/5.24.1/build/Lsq0GVhuoI/Test-WWW-Mechanize-1.48/blib/lib/Test/WWW/Mechanize.pm line 237
	Test::WWW::Mechanize::post_ok(Test::WWW::Mechanize::PSGI=HASH(0x805a65510), "/wishlist?bar") called at t/03_mech.t line 81
Secret string too short at /usr/home/cpan/pit/thr/conf/perl-5.24.1/.cpanplus/5.24.1/build/KDcaDxwy0I/HTTP-Session2-1.10/blib/lib/HTTP/Session2/Base.pm line 79.
	HTTP::Session2::Base::__ANON__(HTTP::Session2::ServerStore=HASH(0x8062b8c30), "s3cret") called at t/03_mech.t line 121
	main::server_session(HASH(0x8062b8708)) called at t/03_mech.t line 17
	main::__ANON__(HASH(0x8062b8708)) called at /usr/home/cpan/pit/thr/conf/perl-5.24.1/.cpanplus/5.24.1/build/kCW4928qF_/Test-WWW-Mechanize-PSGI-0.38/blib/lib/Test/WWW/Mechanize/PSGI.pm line 43
	Test::WWW::Mechanize::PSGI::try {...} () called at /usr/home/cpan/pit/thr/conf/perl-5.24.1/.cpanplus/5.24.1/build/h2sDZ7ONUF/Try-Tiny-0.30/blib/lib/Try/Tiny.pm line 102
	eval {...} called at /usr/home/cpan/pit/thr/conf/perl-5.24.1/.cpanplus/5.24.1/build/h2sDZ7ONUF/Try-Tiny-0.30/blib/lib/Try/Tiny.pm line 93
	Try::Tiny::try(CODE(0x8062b5af8), Try::Tiny::Catch=REF(0x8062b8348)) called at /usr/home/cpan/pit/thr/conf/perl-5.24.1/.cpanplus/5.24.1/build/kCW4928qF_/Test-WWW-Mechanize-PSGI-0.38/blib/lib/Test/WWW/Mechanize/PSGI.pm line 50
	Test::WWW::Mechanize::PSGI::simple_request(Test::WWW::Mechanize::PSGI=HASH(0x805a65510), HTTP::Request=HASH(0x8062b84c8), undef, undef) called at /usr/home/cpan/pit/thr/conf/perl-5.24.1/.cpanplus/5.24.1/build/MHH2dAzQrK/libwww-perl-6.31/blib/lib/LWP/UserAgent.pm line 297
	LWP::UserAgent::request(Test::WWW::Mechanize::PSGI=HASH(0x805a65510), HTTP::Request=HASH(0x8062b84c8)) called at /usr/home/cpan/pit/thr/conf/perl-5.24.1/.cpanplus/5.24.1/build/KX5o54IIPN/WWW-Mechanize-1.86/blib/lib/WWW/Mechanize.pm line 1413
	WWW::Mechanize::_make_request(Test::WWW::Mechanize::PSGI=HASH(0x805a65510), HTTP::Request=HASH(0x8062b84c8)) called at /usr/home/cpan/pit/thr/conf/perl-5.24.1/.cpanplus/5.24.1/build/KX5o54IIPN/WWW-Mechanize-1.86/blib/lib/WWW/Mechanize.pm line 1253
	WWW::Mechanize::request(Test::WWW::Mechanize::PSGI=HASH(0x805a65510), HTTP::Request=HASH(0x8062b84c8)) called at /usr/home/cpan/pit/thr/conf/perl-5.24.1/.cpanplus/5.24.1/build/MHH2dAzQrK/libwww-perl-6.31/blib/lib/LWP/UserAgent.pm line 435
	LWP::UserAgent::get(Test::WWW::Mechanize::PSGI=HASH(0x805a65510), "http://localhost/wishlist") called at /usr/home/cpan/pit/thr/conf/perl-5.24.1/.cpanplus/5.24.1/build/KX5o54IIPN/WWW-Mechanize-1.86/blib/lib/WWW/Mechanize.pm line 117
	WWW::Mechanize::get(Test::WWW::Mechanize::PSGI=HASH(0x805a65510), "/wishlist") called at /usr/home/cpan/pit/thr/conf/perl-5.24.1/.cpanplus/5.24.1/build/Lsq0GVhuoI/Test-WWW-Mechanize-1.48/blib/lib/Test/WWW/Mechanize.pm line 160
	Test::WWW::Mechanize::get_ok(Test::WWW::Mechanize::PSGI=HASH(0x805a65510), "/wishlist") called at t/03_mech.t line 82
Secret string too short at /usr/home/cpan/pit/thr/conf/perl-5.24.1/.cpanplus/5.24.1/build/KDcaDxwy0I/HTTP-Session2-1.10/blib/lib/HTTP/Session2/Base.pm line 79.
	HTTP::Session2::Base::__ANON__(HTTP::Session2::ServerStore=HASH(0x8062b8e10), "s3cret") called at t/03_mech.t line 121
	main::server_session(HASH(0x8062b8b10)) called at t/03_mech.t line 17
	main::__ANON__(HASH(0x8062b8b10)) called at /usr/home/cpan/pit/thr/conf/perl-5.24.1/.cpanplus/5.24.1/build/kCW4928qF_/Test-WWW-Mechanize-PSGI-0.38/blib/lib/Test/WWW/Mechanize/PSGI.pm line 43
	Test::WWW::Mechanize::PSGI::try {...} () called at /usr/home/cpan/pit/thr/conf/perl-5.24.1/.cpanplus/5.24.1/build/h2sDZ7ONUF/Try-Tiny-0.30/blib/lib/Try/Tiny.pm line 102
	eval {...} called at /usr/home/cpan/pit/thr/conf/perl-5.24.1/.cpanplus/5.24.1/build/h2sDZ7ONUF/Try-Tiny-0.30/blib/lib/Try/Tiny.pm line 93
	Try::Tiny::try(CODE(0x805b9c030), Try::Tiny::Catch=REF(0x8062b81c8)) called at /usr/home/cpan/pit/thr/conf/perl-5.24.1/.cpanplus/5.24.1/build/kCW4928qF_/Test-WWW-Mechanize-PSGI-0.38/blib/lib/Test/WWW/Mechanize/PSGI.pm line 50
	Test::WWW::Mechanize::PSGI::simple_request(Test::WWW::Mechanize::PSGI=HASH(0x805a65510), HTTP::Request=HASH(0x8062b8240), undef, undef) called at /usr/home/cpan/pit/thr/conf/perl-5.24.1/.cpanplus/5.24.1/build/MHH2dAzQrK/libwww-perl-6.31/blib/lib/LWP/UserAgent.pm line 297
	LWP::UserAgent::request(Test::WWW::Mechanize::PSGI=HASH(0x805a65510), HTTP::Request=HASH(0x8062b8240)) called at /usr/home/cpan/pit/thr/conf/perl-5.24.1/.cpanplus/5.24.1/build/KX5o54IIPN/WWW-Mechanize-1.86/blib/lib/WWW/Mechanize.pm line 1413
	WWW::Mechanize::_make_request(Test::WWW::Mechanize::PSGI=HASH(0x805a65510), HTTP::Request=HASH(0x8062b8240)) called at /usr/home/cpan/pit/thr/conf/perl-5.24.1/.cpanplus/5.24.1/build/KX5o54IIPN/WWW-Mechanize-1.86/blib/lib/WWW/Mechanize.pm line 1253
	WWW::Mechanize::request(Test::WWW::Mechanize::PSGI=HASH(0x805a65510), HTTP::Request=HASH(0x8062b8240)) called at /usr/home/cpan/pit/thr/conf/perl-5.24.1/.cpanplus/5.24.1/build/MHH2dAzQrK/libwww-perl-6.31/blib/lib/LWP/UserAgent.pm line 478
	LWP::UserAgent::post(Test::WWW::Mechanize::PSGI=HASH(0x805a65510), "/account/login?john", HASH(0x804f78b28)) called at /usr/home/cpan/pit/thr/conf/perl-5.24.1/.cpanplus/5.24.1/build/Lsq0GVhuoI/Test-WWW-Mechanize-1.48/blib/lib/Test/WWW/Mechanize.pm line 237
	Test::WWW::Mechanize::post_ok(Test::WWW::Mechanize::PSGI=HASH(0x805a65510), "/account/login?john") called at t/03_mech.t line 84
Secret string too short at /usr/home/cpan/pit/thr/conf/perl-5.24.1/.cpanplus/5.24.1/build/KDcaDxwy0I/HTTP-Session2-1.10/blib/lib/HTTP/Session2/Base.pm line 79.
	HTTP::Session2::Base::__ANON__(HTTP::Session2::ServerStore=HASH(0x805b9c138), "s3cret") called at t/03_mech.t line 121
	main::server_session(HASH(0x805b9c1e0)) called at t/03_mech.t line 17
	main::__ANON__(HASH(0x805b9c1e0)) called at /usr/home/cpan/pit/thr/conf/perl-5.24.1/.cpanplus/5.24.1/build/kCW4928qF_/Test-WWW-Mechanize-PSGI-0.38/blib/lib/Test/WWW/Mechanize/PSGI.pm line 43
	Test::WWW::Mechanize::PSGI::try {...} () called at /usr/home/cpan/pit/thr/conf/perl-5.24.1/.cpanplus/5.24.1/build/h2sDZ7ONUF/Try-Tiny-0.30/blib/lib/Try/Tiny.pm line 102
	eval {...} called at /usr/home/cpan/pit/thr/conf/perl-5.24.1/.cpanplus/5.24.1/build/h2sDZ7ONUF/Try-Tiny-0.30/blib/lib/Try/Tiny.pm line 93
	Try::Tiny::try(CODE(0x8062b5870), Try::Tiny::Catch=REF(0x8062b8930)) called at /usr/home/cpan/pit/thr/conf/perl-5.24.1/.cpanplus/5.24.1/build/kCW4928qF_/Test-WWW-Mechanize-PSGI-0.38/blib/lib/Test/WWW/Mechanize/PSGI.pm line 50
	Test::WWW::Mechanize::PSGI::simple_request(Test::WWW::Mechanize::PSGI=HASH(0x805a65510), HTTP::Request=HASH(0x8062b8900), undef, undef) called at /usr/home/cpan/pit/thr/conf/perl-5.24.1/.cpanplus/5.24.1/build/MHH2dAzQrK/libwww-perl-6.31/blib/lib/LWP/UserAgent.pm line 297
	LWP::UserAgent::request(Test::WWW::Mechanize::PSGI=HASH(0x805a65510), HTTP::Request=HASH(0x8062b8900)) called at /usr/home/cpan/pit/thr/conf/perl-5.24.1/.cpanplus/5.24.1/build/KX5o54IIPN/WWW-Mechanize-1.86/blib/lib/WWW/Mechanize.pm line 1413
	WWW::Mechanize::_make_request(Test::WWW::Mechanize::PSGI=HASH(0x805a65510), HTTP::Request=HASH(0x8062b8900)) called at /usr/home/cpan/pit/thr/conf/perl-5.24.1/.cpanplus/5.24.1/build/KX5o54IIPN/WWW-Mechanize-1.86/blib/lib/WWW/Mechanize.pm line 1253
	WWW::Mechanize::request(Test::WWW::Mechanize::PSGI=HASH(0x805a65510), HTTP::Request=HASH(0x8062b8900)) called at /usr/home/cpan/pit/thr/conf/perl-5.24.1/.cpanplus/5.24.1/build/MHH2dAzQrK/libwww-perl-6.31/blib/lib/LWP/UserAgent.pm line 435
	LWP::UserAgent::get(Test::WWW::Mechanize::PSGI=HASH(0x805a65510), "http://localhost/wishlist") called at /usr/home/cpan/pit/thr/conf/perl-5.24.1/.cpanplus/5.24.1/build/KX5o54IIPN/WWW-Mechanize-1.86/blib/lib/WWW/Mechanize.pm line 117
	WWW::Mechanize::get(Test::WWW::Mechanize::PSGI=HASH(0x805a65510), "/wishlist") called at /usr/home/cpan/pit/thr/conf/perl-5.24.1/.cpanplus/5.24.1/build/Lsq0GVhuoI/Test-WWW-Mechanize-1.48/blib/lib/Test/WWW/Mechanize.pm line 160
	Test::WWW::Mechanize::get_ok(Test::WWW::Mechanize::PSGI=HASH(0x805a65510), "/wishlist", "Wishlist is still available") called at t/03_mech.t line 85
Secret string too short at /usr/home/cpan/pit/thr/conf/perl-5.24.1/.cpanplus/5.24.1/build/KDcaDxwy0I/HTTP-Session2-1.10/blib/lib/HTTP/Session2/Base.pm line 79.
	HTTP::Session2::Base::__ANON__(HTTP::Session2::ServerStore=HASH(0x805b9cca8), "s3cret") called at t/03_mech.t line 121
	main::server_session(HASH(0x8062b8c48)) called at t/03_mech.t line 17
	main::__ANON__(HASH(0x8062b8c48)) called at /usr/home/cpan/pit/thr/conf/perl-5.24.1/.cpanplus/5.24.1/build/kCW4928qF_/Test-WWW-Mechanize-PSGI-0.38/blib/lib/Test/WWW/Mechanize/PSGI.pm line 43
	Test::WWW::Mechanize::PSGI::try {...} () called at /usr/home/cpan/pit/thr/conf/perl-5.24.1/.cpanplus/5.24.1/build/h2sDZ7ONUF/Try-Tiny-0.30/blib/lib/Try/Tiny.pm line 102
	eval {...} called at /usr/home/cpan/pit/thr/conf/perl-5.24.1/.cpanplus/5.24.1/build/h2sDZ7ONUF/Try-Tiny-0.30/blib/lib/Try/Tiny.pm line 93
	Try::Tiny::try(CODE(0x805b9c408), Try::Tiny::Catch=REF(0x805b9c3d8)) called at /usr/home/cpan/pit/thr/conf/perl-5.24.1/.cpanplus/5.24.1/build/kCW4928qF_/Test-WWW-Mechanize-PSGI-0.38/blib/lib/Test/WWW/Mechanize/PSGI.pm line 50
	Test::WWW::Mechanize::PSGI::simple_request(Test::WWW::Mechanize::PSGI=HASH(0x805a65510), HTTP::Request=HASH(0x805b9c438), undef, undef) called at /usr/home/cpan/pit/thr/conf/perl-5.24.1/.cpanplus/5.24.1/build/MHH2dAzQrK/libwww-perl-6.31/blib/lib/LWP/UserAgent.pm line 297
	LWP::UserAgent::request(Test::WWW::Mechanize::PSGI=HASH(0x805a65510), HTTP::Request=HASH(0x805b9c438)) called at /usr/home/cpan/pit/thr/conf/perl-5.24.1/.cpanplus/5.24.1/build/KX5o54IIPN/WWW-Mechanize-1.86/blib/lib/WWW/Mechanize.pm line 1413
	WWW::Mechanize::_make_request(Test::WWW::Mechanize::PSGI=HASH(0x805a65510), HTTP::Request=HASH(0x805b9c438)) called at /usr/home/cpan/pit/thr/conf/perl-5.24.1/.cpanplus/5.24.1/build/KX5o54IIPN/WWW-Mechanize-1.86/blib/lib/WWW/Mechanize.pm line 1253
	WWW::Mechanize::request(Test::WWW::Mechanize::PSGI=HASH(0x805a65510), HTTP::Request=HASH(0x805b9c438)) called at /usr/home/cpan/pit/thr/conf/perl-5.24.1/.cpanplus/5.24.1/build/MHH2dAzQrK/libwww-perl-6.31/blib/lib/LWP/UserAgent.pm line 478
	LWP::UserAgent::post(Test::WWW::Mechanize::PSGI=HASH(0x805a65510), "/wishlist?baz") called at t/03_mech.t line 87
Secret string too short at /usr/home/cpan/pit/thr/conf/perl-5.24.1/.cpanplus/5.24.1/build/KDcaDxwy0I/HTTP-Session2-1.10/blib/lib/HTTP/Session2/Base.pm line 79.
	HTTP::Session2::Base::__ANON__(HTTP::Session2::ServerStore=HASH(0x805b9cdc8), "s3cret") called at t/03_mech.t line 121
	main::server_session(HASH(0x805b9c288)) called at t/03_mech.t line 17
	main::__ANON__(HASH(0x805b9c288)) called at /usr/home/cpan/pit/thr/conf/perl-5.24.1/.cpanplus/5.24.1/build/kCW4928qF_/Test-WWW-Mechanize-PSGI-0.38/blib/lib/Test/WWW/Mechanize/PSGI.pm line 43
	Test::WWW::Mechanize::PSGI::try {...} () called at /usr/home/cpan/pit/thr/conf/perl-5.24.1/.cpanplus/5.24.1/build/h2sDZ7ONUF/Try-Tiny-0.30/blib/lib/Try/Tiny.pm line 102
	eval {...} called at /usr/home/cpan/pit/thr/conf/perl-5.24.1/.cpanplus/5.24.1/build/h2sDZ7ONUF/Try-Tiny-0.30/blib/lib/Try/Tiny.pm line 93
	Try::Tiny::try(CODE(0x805b9c3d8), Try::Tiny::Catch=REF(0x805b9c420)) called at /usr/home/cpan/pit/thr/conf/perl-5.24.1/.cpanplus/5.24.1/build/kCW4928qF_/Test-WWW-Mechanize-PSGI-0.38/blib/lib/Test/WWW/Mechanize/PSGI.pm line 50
	Test::WWW::Mechanize::PSGI::simple_request(Test::WWW::Mechanize::PSGI=HASH(0x805a65510), HTTP::Request=HASH(0x805b9cba0), undef, undef) called at /usr/home/cpan/pit/thr/conf/perl-5.24.1/.cpanplus/5.24.1/build/MHH2dAzQrK/libwww-perl-6.31/blib/lib/LWP/UserAgent.pm line 297
	LWP::UserAgent::request(Test::WWW::Mechanize::PSGI=HASH(0x805a65510), HTTP::Request=HASH(0x805b9cba0)) called at /usr/home/cpan/pit/thr/conf/perl-5.24.1/.cpanplus/5.24.1/build/KX5o54IIPN/WWW-Mechanize-1.86/blib/lib/WWW/Mechanize.pm line 1413
	WWW::Mechanize::_make_request(Test::WWW::Mechanize::PSGI=HASH(0x805a65510), HTTP::Request=HASH(0x805b9cba0)) called at /usr/home/cpan/pit/thr/conf/perl-5.24.1/.cpanplus/5.24.1/build/KX5o54IIPN/WWW-Mechanize-1.86/blib/lib/WWW/Mechanize.pm line 1253
	WWW::Mechanize::request(Test::WWW::Mechanize::PSGI=HASH(0x805a65510), HTTP::Request=HASH(0x805b9cba0)) called at /usr/home/cpan/pit/thr/conf/perl-5.24.1/.cpanplus/5.24.1/build/MHH2dAzQrK/libwww-perl-6.31/blib/lib/LWP/UserAgent.pm line 478
	LWP::UserAgent::post(Test::WWW::Mechanize::PSGI=HASH(0x805a65510), "/wishlist?baz", HASH(0x804f78b28)) called at /usr/home/cpan/pit/thr/conf/perl-5.24.1/.cpanplus/5.24.1/build/Lsq0GVhuoI/Test-WWW-Mechanize-1.48/blib/lib/Test/WWW/Mechanize.pm line 237
	Test::WWW::Mechanize::post_ok(Test::WWW::Mechanize::PSGI=HASH(0x805a65510), "/wishlist?baz") called at t/03_mech.t line 90
Secret string too short at /usr/home/cpan/pit/thr/conf/perl-5.24.1/.cpanplus/5.24.1/build/KDcaDxwy0I/HTTP-Session2-1.10/blib/lib/HTTP/Session2/Base.pm line 79.
	HTTP::Session2::Base::__ANON__(HTTP::Session2::ServerStore=HASH(0x806250720), "s3cret") called at t/03_mech.t line 121
	main::server_session(HASH(0x805b9cf00)) called at t/03_mech.t line 17
	main::__ANON__(HASH(0x805b9cf00)) called at /usr/home/cpan/pit/thr/conf/perl-5.24.1/.cpanplus/5.24.1/build/kCW4928qF_/Test-WWW-Mechanize-PSGI-0.38/blib/lib/Test/WWW/Mechanize/PSGI.pm line 43
	Test::WWW::Mechanize::PSGI::try {...} () called at /usr/home/cpan/pit/thr/conf/perl-5.24.1/.cpanplus/5.24.1/build/h2sDZ7ONUF/Try-Tiny-0.30/blib/lib/Try/Tiny.pm line 102
	eval {...} called at /usr/home/cpan/pit/thr/conf/perl-5.24.1/.cpanplus/5.24.1/build/h2sDZ7ONUF/Try-Tiny-0.30/blib/lib/Try/Tiny.pm line 93
	Try::Tiny::try(CODE(0x805b9c948), Try::Tiny::Catch=REF(0x805b9cf90)) called at /usr/home/cpan/pit/thr/conf/perl-5.24.1/.cpanplus/5.24.1/build/kCW4928qF_/Test-WWW-Mechanize-PSGI-0.38/blib/lib/Test/WWW/Mechanize/PSGI.pm line 50
	Test::WWW::Mechanize::PSGI::simple_request(Test::WWW::Mechanize::PSGI=HASH(0x805a65510), HTTP::Request=HASH(0x805b9cdf8), undef, undef) called at /usr/home/cpan/pit/thr/conf/perl-5.24.1/.cpanplus/5.24.1/build/MHH2dAzQrK/libwww-perl-6.31/blib/lib/LWP/UserAgent.pm line 297
	LWP::UserAgent::request(Test::WWW::Mechanize::PSGI=HASH(0x805a65510), HTTP::Request=HASH(0x805b9cdf8)) called at /usr/home/cpan/pit/thr/conf/perl-5.24.1/.cpanplus/5.24.1/build/KX5o54IIPN/WWW-Mechanize-1.86/blib/lib/WWW/Mechanize.pm line 1413
	WWW::Mechanize::_make_request(Test::WWW::Mechanize::PSGI=HASH(0x805a65510), HTTP::Request=HASH(0x805b9cdf8)) called at /usr/home/cpan/pit/thr/conf/perl-5.24.1/.cpanplus/5.24.1/build/KX5o54IIPN/WWW-Mechanize-1.86/blib/lib/WWW/Mechanize.pm line 1253
	WWW::Mechanize::request(Test::WWW::Mechanize::PSGI=HASH(0x805a65510), HTTP::Request=HASH(0x805b9cdf8)) called at /usr/home/cpan/pit/thr/conf/perl-5.24.1/.cpanplus/5.24.1/build/MHH2dAzQrK/libwww-perl-6.31/blib/lib/LWP/UserAgent.pm line 435
	LWP::UserAgent::get(Test::WWW::Mechanize::PSGI=HASH(0x805a65510), "http://localhost/wishlist") called at /usr/home/cpan/pit/thr/conf/perl-5.24.1/.cpanplus/5.24.1/build/KX5o54IIPN/WWW-Mechanize-1.86/blib/lib/WWW/Mechanize.pm line 117
	WWW::Mechanize::get(Test::WWW::Mechanize::PSGI=HASH(0x805a65510), "/wishlist") called at /usr/home/cpan/pit/thr/conf/perl-5.24.1/.cpanplus/5.24.1/build/Lsq0GVhuoI/Test-WWW-Mechanize-1.48/blib/lib/Test/WWW/Mechanize.pm line 160
	Test::WWW::Mechanize::get_ok(Test::WWW::Mechanize::PSGI=HASH(0x805a65510), "/wishlist", "Wishlist is still available") called at t/03_mech.t line 91
Secret string too short at /usr/home/cpan/pit/thr/conf/perl-5.24.1/.cpanplus/5.24.1/build/KDcaDxwy0I/HTTP-Session2-1.10/blib/lib/HTTP/Session2/Base.pm line 79.
	HTTP::Session2::Base::__ANON__(HTTP::Session2::ServerStore=HASH(0x806250c90), "s3cret") called at t/03_mech.t line 121
	main::server_session(HASH(0x8062505e8)) called at t/03_mech.t line 17
	main::__ANON__(HASH(0x8062505e8)) called at /usr/home/cpan/pit/thr/conf/perl-5.24.1/.cpanplus/5.24.1/build/kCW4928qF_/Test-WWW-Mechanize-PSGI-0.38/blib/lib/Test/WWW/Mechanize/PSGI.pm line 43
	Test::WWW::Mechanize::PSGI::try {...} () called at /usr/home/cpan/pit/thr/conf/perl-5.24.1/.cpanplus/5.24.1/build/h2sDZ7ONUF/Try-Tiny-0.30/blib/lib/Try/Tiny.pm line 102
	eval {...} called at /usr/home/cpan/pit/thr/conf/perl-5.24.1/.cpanplus/5.24.1/build/h2sDZ7ONUF/Try-Tiny-0.30/blib/lib/Try/Tiny.pm line 93
	Try::Tiny::try(CODE(0x805b9cc48), Try::Tiny::Catch=REF(0x8062503d8)) called at /usr/home/cpan/pit/thr/conf/perl-5.24.1/.cpanplus/5.24.1/build/kCW4928qF_/Test-WWW-Mechanize-PSGI-0.38/blib/lib/Test/WWW/Mechanize/PSGI.pm line 50
	Test::WWW::Mechanize::PSGI::simple_request(Test::WWW::Mechanize::PSGI=HASH(0x805a65510), HTTP::Request=HASH(0x806250a80), undef, undef) called at /usr/home/cpan/pit/thr/conf/perl-5.24.1/.cpanplus/5.24.1/build/MHH2dAzQrK/libwww-perl-6.31/blib/lib/LWP/UserAgent.pm line 297
	LWP::UserAgent::request(Test::WWW::Mechanize::PSGI=HASH(0x805a65510), HTTP::Request=HASH(0x806250a80)) called at /usr/home/cpan/pit/thr/conf/perl-5.24.1/.cpanplus/5.24.1/build/KX5o54IIPN/WWW-Mechanize-1.86/blib/lib/WWW/Mechanize.pm line 1413
	WWW::Mechanize::_make_request(Test::WWW::Mechanize::PSGI=HASH(0x805a65510), HTTP::Request=HASH(0x806250a80)) called at /usr/home/cpan/pit/thr/conf/perl-5.24.1/.cpanplus/5.24.1/build/KX5o54IIPN/WWW-Mechanize-1.86/blib/lib/WWW/Mechanize.pm line 1253
	WWW::Mechanize::request(Test::WWW::Mechanize::PSGI=HASH(0x805a65510), HTTP::Request=HASH(0x806250a80)) called at /usr/home/cpan/pit/thr/conf/perl-5.24.1/.cpanplus/5.24.1/build/MHH2dAzQrK/libwww-perl-6.31/blib/lib/LWP/UserAgent.pm line 435
	LWP::UserAgent::get(Test::WWW::Mechanize::PSGI=HASH(0x805a65510), "http://localhost/my/name") called at /usr/home/cpan/pit/thr/conf/perl-5.24.1/.cpanplus/5.24.1/build/KX5o54IIPN/WWW-Mechanize-1.86/blib/lib/WWW/Mechanize.pm line 117
	WWW::Mechanize::get(Test::WWW::Mechanize::PSGI=HASH(0x805a65510), "/my/name") called at /usr/home/cpan/pit/thr/conf/perl-5.24.1/.cpanplus/5.24.1/build/Lsq0GVhuoI/Test-WWW-Mechanize-1.48/blib/lib/Test/WWW/Mechanize.pm line 160
	Test::WWW::Mechanize::get_ok(Test::WWW::Mechanize::PSGI=HASH(0x805a65510), "/my/name") called at t/03_mech.t line 93
Secret string too short at /usr/home/cpan/pit/thr/conf/perl-5.24.1/.cpanplus/5.24.1/build/KDcaDxwy0I/HTTP-Session2-1.10/blib/lib/HTTP/Session2/Base.pm line 79.
	HTTP::Session2::Base::__ANON__(HTTP::Session2::ServerStore=HASH(0x806294420), "s3cret") called at t/03_mech.t line 121
	main::server_session(HASH(0x806294048)) called at t/03_mech.t line 17
	main::__ANON__(HASH(0x806294048)) called at /usr/home/cpan/pit/thr/conf/perl-5.24.1/.cpanplus/5.24.1/build/kCW4928qF_/Test-WWW-Mechanize-PSGI-0.38/blib/lib/Test/WWW/Mechanize/PSGI.pm line 43
	Test::WWW::Mechanize::PSGI::try {...} () called at /usr/home/cpan/pit/thr/conf/perl-5.24.1/.cpanplus/5.24.1/build/h2sDZ7ONUF/Try-Tiny-0.30/blib/lib/Try/Tiny.pm line 102
	eval {...} called at /usr/home/cpan/pit/thr/conf/perl-5.24.1/.cpanplus/5.24.1/build/h2sDZ7ONUF/Try-Tiny-0.30/blib/lib/Try/Tiny.pm line 93
	Try::Tiny::try(CODE(0x8062940f0), Try::Tiny::Catch=REF(0x806250af8)) called at /usr/home/cpan/pit/thr/conf/perl-5.24.1/.cpanplus/5.24.1/build/kCW4928qF_/Test-WWW-Mechanize-PSGI-0.38/blib/lib/Test/WWW/Mechanize/PSGI.pm line 50
	Test::WWW::Mechanize::PSGI::simple_request(Test::WWW::Mechanize::PSGI=HASH(0x805a65510), HTTP::Request=HASH(0x806250750), undef, undef) called at /usr/home/cpan/pit/thr/conf/perl-5.24.1/.cpanplus/5.24.1/build/MHH2dAzQrK/libwww-perl-6.31/blib/lib/LWP/UserAgent.pm line 297
	LWP::UserAgent::request(Test::WWW::Mechanize::PSGI=HASH(0x805a65510), HTTP::Request=HASH(0x806250750)) called at /usr/home/cpan/pit/thr/conf/perl-5.24.1/.cpanplus/5.24.1/build/KX5o54IIPN/WWW-Mechanize-1.86/blib/lib/WWW/Mechanize.pm line 1413
	WWW::Mechanize::_make_request(Test::WWW::Mechanize::PSGI=HASH(0x805a65510), HTTP::Request=HASH(0x806250750)) called at /usr/home/cpan/pit/thr/conf/perl-5.24.1/.cpanplus/5.24.1/build/KX5o54IIPN/WWW-Mechanize-1.86/blib/lib/WWW/Mechanize.pm line 1253
	WWW::Mechanize::request(Test::WWW::Mechanize::PSGI=HASH(0x805a65510), HTTP::Request=HASH(0x806250750)) called at /usr/home/cpan/pit/thr/conf/perl-5.24.1/.cpanplus/5.24.1/build/MHH2dAzQrK/libwww-perl-6.31/blib/lib/LWP/UserAgent.pm line 478
	LWP::UserAgent::post(Test::WWW::Mechanize::PSGI=HASH(0x805a65510), "/account/logout?john") called at t/03_mech.t line 97
Secret string too short at /usr/home/cpan/pit/thr/conf/perl-5.24.1/.cpanplus/5.24.1/build/KDcaDxwy0I/HTTP-Session2-1.10/blib/lib/HTTP/Session2/Base.pm line 79.
	HTTP::Session2::Base::__ANON__(HTTP::Session2::ClientStore=HASH(0x8062b5a08), "s3cret") called at t/03_mech.t line 127
	main::client_session(HASH(0x806250db0)) called at t/03_mech.t line 17
	main::__ANON__(HASH(0x806250db0)) called at /usr/home/cpan/pit/thr/conf/perl-5.24.1/.cpanplus/5.24.1/build/kCW4928qF_/Test-WWW-Mechanize-PSGI-0.38/blib/lib/Test/WWW/Mechanize/PSGI.pm line 43
	Test::WWW::Mechanize::PSGI::try {...} () called at /usr/home/cpan/pit/thr/conf/perl-5.24.1/.cpanplus/5.24.1/build/h2sDZ7ONUF/Try-Tiny-0.30/blib/lib/Try/Tiny.pm line 102
	eval {...} called at /usr/home/cpan/pit/thr/conf/perl-5.24.1/.cpanplus/5.24.1/build/h2sDZ7ONUF/Try-Tiny-0.30/blib/lib/Try/Tiny.pm line 93
	Try::Tiny::try(CODE(0x8062b5708), Try::Tiny::Catch=REF(0x806250fa8)) called at /usr/home/cpan/pit/thr/conf/perl-5.24.1/.cpanplus/5.24.1/build/kCW4928qF_/Test-WWW-Mechanize-PSGI-0.38/blib/lib/Test/WWW/Mechanize/PSGI.pm line 50
	Test::WWW::Mechanize::PSGI::simple_request(Test::WWW::Mechanize::PSGI=HASH(0x801a64468), HTTP::Request=HASH(0x805a65510), undef, undef) called at /usr/home/cpan/pit/thr/conf/perl-5.24.1/.cpanplus/5.24.1/build/MHH2dAzQrK/libwww-perl-6.31/blib/lib/LWP/UserAgent.pm line 297
	LWP::UserAgent::request(Test::WWW::Mechanize::PSGI=HASH(0x801a64468), HTTP::Request=HASH(0x805a65510)) called at /usr/home/cpan/pit/thr/conf/perl-5.24.1/.cpanplus/5.24.1/build/KX5o54IIPN/WWW-Mechanize-1.86/blib/lib/WWW/Mechanize.pm line 1413
	WWW::Mechanize::_make_request(Test::WWW::Mechanize::PSGI=HASH(0x801a64468), HTTP::Request=HASH(0x805a65510)) called at /usr/home/cpan/pit/thr/conf/perl-5.24.1/.cpanplus/5.24.1/build/KX5o54IIPN/WWW-Mechanize-1.86/blib/lib/WWW/Mechanize.pm line 1253
	WWW::Mechanize::request(Test::WWW::Mechanize::PSGI=HASH(0x801a64468), HTTP::Request=HASH(0x805a65510)) called at /usr/home/cpan/pit/thr/conf/perl-5.24.1/.cpanplus/5.24.1/build/MHH2dAzQrK/libwww-perl-6.31/blib/lib/LWP/UserAgent.pm line 435
	LWP::UserAgent::get(Test::WWW::Mechanize::PSGI=HASH(0x801a64468), "/") called at /usr/home/cpan/pit/thr/conf/perl-5.24.1/.cpanplus/5.24.1/build/KX5o54IIPN/WWW-Mechanize-1.86/blib/lib/WWW/Mechanize.pm line 117
	WWW::Mechanize::get(Test::WWW::Mechanize::PSGI=HASH(0x801a64468), "/") called at /usr/home/cpan/pit/thr/conf/perl-5.24.1/.cpanplus/5.24.1/build/Lsq0GVhuoI/Test-WWW-Mechanize-1.48/blib/lib/Test/WWW/Mechanize.pm line 160
	Test::WWW::Mechanize::get_ok(Test::WWW::Mechanize::PSGI=HASH(0x801a64468), "/") called at t/03_mech.t line 74
Secret string too short at /usr/home/cpan/pit/thr/conf/perl-5.24.1/.cpanplus/5.24.1/build/KDcaDxwy0I/HTTP-Session2-1.10/blib/lib/HTTP/Session2/Base.pm line 79.
	HTTP::Session2::Base::__ANON__(HTTP::Session2::ClientStore=HASH(0x8062b8ed0), "s3cret") called at t/03_mech.t line 127
	main::client_session(HASH(0x8062b53a8)) called at t/03_mech.t line 17
	main::__ANON__(HASH(0x8062b53a8)) called at /usr/home/cpan/pit/thr/conf/perl-5.24.1/.cpanplus/5.24.1/build/kCW4928qF_/Test-WWW-Mechanize-PSGI-0.38/blib/lib/Test/WWW/Mechanize/PSGI.pm line 43
	Test::WWW::Mechanize::PSGI::try {...} () called at /usr/home/cpan/pit/thr/conf/perl-5.24.1/.cpanplus/5.24.1/build/h2sDZ7ONUF/Try-Tiny-0.30/blib/lib/Try/Tiny.pm line 102
	eval {...} called at /usr/home/cpan/pit/thr/conf/perl-5.24.1/.cpanplus/5.24.1/build/h2sDZ7ONUF/Try-Tiny-0.30/blib/lib/Try/Tiny.pm line 93
	Try::Tiny::try(CODE(0x8062b5918), Try::Tiny::Catch=REF(0x8062b2b40)) called at /usr/home/cpan/pit/thr/conf/perl-5.24.1/.cpanplus/5.24.1/build/kCW4928qF_/Test-WWW-Mechanize-PSGI-0.38/blib/lib/Test/WWW/Mechanize/PSGI.pm line 50
	Test::WWW::Mechanize::PSGI::simple_request(Test::WWW::Mechanize::PSGI=HASH(0x801a64468), HTTP::Request=HASH(0x8062b58e8), undef, undef) called at /usr/home/cpan/pit/thr/conf/perl-5.24.1/.cpanplus/5.24.1/build/MHH2dAzQrK/libwww-perl-6.31/blib/lib/LWP/UserAgent.pm line 297
	LWP::UserAgent::request(Test::WWW::Mechanize::PSGI=HASH(0x801a64468), HTTP::Request=HASH(0x8062b58e8)) called at /usr/home/cpan/pit/thr/conf/perl-5.24.1/.cpanplus/5.24.1/build/KX5o54IIPN/WWW-Mechanize-1.86/blib/lib/WWW/Mechanize.pm line 1413
	WWW::Mechanize::_make_request(Test::WWW::Mechanize::PSGI=HASH(0x801a64468), HTTP::Request=HASH(0x8062b58e8)) called at /usr/home/cpan/pit/thr/conf/perl-5.24.1/.cpanplus/5.24.1/build/KX5o54IIPN/WWW-Mechanize-1.86/blib/lib/WWW/Mechanize.pm line 1253
	WWW::Mechanize::request(Test::WWW::Mechanize::PSGI=HASH(0x801a64468), HTTP::Request=HASH(0x8062b58e8)) called at /usr/home/cpan/pit/thr/conf/perl-5.24.1/.cpanplus/5.24.1/build/MHH2dAzQrK/libwww-perl-6.31/blib/lib/LWP/UserAgent.pm line 478
	LWP::UserAgent::post(Test::WWW::Mechanize::PSGI=HASH(0x801a64468), "/wishlist?foo", HASH(0x804f78b28)) called at /usr/home/cpan/pit/thr/conf/perl-5.24.1/.cpanplus/5.24.1/build/Lsq0GVhuoI/Test-WWW-Mechanize-1.48/blib/lib/Test/WWW/Mechanize.pm line 237
	Test::WWW::Mechanize::post_ok(Test::WWW::Mechanize::PSGI=HASH(0x801a64468), "/wishlist?foo") called at t/03_mech.t line 75
Do not use HTTP::Session2::ClientStore. Use HTTP::Session2::ServerStore or HTTP::Session2::ClientStore2 instead. at /usr/home/cpan/pit/thr/conf/perl-5.24.1/.cpanplus/5.24.1/build/KDcaDxwy0I/HTTP-Session2-1.10/blib/lib/HTTP/Session2/ClientStore.pm line 25.
Secret string too short at /usr/home/cpan/pit/thr/conf/perl-5.24.1/.cpanplus/5.24.1/build/KDcaDxwy0I/HTTP-Session2-1.10/blib/lib/HTTP/Session2/Base.pm line 79.
	HTTP::Session2::Base::__ANON__(HTTP::Session2::ClientStore=HASH(0x8062b8cf0), "s3cret") called at t/03_mech.t line 127
	main::client_session(HASH(0x805b9c600)) called at t/03_mech.t line 17
	main::__ANON__(HASH(0x805b9c600)) called at /usr/home/cpan/pit/thr/conf/perl-5.24.1/.cpanplus/5.24.1/build/kCW4928qF_/Test-WWW-Mechanize-PSGI-0.38/blib/lib/Test/WWW/Mechanize/PSGI.pm line 43
	Test::WWW::Mechanize::PSGI::try {...} () called at /usr/home/cpan/pit/thr/conf/perl-5.24.1/.cpanplus/5.24.1/build/h2sDZ7ONUF/Try-Tiny-0.30/blib/lib/Try/Tiny.pm line 102
	eval {...} called at /usr/home/cpan/pit/thr/conf/perl-5.24.1/.cpanplus/5.24.1/build/h2sDZ7ONUF/Try-Tiny-0.30/blib/lib/Try/Tiny.pm line 93
	Try::Tiny::try(CODE(0x8062b8558), Try::Tiny::Catch=REF(0x8062b8540)) called at /usr/home/cpan/pit/thr/conf/perl-5.24.1/.cpanplus/5.24.1/build/kCW4928qF_/Test-WWW-Mechanize-PSGI-0.38/blib/lib/Test/WWW/Mechanize/PSGI.pm line 50
	Test::WWW::Mechanize::PSGI::simple_request(Test::WWW::Mechanize::PSGI=HASH(0x801a64468), HTTP::Request=HASH(0x8062b5ae0), undef, undef) called at /usr/home/cpan/pit/thr/conf/perl-5.24.1/.cpanplus/5.24.1/build/MHH2dAzQrK/libwww-perl-6.31/blib/lib/LWP/UserAgent.pm line 297
	LWP::UserAgent::request(Test::WWW::Mechanize::PSGI=HASH(0x801a64468), HTTP::Request=HASH(0x8062b5ae0)) called at /usr/home/cpan/pit/thr/conf/perl-5.24.1/.cpanplus/5.24.1/build/KX5o54IIPN/WWW-Mechanize-1.86/blib/lib/WWW/Mechanize.pm line 1413
	WWW::Mechanize::_make_request(Test::WWW::Mechanize::PSGI=HASH(0x801a64468), HTTP::Request=HASH(0x8062b5ae0)) called at /usr/home/cpan/pit/thr/conf/perl-5.24.1/.cpanplus/5.24.1/build/KX5o54IIPN/WWW-Mechanize-1.86/blib/lib/WWW/Mechanize.pm line 1253
	WWW::Mechanize::request(Test::WWW::Mechanize::PSGI=HASH(0x801a64468), HTTP::Request=HASH(0x8062b5ae0)) called at /usr/home/cpan/pit/thr/conf/perl-5.24.1/.cpanplus/5.24.1/build/MHH2dAzQrK/libwww-perl-6.31/blib/lib/LWP/UserAgent.pm line 435
	LWP::UserAgent::get(Test::WWW::Mechanize::PSGI=HASH(0x801a64468), "http://localhost/wishlist") called at /usr/home/cpan/pit/thr/conf/perl-5.24.1/.cpanplus/5.24.1/build/KX5o54IIPN/WWW-Mechanize-1.86/blib/lib/WWW/Mechanize.pm line 117
	WWW::Mechanize::get(Test::WWW::Mechanize::PSGI=HASH(0x801a64468), "/wishlist") called at /usr/home/cpan/pit/thr/conf/perl-5.24.1/.cpanplus/5.24.1/build/Lsq0GVhuoI/Test-WWW-Mechanize-1.48/blib/lib/Test/WWW/Mechanize.pm line 160
	Test::WWW::Mechanize::get_ok(Test::WWW::Mechanize::PSGI=HASH(0x801a64468), "/wishlist") called at t/03_mech.t line 76
Do not use HTTP::Session2::ClientStore. Use HTTP::Session2::ServerStore or HTTP::Session2::ClientStore2 instead. at /usr/home/cpan/pit/thr/conf/perl-5.24.1/.cpanplus/5.24.1/build/KDcaDxwy0I/HTTP-Session2-1.10/blib/lib/HTTP/Session2/ClientStore.pm line 35.
Secret string too short at /usr/home/cpan/pit/thr/conf/perl-5.24.1/.cpanplus/5.24.1/build/KDcaDxwy0I/HTTP-Session2-1.10/blib/lib/HTTP/Session2/Base.pm line 79.
	HTTP::Session2::Base::__ANON__(HTTP::Session2::ClientStore=HASH(0x805b9c828), "s3cret") called at t/03_mech.t line 127
	main::client_session(HASH(0x8062b5e88)) called at t/03_mech.t line 17
	main::__ANON__(HASH(0x8062b5e88)) called at /usr/home/cpan/pit/thr/conf/perl-5.24.1/.cpanplus/5.24.1/build/kCW4928qF_/Test-WWW-Mechanize-PSGI-0.38/blib/lib/Test/WWW/Mechanize/PSGI.pm line 43
	Test::WWW::Mechanize::PSGI::try {...} () called at /usr/home/cpan/pit/thr/conf/perl-5.24.1/.cpanplus/5.24.1/build/h2sDZ7ONUF/Try-Tiny-0.30/blib/lib/Try/Tiny.pm line 102
	eval {...} called at /usr/home/cpan/pit/thr/conf/perl-5.24.1/.cpanplus/5.24.1/build/h2sDZ7ONUF/Try-Tiny-0.30/blib/lib/Try/Tiny.pm line 93
	Try::Tiny::try(CODE(0x8062b8dc8), Try::Tiny::Catch=REF(0x8062b8c60)) called at /usr/home/cpan/pit/thr/conf/perl-5.24.1/.cpanplus/5.24.1/build/kCW4928qF_/Test-WWW-Mechanize-PSGI-0.38/blib/lib/Test/WWW/Mechanize/PSGI.pm line 50
	Test::WWW::Mechanize::PSGI::simple_request(Test::WWW::Mechanize::PSGI=HASH(0x801a64468), HTTP::Request=HASH(0x8062b8918), undef, undef) called at /usr/home/cpan/pit/thr/conf/perl-5.24.1/.cpanplus/5.24.1/build/MHH2dAzQrK/libwww-perl-6.31/blib/lib/LWP/UserAgent.pm line 297
	LWP::UserAgent::request(Test::WWW::Mechanize::PSGI=HASH(0x801a64468), HTTP::Request=HASH(0x8062b8918)) called at /usr/home/cpan/pit/thr/conf/perl-5.24.1/.cpanplus/5.24.1/build/KX5o54IIPN/WWW-Mechanize-1.86/blib/lib/WWW/Mechanize.pm line 1413
	WWW::Mechanize::_make_request(Test::WWW::Mechanize::PSGI=HASH(0x801a64468), HTTP::Request=HASH(0x8062b8918)) called at /usr/home/cpan/pit/thr/conf/perl-5.24.1/.cpanplus/5.24.1/build/KX5o54IIPN/WWW-Mechanize-1.86/blib/lib/WWW/Mechanize.pm line 1253
	WWW::Mechanize::request(Test::WWW::Mechanize::PSGI=HASH(0x801a64468), HTTP::Request=HASH(0x8062b8918)) called at /usr/home/cpan/pit/thr/conf/perl-5.24.1/.cpanplus/5.24.1/build/MHH2dAzQrK/libwww-perl-6.31/blib/lib/LWP/UserAgent.pm line 478
	LWP::UserAgent::post(Test::WWW::Mechanize::PSGI=HASH(0x801a64468), "/wishlist?bar") called at t/03_mech.t line 78
Do not use HTTP::Session2::ClientStore. Use HTTP::Session2::ServerStore or HTTP::Session2::ClientStore2 instead. at /usr/home/cpan/pit/thr/conf/perl-5.24.1/.cpanplus/5.24.1/build/KDcaDxwy0I/HTTP-Session2-1.10/blib/lib/HTTP/Session2/ClientStore.pm line 35.
Secret string too short at /usr/home/cpan/pit/thr/conf/perl-5.24.1/.cpanplus/5.24.1/build/KDcaDxwy0I/HTTP-Session2-1.10/blib/lib/HTTP/Session2/Base.pm line 79.
	HTTP::Session2::Base::__ANON__(HTTP::Session2::ClientStore=HASH(0x805b9c720), "s3cret") called at t/03_mech.t line 127
	main::client_session(HASH(0x8062b8a80)) called at t/03_mech.t line 17
	main::__ANON__(HASH(0x8062b8a80)) called at /usr/home/cpan/pit/thr/conf/perl-5.24.1/.cpanplus/5.24.1/build/kCW4928qF_/Test-WWW-Mechanize-PSGI-0.38/blib/lib/Test/WWW/Mechanize/PSGI.pm line 43
	Test::WWW::Mechanize::PSGI::try {...} () called at /usr/home/cpan/pit/thr/conf/perl-5.24.1/.cpanplus/5.24.1/build/h2sDZ7ONUF/Try-Tiny-0.30/blib/lib/Try/Tiny.pm line 102
	eval {...} called at /usr/home/cpan/pit/thr/conf/perl-5.24.1/.cpanplus/5.24.1/build/h2sDZ7ONUF/Try-Tiny-0.30/blib/lib/Try/Tiny.pm line 93
	Try::Tiny::try(CODE(0x805b9cc18), Try::Tiny::Catch=REF(0x805b9c3c0)) called at /usr/home/cpan/pit/thr/conf/perl-5.24.1/.cpanplus/5.24.1/build/kCW4928qF_/Test-WWW-Mechanize-PSGI-0.38/blib/lib/Test/WWW/Mechanize/PSGI.pm line 50
	Test::WWW::Mechanize::PSGI::simple_request(Test::WWW::Mechanize::PSGI=HASH(0x801a64468), HTTP::Request=HASH(0x806250db0), undef, undef) called at /usr/home/cpan/pit/thr/conf/perl-5.24.1/.cpanplus/5.24.1/build/MHH2dAzQrK/libwww-perl-6.31/blib/lib/LWP/UserAgent.pm line 297
	LWP::UserAgent::request(Test::WWW::Mechanize::PSGI=HASH(0x801a64468), HTTP::Request=HASH(0x806250db0)) called at /usr/home/cpan/pit/thr/conf/perl-5.24.1/.cpanplus/5.24.1/build/KX5o54IIPN/WWW-Mechanize-1.86/blib/lib/WWW/Mechanize.pm line 1413
	WWW::Mechanize::_make_request(Test::WWW::Mechanize::PSGI=HASH(0x801a64468), HTTP::Request=HASH(0x806250db0)) called at /usr/home/cpan/pit/thr/conf/perl-5.24.1/.cpanplus/5.24.1/build/KX5o54IIPN/WWW-Mechanize-1.86/blib/lib/WWW/Mechanize.pm line 1253
	WWW::Mechanize::request(Test::WWW::Mechanize::PSGI=HASH(0x801a64468), HTTP::Request=HASH(0x806250db0)) called at /usr/home/cpan/pit/thr/conf/perl-5.24.1/.cpanplus/5.24.1/build/MHH2dAzQrK/libwww-perl-6.31/blib/lib/LWP/UserAgent.pm line 478
	LWP::UserAgent::post(Test::WWW::Mechanize::PSGI=HASH(0x801a64468), "/wishlist?bar", HASH(0x804f78b28)) called at /usr/home/cpan/pit/thr/conf/perl-5.24.1/.cpanplus/5.24.1/build/Lsq0GVhuoI/Test-WWW-Mechanize-1.48/blib/lib/Test/WWW/Mechanize.pm line 237
	Test::WWW::Mechanize::post_ok(Test::WWW::Mechanize::PSGI=HASH(0x801a64468), "/wishlist?bar") called at t/03_mech.t line 81
Do not use HTTP::Session2::ClientStore. Use HTTP::Session2::ServerStore or HTTP::Session2::ClientStore2 instead. at /usr/home/cpan/pit/thr/conf/perl-5.24.1/.cpanplus/5.24.1/build/KDcaDxwy0I/HTTP-Session2-1.10/blib/lib/HTTP/Session2/ClientStore.pm line 35.
Do not use HTTP::Session2::ClientStore. Use HTTP::Session2::ServerStore or HTTP::Session2::ClientStore2 instead. at /usr/home/cpan/pit/thr/conf/perl-5.24.1/.cpanplus/5.24.1/build/KDcaDxwy0I/HTTP-Session2-1.10/blib/lib/HTTP/Session2/ClientStore.pm line 25.
Secret string too short at /usr/home/cpan/pit/thr/conf/perl-5.24.1/.cpanplus/5.24.1/build/KDcaDxwy0I/HTTP-Session2-1.10/blib/lib/HTTP/Session2/Base.pm line 79.
	HTTP::Session2::Base::__ANON__(HTTP::Session2::ClientStore=HASH(0x806250f90), "s3cret") called at t/03_mech.t line 127
	main::client_session(HASH(0x805b9ce70)) called at t/03_mech.t line 17
	main::__ANON__(HASH(0x805b9ce70)) called at /usr/home/cpan/pit/thr/conf/perl-5.24.1/.cpanplus/5.24.1/build/kCW4928qF_/Test-WWW-Mechanize-PSGI-0.38/blib/lib/Test/WWW/Mechanize/PSGI.pm line 43
	Test::WWW::Mechanize::PSGI::try {...} () called at /usr/home/cpan/pit/thr/conf/perl-5.24.1/.cpanplus/5.24.1/build/h2sDZ7ONUF/Try-Tiny-0.30/blib/lib/Try/Tiny.pm line 102
	eval {...} called at /usr/home/cpan/pit/thr/conf/perl-5.24.1/.cpanplus/5.24.1/build/h2sDZ7ONUF/Try-Tiny-0.30/blib/lib/Try/Tiny.pm line 93
	Try::Tiny::try(CODE(0x805b9c6d8), Try::Tiny::Catch=REF(0x8062b5318)) called at /usr/home/cpan/pit/thr/conf/perl-5.24.1/.cpanplus/5.24.1/build/kCW4928qF_/Test-WWW-Mechanize-PSGI-0.38/blib/lib/Test/WWW/Mechanize/PSGI.pm line 50
	Test::WWW::Mechanize::PSGI::simple_request(Test::WWW::Mechanize::PSGI=HASH(0x801a64468), HTTP::Request=HASH(0x806250600), undef, undef) called at /usr/home/cpan/pit/thr/conf/perl-5.24.1/.cpanplus/5.24.1/build/MHH2dAzQrK/libwww-perl-6.31/blib/lib/LWP/UserAgent.pm line 297
	LWP::UserAgent::request(Test::WWW::Mechanize::PSGI=HASH(0x801a64468), HTTP::Request=HASH(0x806250600)) called at /usr/home/cpan/pit/thr/conf/perl-5.24.1/.cpanplus/5.24.1/build/KX5o54IIPN/WWW-Mechanize-1.86/blib/lib/WWW/Mechanize.pm line 1413
	WWW::Mechanize::_make_request(Test::WWW::Mechanize::PSGI=HASH(0x801a64468), HTTP::Request=HASH(0x806250600)) called at /usr/home/cpan/pit/thr/conf/perl-5.24.1/.cpanplus/5.24.1/build/KX5o54IIPN/WWW-Mechanize-1.86/blib/lib/WWW/Mechanize.pm line 1253
	WWW::Mechanize::request(Test::WWW::Mechanize::PSGI=HASH(0x801a64468), HTTP::Request=HASH(0x806250600)) called at /usr/home/cpan/pit/thr/conf/perl-5.24.1/.cpanplus/5.24.1/build/MHH2dAzQrK/libwww-perl-6.31/blib/lib/LWP/UserAgent.pm line 435
	LWP::UserAgent::get(Test::WWW::Mechanize::PSGI=HASH(0x801a64468), "http://localhost/wishlist") called at /usr/home/cpan/pit/thr/conf/perl-5.24.1/.cpanplus/5.24.1/build/KX5o54IIPN/WWW-Mechanize-1.86/blib/lib/WWW/Mechanize.pm line 117
	WWW::Mechanize::get(Test::WWW::Mechanize::PSGI=HASH(0x801a64468), "/wishlist") called at /usr/home/cpan/pit/thr/conf/perl-5.24.1/.cpanplus/5.24.1/build/Lsq0GVhuoI/Test-WWW-Mechanize-1.48/blib/lib/Test/WWW/Mechanize.pm line 160
	Test::WWW::Mechanize::get_ok(Test::WWW::Mechanize::PSGI=HASH(0x801a64468), "/wishlist") called at t/03_mech.t line 82
Do not use HTTP::Session2::ClientStore. Use HTTP::Session2::ServerStore or HTTP::Session2::ClientStore2 instead. at /usr/home/cpan/pit/thr/conf/perl-5.24.1/.cpanplus/5.24.1/build/KDcaDxwy0I/HTTP-Session2-1.10/blib/lib/HTTP/Session2/ClientStore.pm line 35.
Secret string too short at /usr/home/cpan/pit/thr/conf/perl-5.24.1/.cpanplus/5.24.1/build/KDcaDxwy0I/HTTP-Session2-1.10/blib/lib/HTTP/Session2/Base.pm line 79.
	HTTP::Session2::Base::__ANON__(HTTP::Session2::ClientStore=HASH(0x806250738), "s3cret") called at t/03_mech.t line 127
	main::client_session(HASH(0x805b9c3d8)) called at t/03_mech.t line 17
	main::__ANON__(HASH(0x805b9c3d8)) called at /usr/home/cpan/pit/thr/conf/perl-5.24.1/.cpanplus/5.24.1/build/kCW4928qF_/Test-WWW-Mechanize-PSGI-0.38/blib/lib/Test/WWW/Mechanize/PSGI.pm line 43
	Test::WWW::Mechanize::PSGI::try {...} () called at /usr/home/cpan/pit/thr/conf/perl-5.24.1/.cpanplus/5.24.1/build/h2sDZ7ONUF/Try-Tiny-0.30/blib/lib/Try/Tiny.pm line 102
	eval {...} called at /usr/home/cpan/pit/thr/conf/perl-5.24.1/.cpanplus/5.24.1/build/h2sDZ7ONUF/Try-Tiny-0.30/blib/lib/Try/Tiny.pm line 93
	Try::Tiny::try(CODE(0x805a65798), Try::Tiny::Catch=REF(0x8062501c8)) called at /usr/home/cpan/pit/thr/conf/perl-5.24.1/.cpanplus/5.24.1/build/kCW4928qF_/Test-WWW-Mechanize-PSGI-0.38/blib/lib/Test/WWW/Mechanize/PSGI.pm line 50
	Test::WWW::Mechanize::PSGI::simple_request(Test::WWW::Mechanize::PSGI=HASH(0x801a64468), HTTP::Request=HASH(0x805b9c2d0), undef, undef) called at /usr/home/cpan/pit/thr/conf/perl-5.24.1/.cpanplus/5.24.1/build/MHH2dAzQrK/libwww-perl-6.31/blib/lib/LWP/UserAgent.pm line 297
	LWP::UserAgent::request(Test::WWW::Mechanize::PSGI=HASH(0x801a64468), HTTP::Request=HASH(0x805b9c2d0)) called at /usr/home/cpan/pit/thr/conf/perl-5.24.1/.cpanplus/5.24.1/build/KX5o54IIPN/WWW-Mechanize-1.86/blib/lib/WWW/Mechanize.pm line 1413
	WWW::Mechanize::_make_request(Test::WWW::Mechanize::PSGI=HASH(0x801a64468), HTTP::Request=HASH(0x805b9c2d0)) called at /usr/home/cpan/pit/thr/conf/perl-5.24.1/.cpanplus/5.24.1/build/KX5o54IIPN/WWW-Mechanize-1.86/blib/lib/WWW/Mechanize.pm line 1253
	WWW::Mechanize::request(Test::WWW::Mechanize::PSGI=HASH(0x801a64468), HTTP::Request=HASH(0x805b9c2d0)) called at /usr/home/cpan/pit/thr/conf/perl-5.24.1/.cpanplus/5.24.1/build/MHH2dAzQrK/libwww-perl-6.31/blib/lib/LWP/UserAgent.pm line 478
	LWP::UserAgent::post(Test::WWW::Mechanize::PSGI=HASH(0x801a64468), "/account/login?john", HASH(0x804f78b28)) called at /usr/home/cpan/pit/thr/conf/perl-5.24.1/.cpanplus/5.24.1/build/Lsq0GVhuoI/Test-WWW-Mechanize-1.48/blib/lib/Test/WWW/Mechanize.pm line 237
	Test::WWW::Mechanize::post_ok(Test::WWW::Mechanize::PSGI=HASH(0x801a64468), "/account/login?john") called at t/03_mech.t line 84
Do not use HTTP::Session2::ClientStore. Use HTTP::Session2::ServerStore or HTTP::Session2::ClientStore2 instead. at /usr/home/cpan/pit/thr/conf/perl-5.24.1/.cpanplus/5.24.1/build/KDcaDxwy0I/HTTP-Session2-1.10/blib/lib/HTTP/Session2/ClientStore.pm line 35.
Do not use HTTP::Session2::ClientStore. Use HTTP::Session2::ServerStore or HTTP::Session2::ClientStore2 instead. at /usr/home/cpan/pit/thr/conf/perl-5.24.1/.cpanplus/5.24.1/build/KDcaDxwy0I/HTTP-Session2-1.10/blib/lib/HTTP/Session2/ClientStore.pm line 35.
Do not use HTTP::Session2::ClientStore. Use HTTP::Session2::ServerStore or HTTP::Session2::ClientStore2 instead. at /usr/home/cpan/pit/thr/conf/perl-5.24.1/.cpanplus/5.24.1/build/KDcaDxwy0I/HTTP-Session2-1.10/blib/lib/HTTP/Session2/ClientStore.pm line 25.
Secret string too short at /usr/home/cpan/pit/thr/conf/perl-5.24.1/.cpanplus/5.24.1/build/KDcaDxwy0I/HTTP-Session2-1.10/blib/lib/HTTP/Session2/Base.pm line 79.
	HTTP::Session2::Base::__ANON__(HTTP::Session2::ClientStore=HASH(0x80621ad98), "s3cret") called at t/03_mech.t line 127
	main::client_session(HASH(0x805a657f8)) called at t/03_mech.t line 17
	main::__ANON__(HASH(0x805a657f8)) called at /usr/home/cpan/pit/thr/conf/perl-5.24.1/.cpanplus/5.24.1/build/kCW4928qF_/Test-WWW-Mechanize-PSGI-0.38/blib/lib/Test/WWW/Mechanize/PSGI.pm line 43
	Test::WWW::Mechanize::PSGI::try {...} () called at /usr/home/cpan/pit/thr/conf/perl-5.24.1/.cpanplus/5.24.1/build/h2sDZ7ONUF/Try-Tiny-0.30/blib/lib/Try/Tiny.pm line 102
	eval {...} called at /usr/home/cpan/pit/thr/conf/perl-5.24.1/.cpanplus/5.24.1/build/h2sDZ7ONUF/Try-Tiny-0.30/blib/lib/Try/Tiny.pm line 93
	Try::Tiny::try(CODE(0x805b9c8e8), Try::Tiny::Catch=REF(0x805a65888)) called at /usr/home/cpan/pit/thr/conf/perl-5.24.1/.cpanplus/5.24.1/build/kCW4928qF_/Test-WWW-Mechanize-PSGI-0.38/blib/lib/Test/WWW/Mechanize/PSGI.pm line 50
	Test::WWW::Mechanize::PSGI::simple_request(Test::WWW::Mechanize::PSGI=HASH(0x801a64468), HTTP::Request=HASH(0x80507b8e8), undef, undef) called at /usr/home/cpan/pit/thr/conf/perl-5.24.1/.cpanplus/5.24.1/build/MHH2dAzQrK/libwww-perl-6.31/blib/lib/LWP/UserAgent.pm line 297
	LWP::UserAgent::request(Test::WWW::Mechanize::PSGI=HASH(0x801a64468), HTTP::Request=HASH(0x80507b8e8)) called at /usr/home/cpan/pit/thr/conf/perl-5.24.1/.cpanplus/5.24.1/build/KX5o54IIPN/WWW-Mechanize-1.86/blib/lib/WWW/Mechanize.pm line 1413
	WWW::Mechanize::_make_request(Test::WWW::Mechanize::PSGI=HASH(0x801a64468), HTTP::Request=HASH(0x80507b8e8)) called at /usr/home/cpan/pit/thr/conf/perl-5.24.1/.cpanplus/5.24.1/build/KX5o54IIPN/WWW-Mechanize-1.86/blib/lib/WWW/Mechanize.pm line 1253
	WWW::Mechanize::request(Test::WWW::Mechanize::PSGI=HASH(0x801a64468), HTTP::Request=HASH(0x80507b8e8)) called at /usr/home/cpan/pit/thr/conf/perl-5.24.1/.cpanplus/5.24.1/build/MHH2dAzQrK/libwww-perl-6.31/blib/lib/LWP/UserAgent.pm line 435
	LWP::UserAgent::get(Test::WWW::Mechanize::PSGI=HASH(0x801a64468), "http://localhost/wishlist") called at /usr/home/cpan/pit/thr/conf/perl-5.24.1/.cpanplus/5.24.1/build/KX5o54IIPN/WWW-Mechanize-1.86/blib/lib/WWW/Mechanize.pm line 117
	WWW::Mechanize::get(Test::WWW::Mechanize::PSGI=HASH(0x801a64468), "/wishlist") called at /usr/home/cpan/pit/thr/conf/perl-5.24.1/.cpanplus/5.24.1/build/Lsq0GVhuoI/Test-WWW-Mechanize-1.48/blib/lib/Test/WWW/Mechanize.pm line 160
	Test::WWW::Mechanize::get_ok(Test::WWW::Mechanize::PSGI=HASH(0x801a64468), "/wishlist", "Wishlist is still available") called at t/03_mech.t line 85
Do not use HTTP::Session2::ClientStore. Use HTTP::Session2::ServerStore or HTTP::Session2::ClientStore2 instead. at /usr/home/cpan/pit/thr/conf/perl-5.24.1/.cpanplus/5.24.1/build/KDcaDxwy0I/HTTP-Session2-1.10/blib/lib/HTTP/Session2/ClientStore.pm line 35.
Secret string too short at /usr/home/cpan/pit/thr/conf/perl-5.24.1/.cpanplus/5.24.1/build/KDcaDxwy0I/HTTP-Session2-1.10/blib/lib/HTTP/Session2/Base.pm line 79.
	HTTP::Session2::Base::__ANON__(HTTP::Session2::ClientStore=HASH(0x806250918), "s3cret") called at t/03_mech.t line 127
	main::client_session(HASH(0x806250618)) called at t/03_mech.t line 17
	main::__ANON__(HASH(0x806250618)) called at /usr/home/cpan/pit/thr/conf/perl-5.24.1/.cpanplus/5.24.1/build/kCW4928qF_/Test-WWW-Mechanize-PSGI-0.38/blib/lib/Test/WWW/Mechanize/PSGI.pm line 43
	Test::WWW::Mechanize::PSGI::try {...} () called at /usr/home/cpan/pit/thr/conf/perl-5.24.1/.cpanplus/5.24.1/build/h2sDZ7ONUF/Try-Tiny-0.30/blib/lib/Try/Tiny.pm line 102
	eval {...} called at /usr/home/cpan/pit/thr/conf/perl-5.24.1/.cpanplus/5.24.1/build/h2sDZ7ONUF/Try-Tiny-0.30/blib/lib/Try/Tiny.pm line 93
	Try::Tiny::try(CODE(0x805b9cf90), Try::Tiny::Catch=REF(0x8062944c8)) called at /usr/home/cpan/pit/thr/conf/perl-5.24.1/.cpanplus/5.24.1/build/kCW4928qF_/Test-WWW-Mechanize-PSGI-0.38/blib/lib/Test/WWW/Mechanize/PSGI.pm line 50
	Test::WWW::Mechanize::PSGI::simple_request(Test::WWW::Mechanize::PSGI=HASH(0x801a64468), HTTP::Request=HASH(0x805b9cd68), undef, undef) called at /usr/home/cpan/pit/thr/conf/perl-5.24.1/.cpanplus/5.24.1/build/MHH2dAzQrK/libwww-perl-6.31/blib/lib/LWP/UserAgent.pm line 297
	LWP::UserAgent::request(Test::WWW::Mechanize::PSGI=HASH(0x801a64468), HTTP::Request=HASH(0x805b9cd68)) called at /usr/home/cpan/pit/thr/conf/perl-5.24.1/.cpanplus/5.24.1/build/KX5o54IIPN/WWW-Mechanize-1.86/blib/lib/WWW/Mechanize.pm line 1413
	WWW::Mechanize::_make_request(Test::WWW::Mechanize::PSGI=HASH(0x801a64468), HTTP::Request=HASH(0x805b9cd68)) called at /usr/home/cpan/pit/thr/conf/perl-5.24.1/.cpanplus/5.24.1/build/KX5o54IIPN/WWW-Mechanize-1.86/blib/lib/WWW/Mechanize.pm line 1253
	WWW::Mechanize::request(Test::WWW::Mechanize::PSGI=HASH(0x801a64468), HTTP::Request=HASH(0x805b9cd68)) called at /usr/home/cpan/pit/thr/conf/perl-5.24.1/.cpanplus/5.24.1/build/MHH2dAzQrK/libwww-perl-6.31/blib/lib/LWP/UserAgent.pm line 478
	LWP::UserAgent::post(Test::WWW::Mechanize::PSGI=HASH(0x801a64468), "/wishlist?baz") called at t/03_mech.t line 87
Do not use HTTP::Session2::ClientStore. Use HTTP::Session2::ServerStore or HTTP::Session2::ClientStore2 instead. at /usr/home/cpan/pit/thr/conf/perl-5.24.1/.cpanplus/5.24.1/build/KDcaDxwy0I/HTTP-Session2-1.10/blib/lib/HTTP/Session2/ClientStore.pm line 35.
Secret string too short at /usr/home/cpan/pit/thr/conf/perl-5.24.1/.cpanplus/5.24.1/build/KDcaDxwy0I/HTTP-Session2-1.10/blib/lib/HTTP/Session2/Base.pm line 79.
	HTTP::Session2::Base::__ANON__(HTTP::Session2::ClientStore=HASH(0x806294d38), "s3cret") called at t/03_mech.t line 127
	main::client_session(HASH(0x805b9ced0)) called at t/03_mech.t line 17
	main::__ANON__(HASH(0x805b9ced0)) called at /usr/home/cpan/pit/thr/conf/perl-5.24.1/.cpanplus/5.24.1/build/kCW4928qF_/Test-WWW-Mechanize-PSGI-0.38/blib/lib/Test/WWW/Mechanize/PSGI.pm line 43
	Test::WWW::Mechanize::PSGI::try {...} () called at /usr/home/cpan/pit/thr/conf/perl-5.24.1/.cpanplus/5.24.1/build/h2sDZ7ONUF/Try-Tiny-0.30/blib/lib/Try/Tiny.pm line 102
	eval {...} called at /usr/home/cpan/pit/thr/conf/perl-5.24.1/.cpanplus/5.24.1/build/h2sDZ7ONUF/Try-Tiny-0.30/blib/lib/Try/Tiny.pm line 93
	Try::Tiny::try(CODE(0x8062944c8), Try::Tiny::Catch=REF(0x806250ee8)) called at /usr/home/cpan/pit/thr/conf/perl-5.24.1/.cpanplus/5.24.1/build/kCW4928qF_/Test-WWW-Mechanize-PSGI-0.38/blib/lib/Test/WWW/Mechanize/PSGI.pm line 50
	Test::WWW::Mechanize::PSGI::simple_request(Test::WWW::Mechanize::PSGI=HASH(0x801a64468), HTTP::Request=HASH(0x806250d68), undef, undef) called at /usr/home/cpan/pit/thr/conf/perl-5.24.1/.cpanplus/5.24.1/build/MHH2dAzQrK/libwww-perl-6.31/blib/lib/LWP/UserAgent.pm line 297
	LWP::UserAgent::request(Test::WWW::Mechanize::PSGI=HASH(0x801a64468), HTTP::Request=HASH(0x806250d68)) called at /usr/home/cpan/pit/thr/conf/perl-5.24.1/.cpanplus/5.24.1/build/KX5o54IIPN/WWW-Mechanize-1.86/blib/lib/WWW/Mechanize.pm line 1413
	WWW::Mechanize::_make_request(Test::WWW::Mechanize::PSGI=HASH(0x801a64468), HTTP::Request=HASH(0x806250d68)) called at /usr/home/cpan/pit/thr/conf/perl-5.24.1/.cpanplus/5.24.1/build/KX5o54IIPN/WWW-Mechanize-1.86/blib/lib/WWW/Mechanize.pm line 1253
	WWW::Mechanize::request(Test::WWW::Mechanize::PSGI=HASH(0x801a64468), HTTP::Request=HASH(0x806250d68)) called at /usr/home/cpan/pit/thr/conf/perl-5.24.1/.cpanplus/5.24.1/build/MHH2dAzQrK/libwww-perl-6.31/blib/lib/LWP/UserAgent.pm line 478
	LWP::UserAgent::post(Test::WWW::Mechanize::PSGI=HASH(0x801a64468), "/wishlist?baz", HASH(0x804f78b28)) called at /usr/home/cpan/pit/thr/conf/perl-5.24.1/.cpanplus/5.24.1/build/Lsq0GVhuoI/Test-WWW-Mechanize-1.48/blib/lib/Test/WWW/Mechanize.pm line 237
	Test::WWW::Mechanize::post_ok(Test::WWW::Mechanize::PSGI=HASH(0x801a64468), "/wishlist?baz") called at t/03_mech.t line 90
Do not use HTTP::Session2::ClientStore. Use HTTP::Session2::ServerStore or HTTP::Session2::ClientStore2 instead. at /usr/home/cpan/pit/thr/conf/perl-5.24.1/.cpanplus/5.24.1/build/KDcaDxwy0I/HTTP-Session2-1.10/blib/lib/HTTP/Session2/ClientStore.pm line 35.
Do not use HTTP::Session2::ClientStore. Use HTTP::Session2::ServerStore or HTTP::Session2::ClientStore2 instead. at /usr/home/cpan/pit/thr/conf/perl-5.24.1/.cpanplus/5.24.1/build/KDcaDxwy0I/HTTP-Session2-1.10/blib/lib/HTTP/Session2/ClientStore.pm line 25.
Secret string too short at /usr/home/cpan/pit/thr/conf/perl-5.24.1/.cpanplus/5.24.1/build/KDcaDxwy0I/HTTP-Session2-1.10/blib/lib/HTTP/Session2/Base.pm line 79.
	HTTP::Session2::Base::__ANON__(HTTP::Session2::ClientStore=HASH(0x806294ea0), "s3cret") called at t/03_mech.t line 127
	main::client_session(HASH(0x8062949a8)) called at t/03_mech.t line 17
	main::__ANON__(HASH(0x8062949a8)) called at /usr/home/cpan/pit/thr/conf/perl-5.24.1/.cpanplus/5.24.1/build/kCW4928qF_/Test-WWW-Mechanize-PSGI-0.38/blib/lib/Test/WWW/Mechanize/PSGI.pm line 43
	Test::WWW::Mechanize::PSGI::try {...} () called at /usr/home/cpan/pit/thr/conf/perl-5.24.1/.cpanplus/5.24.1/build/h2sDZ7ONUF/Try-Tiny-0.30/blib/lib/Try/Tiny.pm line 102
	eval {...} called at /usr/home/cpan/pit/thr/conf/perl-5.24.1/.cpanplus/5.24.1/build/h2sDZ7ONUF/Try-Tiny-0.30/blib/lib/Try/Tiny.pm line 93
	Try::Tiny::try(CODE(0x8062230d8), Try::Tiny::Catch=REF(0x8062949f0)) called at /usr/home/cpan/pit/thr/conf/perl-5.24.1/.cpanplus/5.24.1/build/kCW4928qF_/Test-WWW-Mechanize-PSGI-0.38/blib/lib/Test/WWW/Mechanize/PSGI.pm line 50
	Test::WWW::Mechanize::PSGI::simple_request(Test::WWW::Mechanize::PSGI=HASH(0x801a64468), HTTP::Request=HASH(0x805b9cee8), undef, undef) called at /usr/home/cpan/pit/thr/conf/perl-5.24.1/.cpanplus/5.24.1/build/MHH2dAzQrK/libwww-perl-6.31/blib/lib/LWP/UserAgent.pm line 297
	LWP::UserAgent::request(Test::WWW::Mechanize::PSGI=HASH(0x801a64468), HTTP::Request=HASH(0x805b9cee8)) called at /usr/home/cpan/pit/thr/conf/perl-5.24.1/.cpanplus/5.24.1/build/KX5o54IIPN/WWW-Mechanize-1.86/blib/lib/WWW/Mechanize.pm line 1413
	WWW::Mechanize::_make_request(Test::WWW::Mechanize::PSGI=HASH(0x801a64468), HTTP::Request=HASH(0x805b9cee8)) called at /usr/home/cpan/pit/thr/conf/perl-5.24.1/.cpanplus/5.24.1/build/KX5o54IIPN/WWW-Mechanize-1.86/blib/lib/WWW/Mechanize.pm line 1253
	WWW::Mechanize::request(Test::WWW::Mechanize::PSGI=HASH(0x801a64468), HTTP::Request=HASH(0x805b9cee8)) called at /usr/home/cpan/pit/thr/conf/perl-5.24.1/.cpanplus/5.24.1/build/MHH2dAzQrK/libwww-perl-6.31/blib/lib/LWP/UserAgent.pm line 435
	LWP::UserAgent::get(Test::WWW::Mechanize::PSGI=HASH(0x801a64468), "http://localhost/wishlist") called at /usr/home/cpan/pit/thr/conf/perl-5.24.1/.cpanplus/5.24.1/build/KX5o54IIPN/WWW-Mechanize-1.86/blib/lib/WWW/Mechanize.pm line 117
	WWW::Mechanize::get(Test::WWW::Mechanize::PSGI=HASH(0x801a64468), "/wishlist") called at /usr/home/cpan/pit/thr/conf/perl-5.24.1/.cpanplus/5.24.1/build/Lsq0GVhuoI/Test-WWW-Mechanize-1.48/blib/lib/Test/WWW/Mechanize.pm line 160
	Test::WWW::Mechanize::get_ok(Test::WWW::Mechanize::PSGI=HASH(0x801a64468), "/wishlist", "Wishlist is still available") called at t/03_mech.t line 91
Do not use HTTP::Session2::ClientStore. Use HTTP::Session2::ServerStore or HTTP::Session2::ClientStore2 instead. at /usr/home/cpan/pit/thr/conf/perl-5.24.1/.cpanplus/5.24.1/build/KDcaDxwy0I/HTTP-Session2-1.10/blib/lib/HTTP/Session2/ClientStore.pm line 35.
Secret string too short at /usr/home/cpan/pit/thr/conf/perl-5.24.1/.cpanplus/5.24.1/build/KDcaDxwy0I/HTTP-Session2-1.10/blib/lib/HTTP/Session2/Base.pm line 79.
	HTTP::Session2::Base::__ANON__(HTTP::Session2::ClientStore=HASH(0x8062236c0), "s3cret") called at t/03_mech.t line 127
	main::client_session(HASH(0x806294828)) called at t/03_mech.t line 17
	main::__ANON__(HASH(0x806294828)) called at /usr/home/cpan/pit/thr/conf/perl-5.24.1/.cpanplus/5.24.1/build/kCW4928qF_/Test-WWW-Mechanize-PSGI-0.38/blib/lib/Test/WWW/Mechanize/PSGI.pm line 43
	Test::WWW::Mechanize::PSGI::try {...} () called at /usr/home/cpan/pit/thr/conf/perl-5.24.1/.cpanplus/5.24.1/build/h2sDZ7ONUF/Try-Tiny-0.30/blib/lib/Try/Tiny.pm line 102
	eval {...} called at /usr/home/cpan/pit/thr/conf/perl-5.24.1/.cpanplus/5.24.1/build/h2sDZ7ONUF/Try-Tiny-0.30/blib/lib/Try/Tiny.pm line 93
	Try::Tiny::try(CODE(0x806250408), Try::Tiny::Catch=REF(0x805a65438)) called at /usr/home/cpan/pit/thr/conf/perl-5.24.1/.cpanplus/5.24.1/build/kCW4928qF_/Test-WWW-Mechanize-PSGI-0.38/blib/lib/Test/WWW/Mechanize/PSGI.pm line 50
	Test::WWW::Mechanize::PSGI::simple_request(Test::WWW::Mechanize::PSGI=HASH(0x801a64468), HTTP::Request=HASH(0x8062234f8), undef, undef) called at /usr/home/cpan/pit/thr/conf/perl-5.24.1/.cpanplus/5.24.1/build/MHH2dAzQrK/libwww-perl-6.31/blib/lib/LWP/UserAgent.pm line 297
	LWP::UserAgent::request(Test::WWW::Mechanize::PSGI=HASH(0x801a64468), HTTP::Request=HASH(0x8062234f8)) called at /usr/home/cpan/pit/thr/conf/perl-5.24.1/.cpanplus/5.24.1/build/KX5o54IIPN/WWW-Mechanize-1.86/blib/lib/WWW/Mechanize.pm line 1413
	WWW::Mechanize::_make_request(Test::WWW::Mechanize::PSGI=HASH(0x801a64468), HTTP::Request=HASH(0x8062234f8)) called at /usr/home/cpan/pit/thr/conf/perl-5.24.1/.cpanplus/5.24.1/build/KX5o54IIPN/WWW-Mechanize-1.86/blib/lib/WWW/Mechanize.pm line 1253
	WWW::Mechanize::request(Test::WWW::Mechanize::PSGI=HASH(0x801a64468), HTTP::Request=HASH(0x8062234f8)) called at /usr/home/cpan/pit/thr/conf/perl-5.24.1/.cpanplus/5.24.1/build/MHH2dAzQrK/libwww-perl-6.31/blib/lib/LWP/UserAgent.pm line 435
	LWP::UserAgent::get(Test::WWW::Mechanize::PSGI=HASH(0x801a64468), "http://localhost/my/name") called at /usr/home/cpan/pit/thr/conf/perl-5.24.1/.cpanplus/5.24.1/build/KX5o54IIPN/WWW-Mechanize-1.86/blib/lib/WWW/Mechanize.pm line 117
	WWW::Mechanize::get(Test::WWW::Mechanize::PSGI=HASH(0x801a64468), "/my/name") called at /usr/home/cpan/pit/thr/conf/perl-5.24.1/.cpanplus/5.24.1/build/Lsq0GVhuoI/Test-WWW-Mechanize-1.48/blib/lib/Test/WWW/Mechanize.pm line 160
	Test::WWW::Mechanize::get_ok(Test::WWW::Mechanize::PSGI=HASH(0x801a64468), "/my/name") called at t/03_mech.t line 93
Do not use HTTP::Session2::ClientStore. Use HTTP::Session2::ServerStore or HTTP::Session2::ClientStore2 instead. at /usr/home/cpan/pit/thr/conf/perl-5.24.1/.cpanplus/5.24.1/build/KDcaDxwy0I/HTTP-Session2-1.10/blib/lib/HTTP/Session2/ClientStore.pm line 35.
Secret string too short at /usr/home/cpan/pit/thr/conf/perl-5.24.1/.cpanplus/5.24.1/build/KDcaDxwy0I/HTTP-Session2-1.10/blib/lib/HTTP/Session2/Base.pm line 79.
	HTTP::Session2::Base::__ANON__(HTTP::Session2::ClientStore=HASH(0x806223cc0), "s3cret") called at t/03_mech.t line 127
	main::client_session(HASH(0x806223a08)) called at t/03_mech.t line 17
	main::__ANON__(HASH(0x806223a08)) called at /usr/home/cpan/pit/thr/conf/perl-5.24.1/.cpanplus/5.24.1/build/kCW4928qF_/Test-WWW-Mechanize-PSGI-0.38/blib/lib/Test/WWW/Mechanize/PSGI.pm line 43
	Test::WWW::Mechanize::PSGI::try {...} () called at /usr/home/cpan/pit/thr/conf/perl-5.24.1/.cpanplus/5.24.1/build/h2sDZ7ONUF/Try-Tiny-0.30/blib/lib/Try/Tiny.pm line 102
	eval {...} called at /usr/home/cpan/pit/thr/conf/perl-5.24.1/.cpanplus/5.24.1/build/h2sDZ7ONUF/Try-Tiny-0.30/blib/lib/Try/Tiny.pm line 93
	Try::Tiny::try(CODE(0x806223738), Try::Tiny::Catch=REF(0x806223408)) called at /usr/home/cpan/pit/thr/conf/perl-5.24.1/.cpanplus/5.24.1/build/kCW4928qF_/Test-WWW-Mechanize-PSGI-0.38/blib/lib/Test/WWW/Mechanize/PSGI.pm line 50
	Test::WWW::Mechanize::PSGI::simple_request(Test::WWW::Mechanize::PSGI=HASH(0x801a64468), HTTP::Request=HASH(0x806223750), undef, undef) called at /usr/home/cpan/pit/thr/conf/perl-5.24.1/.cpanplus/5.24.1/build/MHH2dAzQrK/libwww-perl-6.31/blib/lib/LWP/UserAgent.pm line 297
	LWP::UserAgent::request(Test::WWW::Mechanize::PSGI=HASH(0x801a64468), HTTP::Request=HASH(0x806223750)) called at /usr/home/cpan/pit/thr/conf/perl-5.24.1/.cpanplus/5.24.1/build/KX5o54IIPN/WWW-Mechanize-1.86/blib/lib/WWW/Mechanize.pm line 1413
	WWW::Mechanize::_make_request(Test::WWW::Mechanize::PSGI=HASH(0x801a64468), HTTP::Request=HASH(0x806223750)) called at /usr/home/cpan/pit/thr/conf/perl-5.24.1/.cpanplus/5.24.1/build/KX5o54IIPN/WWW-Mechanize-1.86/blib/lib/WWW/Mechanize.pm line 1253
	WWW::Mechanize::request(Test::WWW::Mechanize::PSGI=HASH(0x801a64468), HTTP::Request=HASH(0x806223750)) called at /usr/home/cpan/pit/thr/conf/perl-5.24.1/.cpanplus/5.24.1/build/MHH2dAzQrK/libwww-perl-6.31/blib/lib/LWP/UserAgent.pm line 478
	LWP::UserAgent::post(Test::WWW::Mechanize::PSGI=HASH(0x801a64468), "/account/logout?john") called at t/03_mech.t line 97
Do not use HTTP::Session2::ClientStore. Use HTTP::Session2::ServerStore or HTTP::Session2::ClientStore2 instead. at /usr/home/cpan/pit/thr/conf/perl-5.24.1/.cpanplus/5.24.1/build/KDcaDxwy0I/HTTP-Session2-1.10/blib/lib/HTTP/Session2/ClientStore.pm line 35.
Do not use HTTP::Session2::ClientStore. Use HTTP::Session2::ServerStore or HTTP::Session2::ClientStore2 instead. at /usr/home/cpan/pit/thr/conf/perl-5.24.1/.cpanplus/5.24.1/build/KDcaDxwy0I/HTTP-Session2-1.10/blib/lib/HTTP/Session2/ClientStore.pm line 35.
t/03_mech.t ................. ok
Do not use HTTP::Session2::ClientStore. Use HTTP::Session2::ServerStore or HTTP::Session2::ClientStore2 instead. at /usr/home/cpan/pit/thr/conf/perl-5.24.1/.cpanplus/5.24.1/build/KDcaDxwy0I/HTTP-Session2-1.10/blib/lib/HTTP/Session2/ClientStore.pm line 25.
t/04_plack_response.t ....... ok
Secret string too short at /usr/home/cpan/pit/thr/conf/perl-5.24.1/.cpanplus/5.24.1/build/KDcaDxwy0I/HTTP-Session2-1.10/blib/lib/HTTP/Session2/Base.pm line 79.
	HTTP::Session2::Base::__ANON__(HTTP::Session2::ClientStore=HASH(0x803ec4660), "s3cret") called at t/05_keep_me_signed_in.t line 20
Do not use HTTP::Session2::ClientStore. Use HTTP::Session2::ServerStore or HTTP::Session2::ClientStore2 instead. at /usr/home/cpan/pit/thr/conf/perl-5.24.1/.cpanplus/5.24.1/build/KDcaDxwy0I/HTTP-Session2-1.10/blib/lib/HTTP/Session2/ClientStore.pm line 25.
t/05_keep_me_signed_in.t .... ok
Secret string too short at /usr/home/cpan/pit/thr/conf/perl-5.24.1/.cpanplus/5.24.1/build/KDcaDxwy0I/HTTP-Session2-1.10/blib/lib/HTTP/Session2/Base.pm line 79.
	HTTP::Session2::Base::__ANON__(HTTP::Session2::Base=HASH(0x802d373c0), "i am secret") called at t/06_base_abstract.t line 7
t/06_base_abstract.t ........ ok
Secret string too short at /usr/home/cpan/pit/thr/conf/perl-5.24.1/.cpanplus/5.24.1/build/KDcaDxwy0I/HTTP-Session2-1.10/blib/lib/HTTP/Session2/Base.pm line 79.
	HTTP::Session2::Base::__ANON__(HTTP::Session2::ClientStore=HASH(0x8049ab558), "secret") called at t/07_client_store.t line 23
	main::__ANON__() called at /usr/home/cpan/pit/thr/perl-5.24.1/lib/site_perl/5.24.1/Test/Builder.pm line 326
	eval {...} called at /usr/home/cpan/pit/thr/perl-5.24.1/lib/site_perl/5.24.1/Test/Builder.pm line 326
	Test::Builder::subtest(Test::Builder=HASH(0x801b4a420), "get/set/remove", CODE(0x803ec1468)) called at /usr/home/cpan/pit/thr/perl-5.24.1/lib/site_perl/5.24.1/Test/More.pm line 807
	Test::More::subtest("get/set/remove", CODE(0x803ec1468)) called at t/07_client_store.t line 31
Secret string too short at /usr/home/cpan/pit/thr/conf/perl-5.24.1/.cpanplus/5.24.1/build/KDcaDxwy0I/HTTP-Session2-1.10/blib/lib/HTTP/Session2/Base.pm line 79.
	HTTP::Session2::Base::__ANON__(HTTP::Session2::ClientStore=HASH(0x8049cfdc8), "secret") called at t/07_client_store.t line 35
	main::__ANON__() called at /usr/home/cpan/pit/thr/perl-5.24.1/lib/site_perl/5.24.1/Test/Builder.pm line 326
	eval {...} called at /usr/home/cpan/pit/thr/perl-5.24.1/lib/site_perl/5.24.1/Test/Builder.pm line 326
	Test::Builder::subtest(Test::Builder=HASH(0x801b4a420), "validate_token", CODE(0x803ec1780)) called at /usr/home/cpan/pit/thr/perl-5.24.1/lib/site_perl/5.24.1/Test/More.pm line 807
	Test::More::subtest("validate_token", CODE(0x803ec1780)) called at t/07_client_store.t line 71
Do not use HTTP::Session2::ClientStore. Use HTTP::Session2::ServerStore or HTTP::Session2::ClientStore2 instead. at /usr/home/cpan/pit/thr/conf/perl-5.24.1/.cpanplus/5.24.1/build/KDcaDxwy0I/HTTP-Session2-1.10/blib/lib/HTTP/Session2/ClientStore.pm line 25.
Secret string too short at /usr/home/cpan/pit/thr/conf/perl-5.24.1/.cpanplus/5.24.1/build/KDcaDxwy0I/HTTP-Session2-1.10/blib/lib/HTTP/Session2/Base.pm line 79.
	HTTP::Session2::Base::__ANON__(HTTP::Session2::ClientStore=HASH(0x8052252a0), "secret") called at t/07_client_store.t line 51
	main::__ANON__() called at /usr/home/cpan/pit/thr/perl-5.24.1/lib/site_perl/5.24.1/Test/Builder.pm line 326
	eval {...} called at /usr/home/cpan/pit/thr/perl-5.24.1/lib/site_perl/5.24.1/Test/Builder.pm line 326
	Test::Builder::subtest(Test::Builder=HASH(0x801b4a420), "bad", CODE(0x8049ab420)) called at /usr/home/cpan/pit/thr/perl-5.24.1/lib/site_perl/5.24.1/Test/More.pm line 807
	Test::More::subtest("bad", CODE(0x8049ab420)) called at t/07_client_store.t line 57
	main::__ANON__() called at /usr/home/cpan/pit/thr/perl-5.24.1/lib/site_perl/5.24.1/Test/Builder.pm line 326
	eval {...} called at /usr/home/cpan/pit/thr/perl-5.24.1/lib/site_perl/5.24.1/Test/Builder.pm line 326
	Test::Builder::subtest(Test::Builder=HASH(0x801b4a420), "validate_token", CODE(0x803ec1780)) called at /usr/home/cpan/pit/thr/perl-5.24.1/lib/site_perl/5.24.1/Test/More.pm line 807
	Test::More::subtest("validate_token", CODE(0x803ec1780)) called at t/07_client_store.t line 71
Do not use HTTP::Session2::ClientStore. Use HTTP::Session2::ServerStore or HTTP::Session2::ClientStore2 instead. at /usr/home/cpan/pit/thr/conf/perl-5.24.1/.cpanplus/5.24.1/build/KDcaDxwy0I/HTTP-Session2-1.10/blib/lib/HTTP/Session2/ClientStore.pm line 35.
Secret string too short at /usr/home/cpan/pit/thr/conf/perl-5.24.1/.cpanplus/5.24.1/build/KDcaDxwy0I/HTTP-Session2-1.10/blib/lib/HTTP/Session2/Base.pm line 79.
	HTTP::Session2::Base::__ANON__(HTTP::Session2::ClientStore=HASH(0x80523e5e8), "secret") called at t/07_client_store.t line 65
	main::__ANON__() called at /usr/home/cpan/pit/thr/perl-5.24.1/lib/site_perl/5.24.1/Test/Builder.pm line 326
	eval {...} called at /usr/home/cpan/pit/thr/perl-5.24.1/lib/site_perl/5.24.1/Test/Builder.pm line 326
	Test::Builder::subtest(Test::Builder=HASH(0x801b4a420), "good", CODE(0x8049ab420)) called at /usr/home/cpan/pit/thr/perl-5.24.1/lib/site_perl/5.24.1/Test/More.pm line 807
	Test::More::subtest("good", CODE(0x8049ab420)) called at t/07_client_store.t line 70
	main::__ANON__() called at /usr/home/cpan/pit/thr/perl-5.24.1/lib/site_perl/5.24.1/Test/Builder.pm line 326
	eval {...} called at /usr/home/cpan/pit/thr/perl-5.24.1/lib/site_perl/5.24.1/Test/Builder.pm line 326
	Test::Builder::subtest(Test::Builder=HASH(0x801b4a420), "validate_token", CODE(0x803ec1780)) called at /usr/home/cpan/pit/thr/perl-5.24.1/lib/site_perl/5.24.1/Test/More.pm line 807
	Test::More::subtest("validate_token", CODE(0x803ec1780)) called at t/07_client_store.t line 71
Do not use HTTP::Session2::ClientStore. Use HTTP::Session2::ServerStore or HTTP::Session2::ClientStore2 instead. at /usr/home/cpan/pit/thr/conf/perl-5.24.1/.cpanplus/5.24.1/build/KDcaDxwy0I/HTTP-Session2-1.10/blib/lib/HTTP/Session2/ClientStore.pm line 35.
Secret string too short at /usr/home/cpan/pit/thr/conf/perl-5.24.1/.cpanplus/5.24.1/build/KDcaDxwy0I/HTTP-Session2-1.10/blib/lib/HTTP/Session2/Base.pm line 79.
	HTTP::Session2::Base::__ANON__(HTTP::Session2::ClientStore=HASH(0x805242090), "secret") called at t/07_client_store.t line 76
	main::__ANON__() called at /usr/home/cpan/pit/thr/perl-5.24.1/lib/site_perl/5.24.1/Test/Builder.pm line 326
	eval {...} called at /usr/home/cpan/pit/thr/perl-5.24.1/lib/site_perl/5.24.1/Test/Builder.pm line 326
	Test::Builder::subtest(Test::Builder=HASH(0x801b4a420), "ignore_old", CODE(0x803ec1ab0)) called at /usr/home/cpan/pit/thr/perl-5.24.1/lib/site_perl/5.24.1/Test/More.pm line 807
	Test::More::subtest("ignore_old", CODE(0x803ec1ab0)) called at t/07_client_store.t line 106
Do not use HTTP::Session2::ClientStore. Use HTTP::Session2::ServerStore or HTTP::Session2::ClientStore2 instead. at /usr/home/cpan/pit/thr/conf/perl-5.24.1/.cpanplus/5.24.1/build/KDcaDxwy0I/HTTP-Session2-1.10/blib/lib/HTTP/Session2/ClientStore.pm line 25.
Secret string too short at /usr/home/cpan/pit/thr/conf/perl-5.24.1/.cpanplus/5.24.1/build/KDcaDxwy0I/HTTP-Session2-1.10/blib/lib/HTTP/Session2/Base.pm line 79.
	HTTP::Session2::Base::__ANON__(HTTP::Session2::ClientStore=HASH(0x8049cfee8), "secret") called at t/07_client_store.t line 87
	main::__ANON__() called at /usr/home/cpan/pit/thr/perl-5.24.1/lib/site_perl/5.24.1/Test/Builder.pm line 326
	eval {...} called at /usr/home/cpan/pit/thr/perl-5.24.1/lib/site_perl/5.24.1/Test/Builder.pm line 326
	Test::Builder::subtest(Test::Builder=HASH(0x801b4a420), "ignore_old disabled", CODE(0x805225918)) called at /usr/home/cpan/pit/thr/perl-5.24.1/lib/site_perl/5.24.1/Test/More.pm line 807
	Test::More::subtest("ignore_old disabled", CODE(0x805225918)) called at t/07_client_store.t line 95
	main::__ANON__() called at /usr/home/cpan/pit/thr/perl-5.24.1/lib/site_perl/5.24.1/Test/Builder.pm line 326
	eval {...} called at /usr/home/cpan/pit/thr/perl-5.24.1/lib/site_perl/5.24.1/Test/Builder.pm line 326
	Test::Builder::subtest(Test::Builder=HASH(0x801b4a420), "ignore_old", CODE(0x803ec1ab0)) called at /usr/home/cpan/pit/thr/perl-5.24.1/lib/site_perl/5.24.1/Test/More.pm line 807
	Test::More::subtest("ignore_old", CODE(0x803ec1ab0)) called at t/07_client_store.t line 106
Do not use HTTP::Session2::ClientStore. Use HTTP::Session2::ServerStore or HTTP::Session2::ClientStore2 instead. at /usr/home/cpan/pit/thr/conf/perl-5.24.1/.cpanplus/5.24.1/build/KDcaDxwy0I/HTTP-Session2-1.10/blib/lib/HTTP/Session2/ClientStore.pm line 35.
Secret string too short at /usr/home/cpan/pit/thr/conf/perl-5.24.1/.cpanplus/5.24.1/build/KDcaDxwy0I/HTTP-Session2-1.10/blib/lib/HTTP/Session2/Base.pm line 79.
	HTTP::Session2::Base::__ANON__(HTTP::Session2::ClientStore=HASH(0x8049cf180), "secret") called at t/07_client_store.t line 97
	main::__ANON__() called at /usr/home/cpan/pit/thr/perl-5.24.1/lib/site_perl/5.24.1/Test/Builder.pm line 326
	eval {...} called at /usr/home/cpan/pit/thr/perl-5.24.1/lib/site_perl/5.24.1/Test/Builder.pm line 326
	Test::Builder::subtest(Test::Builder=HASH(0x801b4a420), "ignore_old enabled", CODE(0x805225918)) called at /usr/home/cpan/pit/thr/perl-5.24.1/lib/site_perl/5.24.1/Test/More.pm line 807
	Test::More::subtest("ignore_old enabled", CODE(0x805225918)) called at t/07_client_store.t line 105
	main::__ANON__() called at /usr/home/cpan/pit/thr/perl-5.24.1/lib/site_perl/5.24.1/Test/Builder.pm line 326
	eval {...} called at /usr/home/cpan/pit/thr/perl-5.24.1/lib/site_perl/5.24.1/Test/Builder.pm line 326
	Test::Builder::subtest(Test::Builder=HASH(0x801b4a420), "ignore_old", CODE(0x803ec1ab0)) called at /usr/home/cpan/pit/thr/perl-5.24.1/lib/site_perl/5.24.1/Test/More.pm line 807
	Test::More::subtest("ignore_old", CODE(0x803ec1ab0)) called at t/07_client_store.t line 106
t/07_client_store.t ......... ok
Secret string too short at /usr/home/cpan/pit/thr/conf/perl-5.24.1/.cpanplus/5.24.1/build/KDcaDxwy0I/HTTP-Session2-1.10/blib/lib/HTTP/Session2/Base.pm line 79.
	HTTP::Session2::Base::__ANON__(HTTP::Session2::Expired=HASH(0x801a66840), 33333) called at t/08_expired.t line 7
t/08_expired.t .............. ok
# /dev/urandom available
# /dev/urandom(1): joXTsewP1D-HHOFeaaWETXYEy6Bd-R1
# /dev/urandom(2): dp6hWhxWXlFCqYKmv7vbFDz8YRala8j
# perl:            d4d630a00add39a77aac8bbd2d1eae9
t/09_random.t ............... ok
t/11_secret_string.t ........ ok
Secret string too short at /usr/home/cpan/pit/thr/conf/perl-5.24.1/.cpanplus/5.24.1/build/KDcaDxwy0I/HTTP-Session2-1.10/blib/lib/HTTP/Session2/Base.pm line 79.
	HTTP::Session2::Base::__ANON__(HTTP::Session2::ClientStore2=HASH(0x803d91d50), "s3cret") called at t/client_store2/01_basic.t line 24
	main::__ANON__("client -> server: request without cookie", CODE(0x803d91b88)) called at t/client_store2/01_basic.t line 30
	main::__ANON__() called at /usr/home/cpan/pit/thr/perl-5.24.1/lib/site_perl/5.24.1/Test/Builder.pm line 326
	eval {...} called at /usr/home/cpan/pit/thr/perl-5.24.1/lib/site_perl/5.24.1/Test/Builder.pm line 326
	Test::Builder::subtest(Test::Builder=HASH(0x801b463f0), "First request", CODE(0x801a31498)) called at /usr/home/cpan/pit/thr/perl-5.24.1/lib/site_perl/5.24.1/Test/More.pm line 807
	Test::More::subtest("First request", CODE(0x801a31498)) called at t/client_store2/01_basic.t line 9
	main::scenario("First request", CODE(0x801a31498)) called at t/client_store2/01_basic.t line 36
Secret string too short at /usr/home/cpan/pit/thr/conf/perl-5.24.1/.cpanplus/5.24.1/build/KDcaDxwy0I/HTTP-Session2-1.10/blib/lib/HTTP/Session2/Base.pm line 79.
	HTTP::Session2::Base::__ANON__(HTTP::Session2::ClientStore2=HASH(0x803d6b6c0), "s3cret") called at t/client_store2/01_basic.t line 41
	main::__ANON__("client -> server: request without cookie", CODE(0x803d918d0)) called at t/client_store2/01_basic.t line 47
	main::__ANON__() called at /usr/home/cpan/pit/thr/perl-5.24.1/lib/site_perl/5.24.1/Test/Builder.pm line 326
	eval {...} called at /usr/home/cpan/pit/thr/perl-5.24.1/lib/site_perl/5.24.1/Test/Builder.pm line 326
	Test::Builder::subtest(Test::Builder=HASH(0x801b463f0), "Store something without login", CODE(0x801a31498)) called at /usr/home/cpan/pit/thr/perl-5.24.1/lib/site_perl/5.24.1/Test/More.pm line 807
	Test::More::subtest("Store something without login", CODE(0x801a31498)) called at t/client_store2/01_basic.t line 9
	main::scenario("Store something without login", CODE(0x801a31498)) called at t/client_store2/01_basic.t line 63
Secret string too short at /usr/home/cpan/pit/thr/conf/perl-5.24.1/.cpanplus/5.24.1/build/KDcaDxwy0I/HTTP-Session2-1.10/blib/lib/HTTP/Session2/Base.pm line 79.
	HTTP::Session2::Base::__ANON__(HTTP::Session2::ClientStore2=HASH(0x803d95690), "s3cret") called at t/client_store2/01_basic.t line 69
	main::__ANON__("client -> server: request without cookie", CODE(0x803d95828)) called at t/client_store2/01_basic.t line 76
	main::__ANON__() called at /usr/home/cpan/pit/thr/perl-5.24.1/lib/site_perl/5.24.1/Test/Builder.pm line 326
	eval {...} called at /usr/home/cpan/pit/thr/perl-5.24.1/lib/site_perl/5.24.1/Test/Builder.pm line 326
	Test::Builder::subtest(Test::Builder=HASH(0x801b463f0), "Login", CODE(0x801a31498)) called at /usr/home/cpan/pit/thr/perl-5.24.1/lib/site_perl/5.24.1/Test/More.pm line 807
	Test::More::subtest("Login", CODE(0x801a31498)) called at t/client_store2/01_basic.t line 9
	main::scenario("Login", CODE(0x801a31498)) called at t/client_store2/01_basic.t line 96
Ciphertext does not begin with a valid header for 'salt' header mode at /usr/home/cpan/pit/thr/conf/perl-5.24.1/.cpanplus/5.24.1/build/KDcaDxwy0I/HTTP-Session2-1.10/blib/lib/HTTP/Session2/ClientStore2.pm line 81.
Ciphertext does not begin with a valid header for 'salt' header mode at /usr/home/cpan/pit/thr/conf/perl-5.24.1/.cpanplus/5.24.1/build/KDcaDxwy0I/HTTP-Session2-1.10/blib/lib/HTTP/Session2/ClientStore2.pm line 81.
Secret string too short at /usr/home/cpan/pit/thr/conf/perl-5.24.1/.cpanplus/5.24.1/build/KDcaDxwy0I/HTTP-Session2-1.10/blib/lib/HTTP/Session2/Base.pm line 79.
	HTTP::Session2::Base::__ANON__(HTTP::Session2::ClientStore2=HASH(0x803d91ae0), "s3cret") called at t/client_store2/01_basic.t line 102
	main::__ANON__("client -> server: request without cookie", CODE(0x802c9f138)) called at t/client_store2/01_basic.t line 109
	main::__ANON__() called at /usr/home/cpan/pit/thr/perl-5.24.1/lib/site_perl/5.24.1/Test/Builder.pm line 326
	eval {...} called at /usr/home/cpan/pit/thr/perl-5.24.1/lib/site_perl/5.24.1/Test/Builder.pm line 326
	Test::Builder::subtest(Test::Builder=HASH(0x801b463f0), "In a login session", CODE(0x801a31498)) called at /usr/home/cpan/pit/thr/perl-5.24.1/lib/site_perl/5.24.1/Test/More.pm line 807
	Test::More::subtest("In a login session", CODE(0x801a31498)) called at t/client_store2/01_basic.t line 9
	main::scenario("In a login session", CODE(0x801a31498)) called at t/client_store2/01_basic.t line 118
Ciphertext does not begin with a valid header for 'salt' header mode at /usr/home/cpan/pit/thr/conf/perl-5.24.1/.cpanplus/5.24.1/build/KDcaDxwy0I/HTTP-Session2-1.10/blib/lib/HTTP/Session2/ClientStore2.pm line 81.
Secret string too short at /usr/home/cpan/pit/thr/conf/perl-5.24.1/.cpanplus/5.24.1/build/KDcaDxwy0I/HTTP-Session2-1.10/blib/lib/HTTP/Session2/Base.pm line 79.
	HTTP::Session2::Base::__ANON__(HTTP::Session2::ClientStore2=HASH(0x803d95d98), "s3cret") called at t/client_store2/01_basic.t line 123
	main::__ANON__("client -> server: request without cookie", CODE(0x803d95978)) called at t/client_store2/01_basic.t line 130
	main::__ANON__() called at /usr/home/cpan/pit/thr/perl-5.24.1/lib/site_perl/5.24.1/Test/Builder.pm line 326
	eval {...} called at /usr/home/cpan/pit/thr/perl-5.24.1/lib/site_perl/5.24.1/Test/Builder.pm line 326
	Test::Builder::subtest(Test::Builder=HASH(0x801b463f0), "Logout", CODE(0x801a31498)) called at /usr/home/cpan/pit/thr/perl-5.24.1/lib/site_perl/5.24.1/Test/More.pm line 807
	Test::More::subtest("Logout", CODE(0x801a31498)) called at t/client_store2/01_basic.t line 9
	main::scenario("Logout", CODE(0x801a31498)) called at t/client_store2/01_basic.t line 143
Ciphertext does not begin with a valid header for 'salt' header mode at /usr/home/cpan/pit/thr/conf/perl-5.24.1/.cpanplus/5.24.1/build/KDcaDxwy0I/HTTP-Session2-1.10/blib/lib/HTTP/Session2/ClientStore2.pm line 81.
t/client_store2/01_basic.t .. ok
t/client_store2/02_mech.t ... ok
t/client_store2/03_colon.t .. ok
All tests successful.
Files=14, Tests=84, 13 wallclock secs ( 0.14 usr  0.20 sys +  3.63 cusr  7.48 csys = 11.45 CPU)
Result: PASS


PREREQUISITES:

Here is a list of prerequisites you specified and versions we
managed to load:

	  Module Name                        Have     Want
	  Cookie::Baker                      0.08        0
	  Crypt::CBC                         2.33        0
	  Crypt::Rijndael                    1.13        0
	  Data::MessagePack                  1.00        0
	  Digest::HMAC                       1.03        0
	  Digest::SHA                        5.97        0
	  Digest::SHA1                       2.13        0
	  MIME::Base64                       3.15     3.11
	  Mouse                            v2.5.1        0
	  Plack::Request                   1.0045        0
	  Plack::Response                  1.0045        0
	  Test::More                     1.302096     0.98
	  Test::WWW::Mechanize::PSGI         0.38        0
	  Time::HiRes                      1.9741        0
	  parent                            0.234        0

Perl module toolchain versions installed:
	Module Name                        Have
	CPANPLUS                         0.9170
	CPANPLUS::Dist::Build              0.88
	Cwd                             3.63_01
	ExtUtils::CBuilder             0.280226
	ExtUtils::Command                  7.30
	ExtUtils::Install                  2.14
	ExtUtils::MakeMaker                7.30
	ExtUtils::Manifest                 1.70
	ExtUtils::ParseXS                  3.35
	File::Spec                      3.63_01
	Module::Build                    0.4224
	Pod::Parser                        1.63
	Pod::Simple                        3.32
	Test2                          1.302096
	Test::Harness                      3.39
	Test::More                     1.302096
	version                          0.9918

******************************** NOTE ********************************
The comments above are created mechanically, possibly without manual
checking by the sender.  As there are many people performing automatic
tests on each upload to CPAN, it is likely that you will receive
identical messages about the same problem.

If you believe that the message is mistaken, please reply to the first
one with correction and/or additional informations, and do not take
it personally.  We appreciate your patience. :)
**********************************************************************

Additional comments:


This report was machine-generated by CPANPLUS::Dist::YACSmoke 1.02.
Powered by minismokebox version 0.68

------------------------------
ENVIRONMENT AND OTHER CONTEXT
------------------------------

Environment variables:

    AUTOMATED_TESTING = 1
    NONINTERACTIVE_TESTING = 1
    PATH = /usr/home/cpan/pit/thr/conf/perl-5.24.1/.cpanplus/5.24.1/build/KX5o54IIPN/WWW-Mechanize-1.86/blib/script:/usr/home/cpan/pit/thr/conf/perl-5.24.1/.cpanplus/5.24.1/build/MHH2dAzQrK/libwww-perl-6.31/blib/script:/usr/home/cpan/pit/thr/conf/perl-5.24.1/.cpanplus/5.24.1/build/lljWdWo6gF/HTML-Tree-5.07/blib/script:/usr/home/cpan/pit/thr/conf/perl-5.24.1/.cpanplus/5.24.1/build/AzcyVx_jci/Plack-1.0045/blib/script:/usr/home/cpan/pit/thr/conf/perl-5.24.1/.cpanplus/5.24.1/build/9jqtSumtEb/Cpanel-JSON-XS-3.0239/blib/script:/sbin:/bin:/usr/sbin:/usr/bin:/usr/local/sbin:/usr/local/bin:/home/cpan/bin
    PERL5LIB = :/usr/home/cpan/pit/thr/conf/perl-5.24.1/.cpanplus/5.24.1/build/cQPjVBVTFk/ExtUtils-Config-0.008/blib/lib:/usr/home/cpan/pit/thr/conf/perl-5.24.1/.cpanplus/5.24.1/build/cQPjVBVTFk/ExtUtils-Config-0.008/blib/arch:/usr/home/cpan/pit/thr/conf/perl-5.24.1/.cpanplus/5.24.1/build/9m9uo_rRzc/ExtUtils-Helpers-0.026/blib/lib:/usr/home/cpan/pit/thr/conf/perl-5.24.1/.cpanplus/5.24.1/build/9m9uo_rRzc/ExtUtils-Helpers-0.026/blib/arch:/usr/home/cpan/pit/thr/conf/perl-5.24.1/.cpanplus/5.24.1/build/RInMX8AOcd/ExtUtils-InstallPaths-0.011/blib/lib:/usr/home/cpan/pit/thr/conf/perl-5.24.1/.cpanplus/5.24.1/build/RInMX8AOcd/ExtUtils-InstallPaths-0.011/blib/arch:/usr/home/cpan/pit/thr/conf/perl-5.24.1/.cpanplus/5.24.1/build/5kmXgq2JfO/Module-Build-Tiny-0.039/blib/lib:/usr/home/cpan/pit/thr/conf/perl-5.24.1/.cpanplus/5.24.1/build/5kmXgq2JfO/Module-Build-Tiny-0.039/blib/arch:/usr/home/cpan/pit/thr/conf/perl-5.24.1/.cpanplus/5.24.1/build/6tBuguJQgl/Test-Time-0.05/blib/lib:/usr/home/cpan/pit/thr/conf/perl-5.24.1/.cpanplus/5.24.1/build/6tBuguJQgl/Test-Time-0.05/blib/arch:/usr/home/cpan/pit/thr/conf/perl-5.24.1/.cpanplus/5.24.1/build/hnjz7dPNXc/Test-Needs-0.002005/blib/lib:/usr/home/cpan/pit/thr/conf/perl-5.24.1/.cpanplus/5.24.1/build/hnjz7dPNXc/Test-Needs-0.002005/blib/arch:/usr/home/cpan/pit/thr/conf/perl-5.24.1/.cpanplus/5.24.1/build/m7AQplS71M/URI-1.73/blib/lib:/usr/home/cpan/pit/thr/conf/perl-5.24.1/.cpanplus/5.24.1/build/m7AQplS71M/URI-1.73/blib/arch:/usr/home/cpan/pit/thr/conf/perl-5.24.1/.cpanplus/5.24.1/build/8cn9rYf6Pt/Cookie-Baker-0.08/blib/lib:/usr/home/cpan/pit/thr/conf/perl-5.24.1/.cpanplus/5.24.1/build/8cn9rYf6Pt/Cookie-Baker-0.08/blib/arch:/usr/home/cpan/pit/thr/conf/perl-5.24.1/.cpanplus/5.24.1/build/R0zCzWB6Ax/Crypt-CBC-2.33/blib/lib:/usr/home/cpan/pit/thr/conf/perl-5.24.1/.cpanplus/5.24.1/build/R0zCzWB6Ax/Crypt-CBC-2.33/blib/arch:/usr/home/cpan/pit/thr/conf/perl-5.24.1/.cpanplus/5.24.1/build/5vZW_KoUDb/Crypt-Rijndael-1.13/blib/lib:/usr/home/cpan/pit/thr/conf/perl-5.24.1/.cpanplus/5.24.1/build/5vZW_KoUDb/Crypt-Rijndael-1.13/blib/arch:/usr/home/cpan/pit/thr/conf/perl-5.24.1/.cpanplus/5.24.1/build/YVwRrVQh53/Test-Requires-0.10/blib/lib:/usr/home/cpan/pit/thr/conf/perl-5.24.1/.cpanplus/5.24.1/build/YVwRrVQh53/Test-Requires-0.10/blib/arch:/usr/home/cpan/pit/thr/conf/perl-5.24.1/.cpanplus/5.24.1/build/X3dG0lLOmP/Data-MessagePack-1.00/blib/lib:/usr/home/cpan/pit/thr/conf/perl-5.24.1/.cpanplus/5.24.1/build/X3dG0lLOmP/Data-MessagePack-1.00/blib/arch:/usr/home/cpan/pit/thr/conf/perl-5.24.1/.cpanplus/5.24.1/build/baUQQH_mjI/Digest-HMAC-1.03/blib/lib:/usr/home/cpan/pit/thr/conf/perl-5.24.1/.cpanplus/5.24.1/build/baUQQH_mjI/Digest-HMAC-1.03/blib/arch:/usr/home/cpan/pit/thr/conf/perl-5.24.1/.cpanplus/5.24.1/build/q127VQrv3Y/Digest-SHA1-2.13/blib/lib:/usr/home/cpan/pit/thr/conf/perl-5.24.1/.cpanplus/5.24.1/build/q127VQrv3Y/Digest-SHA1-2.13/blib/arch:/usr/home/cpan/pit/thr/conf/perl-5.24.1/.cpanplus/5.24.1/build/MJ0HJJPvq4/Sub-Uplevel-0.2800/blib/lib:/usr/home/cpan/pit/thr/conf/perl-5.24.1/.cpanplus/5.24.1/build/MJ0HJJPvq4/Sub-Uplevel-0.2800/blib/arch:/usr/home/cpan/pit/thr/conf/perl-5.24.1/.cpanplus/5.24.1/build/lw61EHLAsm/Test-Exception-0.43/blib/lib:/usr/home/cpan/pit/thr/conf/perl-5.24.1/.cpanplus/5.24.1/build/lw61EHLAsm/Test-Exception-0.43/blib/arch:/usr/home/cpan/pit/thr/conf/perl-5.24.1/.cpanplus/5.24.1/build/h2sDZ7ONUF/Try-Tiny-0.30/blib/lib:/usr/home/cpan/pit/thr/conf/perl-5.24.1/.cpanplus/5.24.1/build/h2sDZ7ONUF/Try-Tiny-0.30/blib/arch:/usr/home/cpan/pit/thr/conf/perl-5.24.1/.cpanplus/5.24.1/build/wsc0zOdlnV/Test-Fatal-0.014/blib/lib:/usr/home/cpan/pit/thr/conf/perl-5.24.1/.cpanplus/5.24.1/build/wsc0zOdlnV/Test-Fatal-0.014/blib/arch:/usr/home/cpan/pit/thr/conf/perl-5.24.1/.cpanplus/5.24.1/build/g5pByDvgS3/Test-LeakTrace-0.16/blib/lib:/usr/home/cpan/pit/thr/conf/perl-5.24.1/.cpanplus/5.24.1/build/g5pByDvgS3/Test-LeakTrace-0.16/blib/arch:/usr/home/cpan/pit/thr/conf/perl-5.24.1/.cpanplus/5.24.1/build/BBtoyCm1N3/Capture-Tiny-0.46/blib/lib:/usr/home/cpan/pit/thr/conf/perl-5.24.1/.cpanplus/5.24.1/build/BBtoyCm1N3/Capture-Tiny-0.46/blib/arch:/usr/home/cpan/pit/thr/conf/perl-5.24.1/.cpanplus/5.24.1/build/47tYxXAIfU/Test-Output-1.031/blib/lib:/usr/home/cpan/pit/thr/conf/perl-5.24.1/.cpanplus/5.24.1/build/47tYxXAIfU/Test-Output-1.031/blib/arch:/usr/home/cpan/pit/thr/conf/perl-5.24.1/.cpanplus/5.24.1/build/hLxlPwSh1p/Mouse-v2.5.1/blib/lib:/usr/home/cpan/pit/thr/conf/perl-5.24.1/.cpanplus/5.24.1/build/hLxlPwSh1p/Mouse-v2.5.1/blib/arch:/usr/home/cpan/pit/thr/conf/perl-5.24.1/.cpanplus/5.24.1/build/Ea5rkjTgvX/Encode-Locale-1.05/blib/lib:/usr/home/cpan/pit/thr/conf/perl-5.24.1/.cpanplus/5.24.1/build/Ea5rkjTgvX/Encode-Locale-1.05/blib/arch:/usr/home/cpan/pit/thr/conf/perl-5.24.1/.cpanplus/5.24.1/build/jic5yzpep5/HTTP-Date-6.02/blib/lib:/usr/home/cpan/pit/thr/conf/perl-5.24.1/.cpanplus/5.24.1/build/jic5yzpep5/HTTP-Date-6.02/blib/arch:/usr/home/cpan/pit/thr/conf/perl-5.24.1/.cpanplus/5.24.1/build/Hsik0Iu4Vp/IO-HTML-1.001/blib/lib:/usr/home/cpan/pit/thr/conf/perl-5.24.1/.cpanplus/5.24.1/build/Hsik0Iu4Vp/IO-HTML-1.001/blib/arch:/usr/home/cpan/pit/thr/conf/perl-5.24.1/.cpanplus/5.24.1/build/7sy7EYf7Ak/LWP-MediaTypes-6.02/blib/lib:/usr/home/cpan/pit/thr/conf/perl-5.24.1/.cpanplus/5.24.1/build/7sy7EYf7Ak/LWP-MediaTypes-6.02/blib/arch:/usr/home/cpan/pit/thr/conf/perl-5.24.1/.cpanplus/5.24.1/build/l1Gf51_0pG/HTTP-Message-6.14/blib/lib:/usr/home/cpan/pit/thr/conf/perl-5.24.1/.cpanplus/5.24.1/build/l1Gf51_0pG/HTTP-Message-6.14/blib/arch:/usr/home/cpan/pit/thr/conf/perl-5.24.1/.cpanplus/5.24.1/build/wUNjc806Zx/POSIX-strftime-Compiler-0.42/blib/lib:/usr/home/cpan/pit/thr/conf/perl-5.24.1/.cpanplus/5.24.1/build/wUNjc806Zx/POSIX-strftime-Compiler-0.42/blib/arch:/usr/home/cpan/pit/thr/conf/perl-5.24.1/.cpanplus/5.24.1/build/P5uybBthhD/Test-MockTime-0.15/blib/lib:/usr/home/cpan/pit/thr/conf/perl-5.24.1/.cpanplus/5.24.1/build/P5uybBthhD/Test-MockTime-0.15/blib/arch:/usr/home/cpan/pit/thr/conf/perl-5.24.1/.cpanplus/5.24.1/build/4lsPq5i6Km/Apache-LogFormat-Compiler-0.35/blib/lib:/usr/home/cpan/pit/thr/conf/perl-5.24.1/.cpanplus/5.24.1/build/4lsPq5i6Km/Apache-LogFormat-Compiler-0.35/blib/arch:/usr/home/cpan/pit/thr/conf/perl-5.24.1/.cpanplus/5.24.1/build/iWK3w1LjwN/Devel-StackTrace-2.03/blib/lib:/usr/home/cpan/pit/thr/conf/perl-5.24.1/.cpanplus/5.24.1/build/iWK3w1LjwN/Devel-StackTrace-2.03/blib/arch:/usr/home/cpan/pit/thr/conf/perl-5.24.1/.cpanplus/5.24.1/build/K4QpTXCBpk/Devel-StackTrace-AsHTML-0.15/blib/lib:/usr/home/cpan/pit/thr/conf/perl-5.24.1/.cpanplus/5.24.1/build/K4QpTXCBpk/Devel-StackTrace-AsHTML-0.15/blib/arch:/usr/home/cpan/pit/thr/conf/perl-5.24.1/.cpanplus/5.24.1/build/FV2DzDqBTW/Class-Inspector-1.32/blib/lib:/usr/home/cpan/pit/thr/conf/perl-5.24.1/.cpanplus/5.24.1/build/FV2DzDqBTW/Class-Inspector-1.32/blib/arch:/usr/home/cpan/pit/thr/conf/perl-5.24.1/.cpanplus/5.24.1/build/7Zjl9eiy5l/File-ShareDir-Install-0.11/blib/lib:/usr/home/cpan/pit/thr/conf/perl-5.24.1/.cpanplus/5.24.1/build/7Zjl9eiy5l/File-ShareDir-Install-0.11/blib/arch:/usr/home/cpan/pit/thr/conf/perl-5.24.1/.cpanplus/5.24.1/build/xPWryjQjvJ/File-ShareDir-1.104/blib/lib:/usr/home/cpan/pit/thr/conf/perl-5.24.1/.cpanplus/5.24.1/build/xPWryjQjvJ/File-ShareDir-1.104/blib/arch:/usr/home/cpan/pit/thr/conf/perl-5.24.1/.cpanplus/5.24.1/build/ZPdHYNrtK9/Test-SharedFork-0.35/blib/lib:/usr/home/cpan/pit/thr/conf/perl-5.24.1/.cpanplus/5.24.1/build/ZPdHYNrtK9/Test-SharedFork-0.35/blib/arch:/usr/home/cpan/pit/thr/conf/perl-5.24.1/.cpanplus/5.24.1/build/BWLp29GDl9/Filesys-Notify-Simple-0.12/blib/lib:/usr/home/cpan/pit/thr/conf/perl-5.24.1/.cpanplus/5.24.1/build/BWLp29GDl9/Filesys-Notify-Simple-0.12/blib/arch:/usr/home/cpan/pit/thr/conf/perl-5.24.1/.cpanplus/5.24.1/build/gdQiewVk49/Test-Deep-1.127/blib/lib:/usr/home/cpan/pit/thr/conf/perl-5.24.1/.cpanplus/5.24.1/build/gdQiewVk49/Test-Deep-1.127/blib/arch:/usr/home/cpan/pit/thr/conf/perl-5.24.1/.cpanplus/5.24.1/build/f1paSBUNTq/HTTP-MultiPartParser-0.02/blib/lib:/usr/home/cpan/pit/thr/conf/perl-5.24.1/.cpanplus/5.24.1/build/f1paSBUNTq/HTTP-MultiPartParser-0.02/blib/arch:/usr/home/cpan/pit/thr/conf/perl-5.24.1/.cpanplus/5.24.1/build/m6JFdA81k_/Hash-MultiValue-0.16/blib/lib:/usr/home/cpan/pit/thr/conf/perl-5.24.1/.cpanplus/5.24.1/build/m6JFdA81k_/Hash-MultiValue-0.16/blib/arch:/usr/home/cpan/pit/thr/conf/perl-5.24.1/.cpanplus/5.24.1/build/9jqtSumtEb/Cpanel-JSON-XS-3.0239/blib/lib:/usr/home/cpan/pit/thr/conf/perl-5.24.1/.cpanplus/5.24.1/build/9jqtSumtEb/Cpanel-JSON-XS-3.0239/blib/arch:/usr/home/cpan/pit/thr/conf/perl-5.24.1/.cpanplus/5.24.1/build/E0CPi37nIn/JSON-MaybeXS-1.003010/blib/lib:/usr/home/cpan/pit/thr/conf/perl-5.24.1/.cpanplus/5.24.1/build/E0CPi37nIn/JSON-MaybeXS-1.003010/blib/arch:/usr/home/cpan/pit/thr/conf/perl-5.24.1/.cpanplus/5.24.1/build/pVXYV60cCc/Stream-Buffered-0.03/blib/lib:/usr/home/cpan/pit/thr/conf/perl-5.24.1/.cpanplus/5.24.1/build/pVXYV60cCc/Stream-Buffered-0.03/blib/arch:/usr/home/cpan/pit/thr/conf/perl-5.24.1/.cpanplus/5.24.1/build/6NCNxWrpXx/JSON-2.97001/blib/lib:/usr/home/cpan/pit/thr/conf/perl-5.24.1/.cpanplus/5.24.1/build/6NCNxWrpXx/JSON-2.97001/blib/arch:/usr/home/cpan/pit/thr/conf/perl-5.24.1/.cpanplus/5.24.1/build/VOUZRr3OTX/WWW-Form-UrlEncoded-0.24/blib/lib:/usr/home/cpan/pit/thr/conf/perl-5.24.1/.cpanplus/5.24.1/build/VOUZRr3OTX/WWW-Form-UrlEncoded-0.24/blib/arch:/usr/home/cpan/pit/thr/conf/perl-5.24.1/.cpanplus/5.24.1/build/nkXM4tS7MF/HTTP-Entity-Parser-0.20/blib/lib:/usr/home/cpan/pit/thr/conf/perl-5.24.1/.cpanplus/5.24.1/build/nkXM4tS7MF/HTTP-Entity-Parser-0.20/blib/arch:/usr/home/cpan/pit/thr/conf/perl-5.24.1/.cpanplus/5.24.1/build/7m0uEEyDtn/HTTP-Headers-Fast-0.21/blib/lib:/usr/home/cpan/pit/thr/conf/perl-5.24.1/.cpanplus/5.24.1/build/7m0uEEyDtn/HTTP-Headers-Fast-0.21/blib/arch:/usr/home/cpan/pit/thr/conf/perl-5.24.1/.cpanplus/5.24.1/build/v_1v1Cpt28/Test-TCP-2.19/blib/lib:/usr/home/cpan/pit/thr/conf/perl-5.24.1/.cpanplus/5.24.1/build/v_1v1Cpt28/Test-TCP-2.19/blib/arch:/usr/home/cpan/pit/thr/conf/perl-5.24.1/.cpanplus/5.24.1/build/AzcyVx_jci/Plack-1.0045/blib/lib:/usr/home/cpan/pit/thr/conf/perl-5.24.1/.cpanplus/5.24.1/build/AzcyVx_jci/Plack-1.0045/blib/arch:/usr/home/cpan/pit/thr/conf/perl-5.24.1/.cpanplus/5.24.1/build/b0NsydWr6Q/HTML-Tagset-3.20/blib/lib:/usr/home/cpan/pit/thr/conf/perl-5.24.1/.cpanplus/5.24.1/build/b0NsydWr6Q/HTML-Tagset-3.20/blib/arch:/usr/home/cpan/pit/thr/conf/perl-5.24.1/.cpanplus/5.24.1/build/xiWclfk_6e/HTML-Parser-3.72/blib/lib:/usr/home/cpan/pit/thr/conf/perl-5.24.1/.cpanplus/5.24.1/build/xiWclfk_6e/HTML-Parser-3.72/blib/arch:/usr/home/cpan/pit/thr/conf/perl-5.24.1/.cpanplus/5.24.1/build/Q4Je88L1Ma/Test-NoWarnings-1.04/blib/lib:/usr/home/cpan/pit/thr/conf/perl-5.24.1/.cpanplus/5.24.1/build/Q4Je88L1Ma/Test-NoWarnings-1.04/blib/arch:/usr/home/cpan/pit/thr/conf/perl-5.24.1/.cpanplus/5.24.1/build/EJimVcsRLQ/Test-Warn-0.32/blib/lib:/usr/home/cpan/pit/thr/conf/perl-5.24.1/.cpanplus/5.24.1/build/EJimVcsRLQ/Test-Warn-0.32/blib/arch:/usr/home/cpan/pit/thr/conf/perl-5.24.1/.cpanplus/5.24.1/build/vr9pOg3U0O/CGI-4.38/blib/lib:/usr/home/cpan/pit/thr/conf/perl-5.24.1/.cpanplus/5.24.1/build/vr9pOg3U0O/CGI-4.38/blib/arch:/usr/home/cpan/pit/thr/conf/perl-5.24.1/.cpanplus/5.24.1/build/PzX34wrAPx/Carp-Assert-0.21/blib/lib:/usr/home/cpan/pit/thr/conf/perl-5.24.1/.cpanplus/5.24.1/build/PzX34wrAPx/Carp-Assert-0.21/blib/arch:/usr/home/cpan/pit/thr/conf/perl-5.24.1/.cpanplus/5.24.1/build/VR8QJn6anm/Carp-Assert-More-1.16/blib/lib:/usr/home/cpan/pit/thr/conf/perl-5.24.1/.cpanplus/5.24.1/build/VR8QJn6anm/Carp-Assert-More-1.16/blib/arch:/usr/home/cpan/pit/thr/conf/perl-5.24.1/.cpanplus/5.24.1/build/lljWdWo6gF/HTML-Tree-5.07/blib/lib:/usr/home/cpan/pit/thr/conf/perl-5.24.1/.cpanplus/5.24.1/build/lljWdWo6gF/HTML-Tree-5.07/blib/arch:/usr/home/cpan/pit/thr/conf/perl-5.24.1/.cpanplus/5.24.1/build/w4A71jywpn/HTTP-Server-Simple-0.52/blib/lib:/usr/home/cpan/pit/thr/conf/perl-5.24.1/.cpanplus/5.24.1/build/w4A71jywpn/HTTP-Server-Simple-0.52/blib/arch:/usr/home/cpan/pit/thr/conf/perl-5.24.1/.cpanplus/5.24.1/build/LX1ThAaRuR/File-Listing-6.04/blib/lib:/usr/home/cpan/pit/thr/conf/perl-5.24.1/.cpanplus/5.24.1/build/LX1ThAaRuR/File-Listing-6.04/blib/arch:/usr/home/cpan/pit/thr/conf/perl-5.24.1/.cpanplus/5.24.1/build/yF5eWmY6D_/HTTP-Cookies-6.04/blib/lib:/usr/home/cpan/pit/thr/conf/perl-5.24.1/.cpanplus/5.24.1/build/yF5eWmY6D_/HTTP-Cookies-6.04/blib/arch:/usr/home/cpan/pit/thr/conf/perl-5.24.1/.cpanplus/5.24.1/build/B5xP_vXwEm/HTTP-Daemon-6.01/blib/lib:/usr/home/cpan/pit/thr/conf/perl-5.24.1/.cpanplus/5.24.1/build/B5xP_vXwEm/HTTP-Daemon-6.01/blib/arch:/usr/home/cpan/pit/thr/conf/perl-5.24.1/.cpanplus/5.24.1/build/In18omdfUz/HTTP-Negotiate-6.01/blib/lib:/usr/home/cpan/pit/thr/conf/perl-5.24.1/.cpanplus/5.24.1/build/In18omdfUz/HTTP-Negotiate-6.01/blib/arch:/usr/home/cpan/pit/thr/conf/perl-5.24.1/.cpanplus/5.24.1/build/jiyvXb1mrV/Net-HTTP-6.17/blib/lib:/usr/home/cpan/pit/thr/conf/perl-5.24.1/.cpanplus/5.24.1/build/jiyvXb1mrV/Net-HTTP-6.17/blib/arch:/usr/home/cpan/pit/thr/conf/perl-5.24.1/.cpanplus/5.24.1/build/IK0u53Y8rZ/Test-RequiresInternet-0.05/blib/lib:/usr/home/cpan/pit/thr/conf/perl-5.24.1/.cpanplus/5.24.1/build/IK0u53Y8rZ/Test-RequiresInternet-0.05/blib/arch:/usr/home/cpan/pit/thr/conf/perl-5.24.1/.cpanplus/5.24.1/build/aTNu3qnUiE/WWW-RobotRules-6.02/blib/lib:/usr/home/cpan/pit/thr/conf/perl-5.24.1/.cpanplus/5.24.1/build/aTNu3qnUiE/WWW-RobotRules-6.02/blib/arch:/usr/home/cpan/pit/thr/conf/perl-5.24.1/.cpanplus/5.24.1/build/MHH2dAzQrK/libwww-perl-6.31/blib/lib:/usr/home/cpan/pit/thr/conf/perl-5.24.1/.cpanplus/5.24.1/build/MHH2dAzQrK/libwww-perl-6.31/blib/arch:/usr/home/cpan/pit/thr/conf/perl-5.24.1/.cpanplus/5.24.1/build/0_ziwt84Gt/Test-LongString-0.17/blib/lib:/usr/home/cpan/pit/thr/conf/perl-5.24.1/.cpanplus/5.24.1/build/0_ziwt84Gt/Test-LongString-0.17/blib/arch:/usr/home/cpan/pit/thr/conf/perl-5.24.1/.cpanplus/5.24.1/build/ebo7ihjpNi/HTML-Form-6.03/blib/lib:/usr/home/cpan/pit/thr/conf/perl-5.24.1/.cpanplus/5.24.1/build/ebo7ihjpNi/HTML-Form-6.03/blib/arch:/usr/home/cpan/pit/thr/conf/perl-5.24.1/.cpanplus/5.24.1/build/Thl2YlFmuk/Test-Warnings-0.026/blib/lib:/usr/home/cpan/pit/thr/conf/perl-5.24.1/.cpanplus/5.24.1/build/Thl2YlFmuk/Test-Warnings-0.026/blib/arch:/usr/home/cpan/pit/thr/conf/perl-5.24.1/.cpanplus/5.24.1/build/KX5o54IIPN/WWW-Mechanize-1.86/blib/lib:/usr/home/cpan/pit/thr/conf/perl-5.24.1/.cpanplus/5.24.1/build/KX5o54IIPN/WWW-Mechanize-1.86/blib/arch:/usr/home/cpan/pit/thr/conf/perl-5.24.1/.cpanplus/5.24.1/build/Lsq0GVhuoI/Test-WWW-Mechanize-1.48/blib/lib:/usr/home/cpan/pit/thr/conf/perl-5.24.1/.cpanplus/5.24.1/build/Lsq0GVhuoI/Test-WWW-Mechanize-1.48/blib/arch:/usr/home/cpan/pit/thr/conf/perl-5.24.1/.cpanplus/5.24.1/build/kCW4928qF_/Test-WWW-Mechanize-PSGI-0.38/blib/lib:/usr/home/cpan/pit/thr/conf/perl-5.24.1/.cpanplus/5.24.1/build/kCW4928qF_/Test-WWW-Mechanize-PSGI-0.38/blib/arch:/usr/home/cpan/pit/thr/conf/perl-5.24.1/.cpanplus/5.24.1/build/KDcaDxwy0I/HTTP-Session2-1.10/blib/lib:/usr/home/cpan/pit/thr/conf/perl-5.24.1/.cpanplus/5.24.1/build/KDcaDxwy0I/HTTP-Session2-1.10/blib/arch
    PERL5_CPANPLUS_IS_RUNNING = 92243
    PERL5_CPANPLUS_IS_VERSION = 0.9170
    PERL5_MINISMOKEBOX = 0.68
    PERL5_YACSMOKE_BASE = /usr/home/cpan/pit/thr/conf/perl-5.24.1
    PERL_EXTUTILS_AUTOINSTALL = --defaultdeps
    PERL_MM_USE_DEFAULT = 1
    SHELL = /usr/local/bin/bash
    TERM = screen

Perl special variables (and OS-specific diagnostics, for MSWin32):

    Perl: $^X = /usr/home/cpan/pit/thr/perl-5.24.1/bin/perl
    UID:  $<  = 1002
    EUID: $>  = 1002
    GID:  $(  = 1002 1002
    EGID: $)  = 1002 1002


-------------------------------


--

Summary of my perl5 (revision 5 version 24 subversion 1) configuration:
   
  Platform:
    osname=freebsd, osvers=11.1-release, archname=amd64-freebsd-thread-multi
    uname='freebsd fforc 11.1-release freebsd 11.1-release #0 r321309: fri jul 21 02:08:28 utc 2017 root@releng2.nyi.freebsd.org:usrobjusrsrcsysgeneric amd64 '
    config_args='-des -Dprefix=/usr/home/cpan/pit/thr/perl-5.24.1 -Dusethreads'
    hint=recommended, useposix=true, d_sigaction=define
    useithreads=define, usemultiplicity=define
    use64bitint=define, use64bitall=define, uselongdouble=undef
    usemymalloc=n, bincompat5005=undef
  Compiler:
    cc='cc', ccflags ='-DHAS_FPSETMASK -DHAS_FLOATINGPOINT_H -fno-strict-aliasing -pipe -fstack-protector-strong -I/usr/local/include -D_FORTIFY_SOURCE=2',
    optimize='-O',
    cppflags='-DHAS_FPSETMASK -DHAS_FLOATINGPOINT_H -fno-strict-aliasing -pipe -fstack-protector-strong -I/usr/local/include'
    ccversion='', gccversion='4.2.1 Compatible FreeBSD Clang 4.0.0 (tags/RELEASE_400/final 297347)', gccosandvers=''
    intsize=4, longsize=8, ptrsize=8, doublesize=8, byteorder=12345678, doublekind=3
    d_longlong=define, longlongsize=8, d_longdbl=define, longdblsize=16, longdblkind=3
    ivtype='long', ivsize=8, nvtype='double', nvsize=8, Off_t='off_t', lseeksize=8
    alignbytes=8, prototype=define
  Linker and Libraries:
    ld='cc', ldflags ='-pthread -Wl,-E  -fstack-protector-strong -L/usr/local/lib'
    libpth=/usr/lib /usr/local/lib /usr/bin/../lib/clang/4.0.0/lib /usr/lib
    libs=-lpthread -lgdbm -lm -lcrypt -lutil
    perllibs=-lpthread -lm -lcrypt -lutil
    libc=, so=so, useshrplib=false, libperl=libperl.a
    gnulibc_version=''
  Dynamic Linking:
    dlsrc=dl_dlopen.xs, dlext=so, d_dlsymun=undef, ccdlflags=' '
    cccdlflags='-DPIC -fPIC', lddlflags='-shared  -L/usr/local/lib -fstack-protector-strong'


Characteristics of this binary (from libperl): 
  Compile-time options: HAS_TIMES MULTIPLICITY PERLIO_LAYERS
                        PERL_COPY_ON_WRITE PERL_DONT_CREATE_GVSV
                        PERL_HASH_FUNC_ONE_AT_A_TIME_HARD
                        PERL_IMPLICIT_CONTEXT PERL_MALLOC_WRAP
                        PERL_PRESERVE_IVUV USE_64_BIT_ALL USE_64_BIT_INT
                        USE_ITHREADS USE_LARGE_FILES USE_LOCALE
                        USE_LOCALE_COLLATE USE_LOCALE_CTYPE
                        USE_LOCALE_NUMERIC USE_LOCALE_TIME USE_PERLIO
                        USE_PERL_ATOF USE_REENTRANT_API
  Locally applied patches:
	Devel::PatchPerl 1.48
  Built under freebsd
  Compiled at Jul 27 2017 16:27:06
  %ENV:
    PERL5LIB=":/usr/home/cpan/pit/thr/conf/perl-5.24.1/.cpanplus/5.24.1/build/cQPjVBVTFk/ExtUtils-Config-0.008/blib/lib:/usr/home/cpan/pit/thr/conf/perl-5.24.1/.cpanplus/5.24.1/build/cQPjVBVTFk/ExtUtils-Config-0.008/blib/arch:/usr/home/cpan/pit/thr/conf/perl-5.24.1/.cpanplus/5.24.1/build/9m9uo_rRzc/ExtUtils-Helpers-0.026/blib/lib:/usr/home/cpan/pit/thr/conf/perl-5.24.1/.cpanplus/5.24.1/build/9m9uo_rRzc/ExtUtils-Helpers-0.026/blib/arch:/usr/home/cpan/pit/thr/conf/perl-5.24.1/.cpanplus/5.24.1/build/RInMX8AOcd/ExtUtils-InstallPaths-0.011/blib/lib:/usr/home/cpan/pit/thr/conf/perl-5.24.1/.cpanplus/5.24.1/build/RInMX8AOcd/ExtUtils-InstallPaths-0.011/blib/arch:/usr/home/cpan/pit/thr/conf/perl-5.24.1/.cpanplus/5.24.1/build/5kmXgq2JfO/Module-Build-Tiny-0.039/blib/lib:/usr/home/cpan/pit/thr/conf/perl-5.24.1/.cpanplus/5.24.1/build/5kmXgq2JfO/Module-Build-Tiny-0.039/blib/arch:/usr/home/cpan/pit/thr/conf/perl-5.24.1/.cpanplus/5.24.1/build/6tBuguJQgl/Test-Time-0.05/blib/lib:/usr/home/cpan/pit/thr/conf/perl-5.24.1/.cpanplus/5.24.1/build/6tBuguJQgl/Test-Time-0.05/blib/arch:/usr/home/cpan/pit/thr/conf/perl-5.24.1/.cpanplus/5.24.1/build/hnjz7dPNXc/Test-Needs-0.002005/blib/lib:/usr/home/cpan/pit/thr/conf/perl-5.24.1/.cpanplus/5.24.1/build/hnjz7dPNXc/Test-Needs-0.002005/blib/arch:/usr/home/cpan/pit/thr/conf/perl-5.24.1/.cpanplus/5.24.1/build/m7AQplS71M/URI-1.73/blib/lib:/usr/home/cpan/pit/thr/conf/perl-5.24.1/.cpanplus/5.24.1/build/m7AQplS71M/URI-1.73/blib/arch:/usr/home/cpan/pit/thr/conf/perl-5.24.1/.cpanplus/5.24.1/build/8cn9rYf6Pt/Cookie-Baker-0.08/blib/lib:/usr/home/cpan/pit/thr/conf/perl-5.24.1/.cpanplus/5.24.1/build/8cn9rYf6Pt/Cookie-Baker-0.08/blib/arch:/usr/home/cpan/pit/thr/conf/perl-5.24.1/.cpanplus/5.24.1/build/R0zCzWB6Ax/Crypt-CBC-2.33/blib/lib:/usr/home/cpan/pit/thr/conf/perl-5.24.1/.cpanplus/5.24.1/build/R0zCzWB6Ax/Crypt-CBC-2.33/blib/arch:/usr/home/cpan/pit/thr/conf/perl-5.24.1/.cpanplus/5.24.1/build/5vZW_KoUDb/Crypt-Rijndael-1.13/blib/lib:/usr/home/cpan/pit/thr/conf/perl-5.24.1/.cpanplus/5.24.1/build/5vZW_KoUDb/Crypt-Rijndael-1.13/blib/arch:/usr/home/cpan/pit/thr/conf/perl-5.24.1/.cpanplus/5.24.1/build/YVwRrVQh53/Test-Requires-0.10/blib/lib:/usr/home/cpan/pit/thr/conf/perl-5.24.1/.cpanplus/5.24.1/build/YVwRrVQh53/Test-Requires-0.10/blib/arch:/usr/home/cpan/pit/thr/conf/perl-5.24.1/.cpanplus/5.24.1/build/X3dG0lLOmP/Data-MessagePack-1.00/blib/lib:/usr/home/cpan/pit/thr/conf/perl-5.24.1/.cpanplus/5.24.1/build/X3dG0lLOmP/Data-MessagePack-1.00/blib/arch:/usr/home/cpan/pit/thr/conf/perl-5.24.1/.cpanplus/5.24.1/build/baUQQH_mjI/Digest-HMAC-1.03/blib/lib:/usr/home/cpan/pit/thr/conf/perl-5.24.1/.cpanplus/5.24.1/build/baUQQH_mjI/Digest-HMAC-1.03/blib/arch:/usr/home/cpan/pit/thr/conf/perl-5.24.1/.cpanplus/5.24.1/build/q127VQrv3Y/Digest-SHA1-2.13/blib/lib:/usr/home/cpan/pit/thr/conf/perl-5.24.1/.cpanplus/5.24.1/build/q127VQrv3Y/Digest-SHA1-2.13/blib/arch:/usr/home/cpan/pit/thr/conf/perl-5.24.1/.cpanplus/5.24.1/build/MJ0HJJPvq4/Sub-Uplevel-0.2800/blib/lib:/usr/home/cpan/pit/thr/conf/perl-5.24.1/.cpanplus/5.24.1/build/MJ0HJJPvq4/Sub-Uplevel-0.2800/blib/arch:/usr/home/cpan/pit/thr/conf/perl-5.24.1/.cpanplus/5.24.1/build/lw61EHLAsm/Test-Exception-0.43/blib/lib:/usr/home/cpan/pit/thr/conf/perl-5.24.1/.cpanplus/5.24.1/build/lw61EHLAsm/Test-Exception-0.43/blib/arch:/usr/home/cpan/pit/thr/conf/perl-5.24.1/.cpanplus/5.24.1/build/h2sDZ7ONUF/Try-Tiny-0.30/blib/lib:/usr/home/cpan/pit/thr/conf/perl-5.24.1/.cpanplus/5.24.1/build/h2sDZ7ONUF/Try-Tiny-0.30/blib/arch:/usr/home/cpan/pit/thr/conf/perl-5.24.1/.cpanplus/5.24.1/build/wsc0zOdlnV/Test-Fatal-0.014/blib/lib:/usr/home/cpan/pit/thr/conf/perl-5.24.1/.cpanplus/5.24.1/build/wsc0zOdlnV/Test-Fatal-0.014/blib/arch:/usr/home/cpan/pit/thr/conf/perl-5.24.1/.cpanplus/5.24.1/build/g5pByDvgS3/Test-LeakTrace-0.16/blib/lib:/usr/home/cpan/pit/thr/conf/perl-5.24.1/.cpanplus/5.24.1/build/g5pByDvgS3/Test-LeakTrace-0.16/blib/arch:/usr/home/cpan/pit/thr/conf/perl-5.24.1/.cpanplus/5.24.1/build/BBtoyCm1N3/Capture-Tiny-0.46/blib/lib:/usr/home/cpan/pit/thr/conf/perl-5.24.1/.cpanplus/5.24.1/build/BBtoyCm1N3/Capture-Tiny-0.46/blib/arch:/usr/home/cpan/pit/thr/conf/perl-5.24.1/.cpanplus/5.24.1/build/47tYxXAIfU/Test-Output-1.031/blib/lib:/usr/home/cpan/pit/thr/conf/perl-5.24.1/.cpanplus/5.24.1/build/47tYxXAIfU/Test-Output-1.031/blib/arch:/usr/home/cpan/pit/thr/conf/perl-5.24.1/.cpanplus/5.24.1/build/hLxlPwSh1p/Mouse-v2.5.1/blib/lib:/usr/home/cpan/pit/thr/conf/perl-5.24.1/.cpanplus/5.24.1/build/hLxlPwSh1p/Mouse-v2.5.1/blib/arch:/usr/home/cpan/pit/thr/conf/perl-5.24.1/.cpanplus/5.24.1/build/Ea5rkjTgvX/Encode-Locale-1.05/blib/lib:/usr/home/cpan/pit/thr/conf/perl-5.24.1/.cpanplus/5.24.1/build/Ea5rkjTgvX/Encode-Locale-1.05/blib/arch:/usr/home/cpan/pit/thr/conf/perl-5.24.1/.cpanplus/5.24.1/build/jic5yzpep5/HTTP-Date-6.02/blib/lib:/usr/home/cpan/pit/thr/conf/perl-5.24.1/.cpanplus/5.24.1/build/jic5yzpep5/HTTP-Date-6.02/blib/arch:/usr/home/cpan/pit/thr/conf/perl-5.24.1/.cpanplus/5.24.1/build/Hsik0Iu4Vp/IO-HTML-1.001/blib/lib:/usr/home/cpan/pit/thr/conf/perl-5.24.1/.cpanplus/5.24.1/build/Hsik0Iu4Vp/IO-HTML-1.001/blib/arch:/usr/home/cpan/pit/thr/conf/perl-5.24.1/.cpanplus/5.24.1/build/7sy7EYf7Ak/LWP-MediaTypes-6.02/blib/lib:/usr/home/cpan/pit/thr/conf/perl-5.24.1/.cpanplus/5.24.1/build/7sy7EYf7Ak/LWP-MediaTypes-6.02/blib/arch:/usr/home/cpan/pit/thr/conf/perl-5.24.1/.cpanplus/5.24.1/build/l1Gf51_0pG/HTTP-Message-6.14/blib/lib:/usr/home/cpan/pit/thr/conf/perl-5.24.1/.cpanplus/5.24.1/build/l1Gf51_0pG/HTTP-Message-6.14/blib/arch:/usr/home/cpan/pit/thr/conf/perl-5.24.1/.cpanplus/5.24.1/build/wUNjc806Zx/POSIX-strftime-Compiler-0.42/blib/lib:/usr/home/cpan/pit/thr/conf/perl-5.24.1/.cpanplus/5.24.1/build/wUNjc806Zx/POSIX-strftime-Compiler-0.42/blib/arch:/usr/home/cpan/pit/thr/conf/perl-5.24.1/.cpanplus/5.24.1/build/P5uybBthhD/Test-MockTime-0.15/blib/lib:/usr/home/cpan/pit/thr/conf/perl-5.24.1/.cpanplus/5.24.1/build/P5uybBthhD/Test-MockTime-0.15/blib/arch:/usr/home/cpan/pit/thr/conf/perl-5.24.1/.cpanplus/5.24.1/build/4lsPq5i6Km/Apache-LogFormat-Compiler-0.35/blib/lib:/usr/home/cpan/pit/thr/conf/perl-5.24.1/.cpanplus/5.24.1/build/4lsPq5i6Km/Apache-LogFormat-Compiler-0.35/blib/arch:/usr/home/cpan/pit/thr/conf/perl-5.24.1/.cpanplus/5.24.1/build/iWK3w1LjwN/Devel-StackTrace-2.03/blib/lib:/usr/home/cpan/pit/thr/conf/perl-5.24.1/.cpanplus/5.24.1/build/iWK3w1LjwN/Devel-StackTrace-2.03/blib/arch:/usr/home/cpan/pit/thr/conf/perl-5.24.1/.cpanplus/5.24.1/build/K4QpTXCBpk/Devel-StackTrace-AsHTML-0.15/blib/lib:/usr/home/cpan/pit/thr/conf/perl-5.24.1/.cpanplus/5.24.1/build/K4QpTXCBpk/Devel-StackTrace-AsHTML-0.15/blib/arch:/usr/home/cpan/pit/thr/conf/perl-5.24.1/.cpanplus/5.24.1/build/FV2DzDqBTW/Class-Inspector-1.32/blib/lib:/usr/home/cpan/pit/thr/conf/perl-5.24.1/.cpanplus/5.24.1/build/FV2DzDqBTW/Class-Inspector-1.32/blib/arch:/usr/home/cpan/pit/thr/conf/perl-5.24.1/.cpanplus/5.24.1/build/7Zjl9eiy5l/File-ShareDir-Install-0.11/blib/lib:/usr/home/cpan/pit/thr/conf/perl-5.24.1/.cpanplus/5.24.1/build/7Zjl9eiy5l/File-ShareDir-Install-0.11/blib/arch:/usr/home/cpan/pit/thr/conf/perl-5.24.1/.cpanplus/5.24.1/build/xPWryjQjvJ/File-ShareDir-1.104/blib/lib:/usr/home/cpan/pit/thr/conf/perl-5.24.1/.cpanplus/5.24.1/build/xPWryjQjvJ/File-ShareDir-1.104/blib/arch:/usr/home/cpan/pit/thr/conf/perl-5.24.1/.cpanplus/5.24.1/build/ZPdHYNrtK9/Test-SharedFork-0.35/blib/lib:/usr/home/cpan/pit/thr/conf/perl-5.24.1/.cpanplus/5.24.1/build/ZPdHYNrtK9/Test-SharedFork-0.35/blib/arch:/usr/home/cpan/pit/thr/conf/perl-5.24.1/.cpanplus/5.24.1/build/BWLp29GDl9/Filesys-Notify-Simple-0.12/blib/lib:/usr/home/cpan/pit/thr/conf/perl-5.24.1/.cpanplus/5.24.1/build/BWLp29GDl9/Filesys-Notify-Simple-0.12/blib/arch:/usr/home/cpan/pit/thr/conf/perl-5.24.1/.cpanplus/5.24.1/build/gdQiewVk49/Test-Deep-1.127/blib/lib:/usr/home/cpan/pit/thr/conf/perl-5.24.1/.cpanplus/5.24.1/build/gdQiewVk49/Test-Deep-1.127/blib/arch:/usr/home/cpan/pit/thr/conf/perl-5.24.1/.cpanplus/5.24.1/build/f1paSBUNTq/HTTP-MultiPartParser-0.02/blib/lib:/usr/home/cpan/pit/thr/conf/perl-5.24.1/.cpanplus/5.24.1/build/f1paSBUNTq/HTTP-MultiPartParser-0.02/blib/arch:/usr/home/cpan/pit/thr/conf/perl-5.24.1/.cpanplus/5.24.1/build/m6JFdA81k_/Hash-MultiValue-0.16/blib/lib:/usr/home/cpan/pit/thr/conf/perl-5.24.1/.cpanplus/5.24.1/build/m6JFdA81k_/Hash-MultiValue-0.16/blib/arch:/usr/home/cpan/pit/thr/conf/perl-5.24.1/.cpanplus/5.24.1/build/9jqtSumtEb/Cpanel-JSON-XS-3.0239/blib/lib:/usr/home/cpan/pit/thr/conf/perl-5.24.1/.cpanplus/5.24.1/build/9jqtSumtEb/Cpanel-JSON-XS-3.0239/blib/arch:/usr/home/cpan/pit/thr/conf/perl-5.24.1/.cpanplus/5.24.1/build/E0CPi37nIn/JSON-MaybeXS-1.003010/blib/lib:/usr/home/cpan/pit/thr/conf/perl-5.24.1/.cpanplus/5.24.1/build/E0CPi37nIn/JSON-MaybeXS-1.003010/blib/arch:/usr/home/cpan/pit/thr/conf/perl-5.24.1/.cpanplus/5.24.1/build/pVXYV60cCc/Stream-Buffered-0.03/blib/lib:/usr/home/cpan/pit/thr/conf/perl-5.24.1/.cpanplus/5.24.1/build/pVXYV60cCc/Stream-Buffered-0.03/blib/arch:/usr/home/cpan/pit/thr/conf/perl-5.24.1/.cpanplus/5.24.1/build/6NCNxWrpXx/JSON-2.97001/blib/lib:/usr/home/cpan/pit/thr/conf/perl-5.24.1/.cpanplus/5.24.1/build/6NCNxWrpXx/JSON-2.97001/blib/arch:/usr/home/cpan/pit/thr/conf/perl-5.24.1/.cpanplus/5.24.1/build/VOUZRr3OTX/WWW-Form-UrlEncoded-0.24/blib/lib:/usr/home/cpan/pit/thr/conf/perl-5.24.1/.cpanplus/5.24.1/build/VOUZRr3OTX/WWW-Form-UrlEncoded-0.24/blib/arch:/usr/home/cpan/pit/thr/conf/perl-5.24.1/.cpanplus/5.24.1/build/nkXM4tS7MF/HTTP-Entity-Parser-0.20/blib/lib:/usr/home/cpan/pit/thr/conf/perl-5.24.1/.cpanplus/5.24.1/build/nkXM4tS7MF/HTTP-Entity-Parser-0.20/blib/arch:/usr/home/cpan/pit/thr/conf/perl-5.24.1/.cpanplus/5.24.1/build/7m0uEEyDtn/HTTP-Headers-Fast-0.21/blib/lib:/usr/home/cpan/pit/thr/conf/perl-5.24.1/.cpanplus/5.24.1/build/7m0uEEyDtn/HTTP-Headers-Fast-0.21/blib/arch:/usr/home/cpan/pit/thr/conf/perl-5.24.1/.cpanplus/5.24.1/build/v_1v1Cpt28/Test-TCP-2.19/blib/lib:/usr/home/cpan/pit/thr/conf/perl-5.24.1/.cpanplus/5.24.1/build/v_1v1Cpt28/Test-TCP-2.19/blib/arch:/usr/home/cpan/pit/thr/conf/perl-5.24.1/.cpanplus/5.24.1/build/AzcyVx_jci/Plack-1.0045/blib/lib:/usr/home/cpan/pit/thr/conf/perl-5.24.1/.cpanplus/5.24.1/build/AzcyVx_jci/Plack-1.0045/blib/arch:/usr/home/cpan/pit/thr/conf/perl-5.24.1/.cpanplus/5.24.1/build/b0NsydWr6Q/HTML-Tagset-3.20/blib/lib:/usr/home/cpan/pit/thr/conf/perl-5.24.1/.cpanplus/5.24.1/build/b0NsydWr6Q/HTML-Tagset-3.20/blib/arch:/usr/home/cpan/pit/thr/conf/perl-5.24.1/.cpanplus/5.24.1/build/xiWclfk_6e/HTML-Parser-3.72/blib/lib:/usr/home/cpan/pit/thr/conf/perl-5.24.1/.cpanplus/5.24.1/build/xiWclfk_6e/HTML-Parser-3.72/blib/arch:/usr/home/cpan/pit/thr/conf/perl-5.24.1/.cpanplus/5.24.1/build/Q4Je88L1Ma/Test-NoWarnings-1.04/blib/lib:/usr/home/cpan/pit/thr/conf/perl-5.24.1/.cpanplus/5.24.1/build/Q4Je88L1Ma/Test-NoWarnings-1.04/blib/arch:/usr/home/cpan/pit/thr/conf/perl-5.24.1/.cpanplus/5.24.1/build/EJimVcsRLQ/Test-Warn-0.32/blib/lib:/usr/home/cpan/pit/thr/conf/perl-5.24.1/.cpanplus/5.24.1/build/EJimVcsRLQ/Test-Warn-0.32/blib/arch:/usr/home/cpan/pit/thr/conf/perl-5.24.1/.cpanplus/5.24.1/build/vr9pOg3U0O/CGI-4.38/blib/lib:/usr/home/cpan/pit/thr/conf/perl-5.24.1/.cpanplus/5.24.1/build/vr9pOg3U0O/CGI-4.38/blib/arch:/usr/home/cpan/pit/thr/conf/perl-5.24.1/.cpanplus/5.24.1/build/PzX34wrAPx/Carp-Assert-0.21/blib/lib:/usr/home/cpan/pit/thr/conf/perl-5.24.1/.cpanplus/5.24.1/build/PzX34wrAPx/Carp-Assert-0.21/blib/arch:/usr/home/cpan/pit/thr/conf/perl-5.24.1/.cpanplus/5.24.1/build/VR8QJn6anm/Carp-Assert-More-1.16/blib/lib:/usr/home/cpan/pit/thr/conf/perl-5.24.1/.cpanplus/5.24.1/build/VR8QJn6anm/Carp-Assert-More-1.16/blib/arch:/usr/home/cpan/pit/thr/conf/perl-5.24.1/.cpanplus/5.24.1/build/lljWdWo6gF/HTML-Tree-5.07/blib/lib:/usr/home/cpan/pit/thr/conf/perl-5.24.1/.cpanplus/5.24.1/build/lljWdWo6gF/HTML-Tree-5.07/blib/arch:/usr/home/cpan/pit/thr/conf/perl-5.24.1/.cpanplus/5.24.1/build/w4A71jywpn/HTTP-Server-Simple-0.52/blib/lib:/usr/home/cpan/pit/thr/conf/perl-5.24.1/.cpanplus/5.24.1/build/w4A71jywpn/HTTP-Server-Simple-0.52/blib/arch:/usr/home/cpan/pit/thr/conf/perl-5.24.1/.cpanplus/5.24.1/build/LX1ThAaRuR/File-Listing-6.04/blib/lib:/usr/home/cpan/pit/thr/conf/perl-5.24.1/.cpanplus/5.24.1/build/LX1ThAaRuR/File-Listing-6.04/blib/arch:/usr/home/cpan/pit/thr/conf/perl-5.24.1/.cpanplus/5.24.1/build/yF5eWmY6D_/HTTP-Cookies-6.04/blib/lib:/usr/home/cpan/pit/thr/conf/perl-5.24.1/.cpanplus/5.24.1/build/yF5eWmY6D_/HTTP-Cookies-6.04/blib/arch:/usr/home/cpan/pit/thr/conf/perl-5.24.1/.cpanplus/5.24.1/build/B5xP_vXwEm/HTTP-Daemon-6.01/blib/lib:/usr/home/cpan/pit/thr/conf/perl-5.24.1/.cpanplus/5.24.1/build/B5xP_vXwEm/HTTP-Daemon-6.01/blib/arch:/usr/home/cpan/pit/thr/conf/perl-5.24.1/.cpanplus/5.24.1/build/In18omdfUz/HTTP-Negotiate-6.01/blib/lib:/usr/home/cpan/pit/thr/conf/perl-5.24.1/.cpanplus/5.24.1/build/In18omdfUz/HTTP-Negotiate-6.01/blib/arch:/usr/home/cpan/pit/thr/conf/perl-5.24.1/.cpanplus/5.24.1/build/jiyvXb1mrV/Net-HTTP-6.17/blib/lib:/usr/home/cpan/pit/thr/conf/perl-5.24.1/.cpanplus/5.24.1/build/jiyvXb1mrV/Net-HTTP-6.17/blib/arch:/usr/home/cpan/pit/thr/conf/perl-5.24.1/.cpanplus/5.24.1/build/IK0u53Y8rZ/Test-RequiresInternet-0.05/blib/lib:/usr/home/cpan/pit/thr/conf/perl-5.24.1/.cpanplus/5.24.1/build/IK0u53Y8rZ/Test-RequiresInternet-0.05/blib/arch:/usr/home/cpan/pit/thr/conf/perl-5.24.1/.cpanplus/5.24.1/build/aTNu3qnUiE/WWW-RobotRules-6.02/blib/lib:/usr/home/cpan/pit/thr/conf/perl-5.24.1/.cpanplus/5.24.1/build/aTNu3qnUiE/WWW-RobotRules-6.02/blib/arch:/usr/home/cpan/pit/thr/conf/perl-5.24.1/.cpanplus/5.24.1/build/MHH2dAzQrK/libwww-perl-6.31/blib/lib:/usr/home/cpan/pit/thr/conf/perl-5.24.1/.cpanplus/5.24.1/build/MHH2dAzQrK/libwww-perl-6.31/blib/arch:/usr/home/cpan/pit/thr/conf/perl-5.24.1/.cpanplus/5.24.1/build/0_ziwt84Gt/Test-LongString-0.17/blib/lib:/usr/home/cpan/pit/thr/conf/perl-5.24.1/.cpanplus/5.24.1/build/0_ziwt84Gt/Test-LongString-0.17/blib/arch:/usr/home/cpan/pit/thr/conf/perl-5.24.1/.cpanplus/5.24.1/build/ebo7ihjpNi/HTML-Form-6.03/blib/lib:/usr/home/cpan/pit/thr/conf/perl-5.24.1/.cpanplus/5.24.1/build/ebo7ihjpNi/HTML-Form-6.03/blib/arch:/usr/home/cpan/pit/thr/conf/perl-5.24.1/.cpanplus/5.24.1/build/Thl2YlFmuk/Test-Warnings-0.026/blib/lib:/usr/home/cpan/pit/thr/conf/perl-5.24.1/.cpanplus/5.24.1/build/Thl2YlFmuk/Test-Warnings-0.026/blib/arch:/usr/home/cpan/pit/thr/conf/perl-5.24.1/.cpanplus/5.24.1/build/KX5o54IIPN/WWW-Mechanize-1.86/blib/lib:/usr/home/cpan/pit/thr/conf/perl-5.24.1/.cpanplus/5.24.1/build/KX5o54IIPN/WWW-Mechanize-1.86/blib/arch:/usr/home/cpan/pit/thr/conf/perl-5.24.1/.cpanplus/5.24.1/build/Lsq0GVhuoI/Test-WWW-Mechanize-1.48/blib/lib:/usr/home/cpan/pit/thr/conf/perl-5.24.1/.cpanplus/5.24.1/build/Lsq0GVhuoI/Test-WWW-Mechanize-1.48/blib/arch:/usr/home/cpan/pit/thr/conf/perl-5.24.1/.cpanplus/5.24.1/build/kCW4928qF_/Test-WWW-Mechanize-PSGI-0.38/blib/lib:/usr/home/cpan/pit/thr/conf/perl-5.24.1/.cpanplus/5.24.1/build/kCW4928qF_/Test-WWW-Mechanize-PSGI-0.38/blib/arch:/usr/home/cpan/pit/thr/conf/perl-5.24.1/.cpanplus/5.24.1/build/KDcaDxwy0I/HTTP-Session2-1.10/blib/lib:/usr/home/cpan/pit/thr/conf/perl-5.24.1/.cpanplus/5.24.1/build/KDcaDxwy0I/HTTP-Session2-1.10/blib/arch"
    PERL5_CPANPLUS_IS_RUNNING="92243"
    PERL5_CPANPLUS_IS_VERSION="0.9170"
    PERL5_MINISMOKEBOX="0.68"
    PERL5_YACSMOKE_BASE="/usr/home/cpan/pit/thr/conf/perl-5.24.1"
    PERL_EXTUTILS_AUTOINSTALL="--defaultdeps"
    PERL_MM_USE_DEFAULT="1"
  @INC:
    /usr/home/cpan/pit/thr/conf/perl-5.24.1/.cpanplus/5.24.1/build/cQPjVBVTFk/ExtUtils-Config-0.008/blib/lib
    /usr/home/cpan/pit/thr/conf/perl-5.24.1/.cpanplus/5.24.1/build/cQPjVBVTFk/ExtUtils-Config-0.008/blib/arch
    /usr/home/cpan/pit/thr/conf/perl-5.24.1/.cpanplus/5.24.1/build/9m9uo_rRzc/ExtUtils-Helpers-0.026/blib/lib
    /usr/home/cpan/pit/thr/conf/perl-5.24.1/.cpanplus/5.24.1/build/9m9uo_rRzc/ExtUtils-Helpers-0.026/blib/arch
    /usr/home/cpan/pit/thr/conf/perl-5.24.1/.cpanplus/5.24.1/build/RInMX8AOcd/ExtUtils-InstallPaths-0.011/blib/lib
    /usr/home/cpan/pit/thr/conf/perl-5.24.1/.cpanplus/5.24.1/build/RInMX8AOcd/ExtUtils-InstallPaths-0.011/blib/arch
    /usr/home/cpan/pit/thr/conf/perl-5.24.1/.cpanplus/5.24.1/build/5kmXgq2JfO/Module-Build-Tiny-0.039/blib/lib
    /usr/home/cpan/pit/thr/conf/perl-5.24.1/.cpanplus/5.24.1/build/5kmXgq2JfO/Module-Build-Tiny-0.039/blib/arch
    /usr/home/cpan/pit/thr/conf/perl-5.24.1/.cpanplus/5.24.1/build/6tBuguJQgl/Test-Time-0.05/blib/lib
    /usr/home/cpan/pit/thr/conf/perl-5.24.1/.cpanplus/5.24.1/build/6tBuguJQgl/Test-Time-0.05/blib/arch
    /usr/home/cpan/pit/thr/conf/perl-5.24.1/.cpanplus/5.24.1/build/hnjz7dPNXc/Test-Needs-0.002005/blib/lib
    /usr/home/cpan/pit/thr/conf/perl-5.24.1/.cpanplus/5.24.1/build/hnjz7dPNXc/Test-Needs-0.002005/blib/arch
    /usr/home/cpan/pit/thr/conf/perl-5.24.1/.cpanplus/5.24.1/build/m7AQplS71M/URI-1.73/blib/lib
    /usr/home/cpan/pit/thr/conf/perl-5.24.1/.cpanplus/5.24.1/build/m7AQplS71M/URI-1.73/blib/arch
    /usr/home/cpan/pit/thr/conf/perl-5.24.1/.cpanplus/5.24.1/build/8cn9rYf6Pt/Cookie-Baker-0.08/blib/lib
    /usr/home/cpan/pit/thr/conf/perl-5.24.1/.cpanplus/5.24.1/build/8cn9rYf6Pt/Cookie-Baker-0.08/blib/arch
    /usr/home/cpan/pit/thr/conf/perl-5.24.1/.cpanplus/5.24.1/build/R0zCzWB6Ax/Crypt-CBC-2.33/blib/lib
    /usr/home/cpan/pit/thr/conf/perl-5.24.1/.cpanplus/5.24.1/build/R0zCzWB6Ax/Crypt-CBC-2.33/blib/arch
    /usr/home/cpan/pit/thr/conf/perl-5.24.1/.cpanplus/5.24.1/build/5vZW_KoUDb/Crypt-Rijndael-1.13/blib/lib
    /usr/home/cpan/pit/thr/conf/perl-5.24.1/.cpanplus/5.24.1/build/5vZW_KoUDb/Crypt-Rijndael-1.13/blib/arch
    /usr/home/cpan/pit/thr/conf/perl-5.24.1/.cpanplus/5.24.1/build/YVwRrVQh53/Test-Requires-0.10/blib/lib
    /usr/home/cpan/pit/thr/conf/perl-5.24.1/.cpanplus/5.24.1/build/YVwRrVQh53/Test-Requires-0.10/blib/arch
    /usr/home/cpan/pit/thr/conf/perl-5.24.1/.cpanplus/5.24.1/build/X3dG0lLOmP/Data-MessagePack-1.00/blib/lib
    /usr/home/cpan/pit/thr/conf/perl-5.24.1/.cpanplus/5.24.1/build/X3dG0lLOmP/Data-MessagePack-1.00/blib/arch
    /usr/home/cpan/pit/thr/conf/perl-5.24.1/.cpanplus/5.24.1/build/baUQQH_mjI/Digest-HMAC-1.03/blib/lib
    /usr/home/cpan/pit/thr/conf/perl-5.24.1/.cpanplus/5.24.1/build/baUQQH_mjI/Digest-HMAC-1.03/blib/arch
    /usr/home/cpan/pit/thr/conf/perl-5.24.1/.cpanplus/5.24.1/build/q127VQrv3Y/Digest-SHA1-2.13/blib/lib
    /usr/home/cpan/pit/thr/conf/perl-5.24.1/.cpanplus/5.24.1/build/q127VQrv3Y/Digest-SHA1-2.13/blib/arch
    /usr/home/cpan/pit/thr/conf/perl-5.24.1/.cpanplus/5.24.1/build/MJ0HJJPvq4/Sub-Uplevel-0.2800/blib/lib
    /usr/home/cpan/pit/thr/conf/perl-5.24.1/.cpanplus/5.24.1/build/MJ0HJJPvq4/Sub-Uplevel-0.2800/blib/arch
    /usr/home/cpan/pit/thr/conf/perl-5.24.1/.cpanplus/5.24.1/build/lw61EHLAsm/Test-Exception-0.43/blib/lib
    /usr/home/cpan/pit/thr/conf/perl-5.24.1/.cpanplus/5.24.1/build/lw61EHLAsm/Test-Exception-0.43/blib/arch
    /usr/home/cpan/pit/thr/conf/perl-5.24.1/.cpanplus/5.24.1/build/h2sDZ7ONUF/Try-Tiny-0.30/blib/lib
    /usr/home/cpan/pit/thr/conf/perl-5.24.1/.cpanplus/5.24.1/build/h2sDZ7ONUF/Try-Tiny-0.30/blib/arch
    /usr/home/cpan/pit/thr/conf/perl-5.24.1/.cpanplus/5.24.1/build/wsc0zOdlnV/Test-Fatal-0.014/blib/lib
    /usr/home/cpan/pit/thr/conf/perl-5.24.1/.cpanplus/5.24.1/build/wsc0zOdlnV/Test-Fatal-0.014/blib/arch
    /usr/home/cpan/pit/thr/conf/perl-5.24.1/.cpanplus/5.24.1/build/g5pByDvgS3/Test-LeakTrace-0.16/blib/lib
    /usr/home/cpan/pit/thr/conf/perl-5.24.1/.cpanplus/5.24.1/build/g5pByDvgS3/Test-LeakTrace-0.16/blib/arch
    /usr/home/cpan/pit/thr/conf/perl-5.24.1/.cpanplus/5.24.1/build/BBtoyCm1N3/Capture-Tiny-0.46/blib/lib
    /usr/home/cpan/pit/thr/conf/perl-5.24.1/.cpanplus/5.24.1/build/BBtoyCm1N3/Capture-Tiny-0.46/blib/arch
    /usr/home/cpan/pit/thr/conf/perl-5.24.1/.cpanplus/5.24.1/build/47tYxXAIfU/Test-Output-1.031/blib/lib
    /usr/home/cpan/pit/thr/conf/perl-5.24.1/.cpanplus/5.24.1/build/47tYxXAIfU/Test-Output-1.031/blib/arch
    /usr/home/cpan/pit/thr/conf/perl-5.24.1/.cpanplus/5.24.1/build/hLxlPwSh1p/Mouse-v2.5.1/blib/lib
    /usr/home/cpan/pit/thr/conf/perl-5.24.1/.cpanplus/5.24.1/build/hLxlPwSh1p/Mouse-v2.5.1/blib/arch
    /usr/home/cpan/pit/thr/conf/perl-5.24.1/.cpanplus/5.24.1/build/Ea5rkjTgvX/Encode-Locale-1.05/blib/lib
    /usr/home/cpan/pit/thr/conf/perl-5.24.1/.cpanplus/5.24.1/build/Ea5rkjTgvX/Encode-Locale-1.05/blib/arch
    /usr/home/cpan/pit/thr/conf/perl-5.24.1/.cpanplus/5.24.1/build/jic5yzpep5/HTTP-Date-6.02/blib/lib
    /usr/home/cpan/pit/thr/conf/perl-5.24.1/.cpanplus/5.24.1/build/jic5yzpep5/HTTP-Date-6.02/blib/arch
    /usr/home/cpan/pit/thr/conf/perl-5.24.1/.cpanplus/5.24.1/build/Hsik0Iu4Vp/IO-HTML-1.001/blib/lib
    /usr/home/cpan/pit/thr/conf/perl-5.24.1/.cpanplus/5.24.1/build/Hsik0Iu4Vp/IO-HTML-1.001/blib/arch
    /usr/home/cpan/pit/thr/conf/perl-5.24.1/.cpanplus/5.24.1/build/7sy7EYf7Ak/LWP-MediaTypes-6.02/blib/lib
    /usr/home/cpan/pit/thr/conf/perl-5.24.1/.cpanplus/5.24.1/build/7sy7EYf7Ak/LWP-MediaTypes-6.02/blib/arch
    /usr/home/cpan/pit/thr/conf/perl-5.24.1/.cpanplus/5.24.1/build/l1Gf51_0pG/HTTP-Message-6.14/blib/lib
    /usr/home/cpan/pit/thr/conf/perl-5.24.1/.cpanplus/5.24.1/build/l1Gf51_0pG/HTTP-Message-6.14/blib/arch
    /usr/home/cpan/pit/thr/conf/perl-5.24.1/.cpanplus/5.24.1/build/wUNjc806Zx/POSIX-strftime-Compiler-0.42/blib/lib
    /usr/home/cpan/pit/thr/conf/perl-5.24.1/.cpanplus/5.24.1/build/wUNjc806Zx/POSIX-strftime-Compiler-0.42/blib/arch
    /usr/home/cpan/pit/thr/conf/perl-5.24.1/.cpanplus/5.24.1/build/P5uybBthhD/Test-MockTime-0.15/blib/lib
    /usr/home/cpan/pit/thr/conf/perl-5.24.1/.cpanplus/5.24.1/build/P5uybBthhD/Test-MockTime-0.15/blib/arch
    /usr/home/cpan/pit/thr/conf/perl-5.24.1/.cpanplus/5.24.1/build/4lsPq5i6Km/Apache-LogFormat-Compiler-0.35/blib/lib
    /usr/home/cpan/pit/thr/conf/perl-5.24.1/.cpanplus/5.24.1/build/4lsPq5i6Km/Apache-LogFormat-Compiler-0.35/blib/arch
    /usr/home/cpan/pit/thr/conf/perl-5.24.1/.cpanplus/5.24.1/build/iWK3w1LjwN/Devel-StackTrace-2.03/blib/lib
    /usr/home/cpan/pit/thr/conf/perl-5.24.1/.cpanplus/5.24.1/build/iWK3w1LjwN/Devel-StackTrace-2.03/blib/arch
    /usr/home/cpan/pit/thr/conf/perl-5.24.1/.cpanplus/5.24.1/build/K4QpTXCBpk/Devel-StackTrace-AsHTML-0.15/blib/lib
    /usr/home/cpan/pit/thr/conf/perl-5.24.1/.cpanplus/5.24.1/build/K4QpTXCBpk/Devel-StackTrace-AsHTML-0.15/blib/arch
    /usr/home/cpan/pit/thr/conf/perl-5.24.1/.cpanplus/5.24.1/build/FV2DzDqBTW/Class-Inspector-1.32/blib/lib
    /usr/home/cpan/pit/thr/conf/perl-5.24.1/.cpanplus/5.24.1/build/FV2DzDqBTW/Class-Inspector-1.32/blib/arch
    /usr/home/cpan/pit/thr/conf/perl-5.24.1/.cpanplus/5.24.1/build/7Zjl9eiy5l/File-ShareDir-Install-0.11/blib/lib
    /usr/home/cpan/pit/thr/conf/perl-5.24.1/.cpanplus/5.24.1/build/7Zjl9eiy5l/File-ShareDir-Install-0.11/blib/arch
    /usr/home/cpan/pit/thr/conf/perl-5.24.1/.cpanplus/5.24.1/build/xPWryjQjvJ/File-ShareDir-1.104/blib/lib
    /usr/home/cpan/pit/thr/conf/perl-5.24.1/.cpanplus/5.24.1/build/xPWryjQjvJ/File-ShareDir-1.104/blib/arch
    /usr/home/cpan/pit/thr/conf/perl-5.24.1/.cpanplus/5.24.1/build/ZPdHYNrtK9/Test-SharedFork-0.35/blib/lib
    /usr/home/cpan/pit/thr/conf/perl-5.24.1/.cpanplus/5.24.1/build/ZPdHYNrtK9/Test-SharedFork-0.35/blib/arch
    /usr/home/cpan/pit/thr/conf/perl-5.24.1/.cpanplus/5.24.1/build/BWLp29GDl9/Filesys-Notify-Simple-0.12/blib/lib
    /usr/home/cpan/pit/thr/conf/perl-5.24.1/.cpanplus/5.24.1/build/BWLp29GDl9/Filesys-Notify-Simple-0.12/blib/arch
    /usr/home/cpan/pit/thr/conf/perl-5.24.1/.cpanplus/5.24.1/build/gdQiewVk49/Test-Deep-1.127/blib/lib
    /usr/home/cpan/pit/thr/conf/perl-5.24.1/.cpanplus/5.24.1/build/gdQiewVk49/Test-Deep-1.127/blib/arch
    /usr/home/cpan/pit/thr/conf/perl-5.24.1/.cpanplus/5.24.1/build/f1paSBUNTq/HTTP-MultiPartParser-0.02/blib/lib
    /usr/home/cpan/pit/thr/conf/perl-5.24.1/.cpanplus/5.24.1/build/f1paSBUNTq/HTTP-MultiPartParser-0.02/blib/arch
    /usr/home/cpan/pit/thr/conf/perl-5.24.1/.cpanplus/5.24.1/build/m6JFdA81k_/Hash-MultiValue-0.16/blib/lib
    /usr/home/cpan/pit/thr/conf/perl-5.24.1/.cpanplus/5.24.1/build/m6JFdA81k_/Hash-MultiValue-0.16/blib/arch
    /usr/home/cpan/pit/thr/conf/perl-5.24.1/.cpanplus/5.24.1/build/9jqtSumtEb/Cpanel-JSON-XS-3.0239/blib/lib
    /usr/home/cpan/pit/thr/conf/perl-5.24.1/.cpanplus/5.24.1/build/9jqtSumtEb/Cpanel-JSON-XS-3.0239/blib/arch
    /usr/home/cpan/pit/thr/conf/perl-5.24.1/.cpanplus/5.24.1/build/E0CPi37nIn/JSON-MaybeXS-1.003010/blib/lib
    /usr/home/cpan/pit/thr/conf/perl-5.24.1/.cpanplus/5.24.1/build/E0CPi37nIn/JSON-MaybeXS-1.003010/blib/arch
    /usr/home/cpan/pit/thr/conf/perl-5.24.1/.cpanplus/5.24.1/build/pVXYV60cCc/Stream-Buffered-0.03/blib/lib
    /usr/home/cpan/pit/thr/conf/perl-5.24.1/.cpanplus/5.24.1/build/pVXYV60cCc/Stream-Buffered-0.03/blib/arch
    /usr/home/cpan/pit/thr/conf/perl-5.24.1/.cpanplus/5.24.1/build/6NCNxWrpXx/JSON-2.97001/blib/lib
    /usr/home/cpan/pit/thr/conf/perl-5.24.1/.cpanplus/5.24.1/build/6NCNxWrpXx/JSON-2.97001/blib/arch
    /usr/home/cpan/pit/thr/conf/perl-5.24.1/.cpanplus/5.24.1/build/VOUZRr3OTX/WWW-Form-UrlEncoded-0.24/blib/lib
    /usr/home/cpan/pit/thr/conf/perl-5.24.1/.cpanplus/5.24.1/build/VOUZRr3OTX/WWW-Form-UrlEncoded-0.24/blib/arch
    /usr/home/cpan/pit/thr/conf/perl-5.24.1/.cpanplus/5.24.1/build/nkXM4tS7MF/HTTP-Entity-Parser-0.20/blib/lib
    /usr/home/cpan/pit/thr/conf/perl-5.24.1/.cpanplus/5.24.1/build/nkXM4tS7MF/HTTP-Entity-Parser-0.20/blib/arch
    /usr/home/cpan/pit/thr/conf/perl-5.24.1/.cpanplus/5.24.1/build/7m0uEEyDtn/HTTP-Headers-Fast-0.21/blib/lib
    /usr/home/cpan/pit/thr/conf/perl-5.24.1/.cpanplus/5.24.1/build/7m0uEEyDtn/HTTP-Headers-Fast-0.21/blib/arch
    /usr/home/cpan/pit/thr/conf/perl-5.24.1/.cpanplus/5.24.1/build/v_1v1Cpt28/Test-TCP-2.19/blib/lib
    /usr/home/cpan/pit/thr/conf/perl-5.24.1/.cpanplus/5.24.1/build/v_1v1Cpt28/Test-TCP-2.19/blib/arch
    /usr/home/cpan/pit/thr/conf/perl-5.24.1/.cpanplus/5.24.1/build/AzcyVx_jci/Plack-1.0045/blib/lib
    /usr/home/cpan/pit/thr/conf/perl-5.24.1/.cpanplus/5.24.1/build/AzcyVx_jci/Plack-1.0045/blib/arch
    /usr/home/cpan/pit/thr/conf/perl-5.24.1/.cpanplus/5.24.1/build/b0NsydWr6Q/HTML-Tagset-3.20/blib/lib
    /usr/home/cpan/pit/thr/conf/perl-5.24.1/.cpanplus/5.24.1/build/b0NsydWr6Q/HTML-Tagset-3.20/blib/arch
    /usr/home/cpan/pit/thr/conf/perl-5.24.1/.cpanplus/5.24.1/build/xiWclfk_6e/HTML-Parser-3.72/blib/lib
    /usr/home/cpan/pit/thr/conf/perl-5.24.1/.cpanplus/5.24.1/build/xiWclfk_6e/HTML-Parser-3.72/blib/arch
    /usr/home/cpan/pit/thr/conf/perl-5.24.1/.cpanplus/5.24.1/build/Q4Je88L1Ma/Test-NoWarnings-1.04/blib/lib
    /usr/home/cpan/pit/thr/conf/perl-5.24.1/.cpanplus/5.24.1/build/Q4Je88L1Ma/Test-NoWarnings-1.04/blib/arch
    /usr/home/cpan/pit/thr/conf/perl-5.24.1/.cpanplus/5.24.1/build/EJimVcsRLQ/Test-Warn-0.32/blib/lib
    /usr/home/cpan/pit/thr/conf/perl-5.24.1/.cpanplus/5.24.1/build/EJimVcsRLQ/Test-Warn-0.32/blib/arch
    /usr/home/cpan/pit/thr/conf/perl-5.24.1/.cpanplus/5.24.1/build/vr9pOg3U0O/CGI-4.38/blib/lib
    /usr/home/cpan/pit/thr/conf/perl-5.24.1/.cpanplus/5.24.1/build/vr9pOg3U0O/CGI-4.38/blib/arch
    /usr/home/cpan/pit/thr/conf/perl-5.24.1/.cpanplus/5.24.1/build/PzX34wrAPx/Carp-Assert-0.21/blib/lib
    /usr/home/cpan/pit/thr/conf/perl-5.24.1/.cpanplus/5.24.1/build/PzX34wrAPx/Carp-Assert-0.21/blib/arch
    /usr/home/cpan/pit/thr/conf/perl-5.24.1/.cpanplus/5.24.1/build/VR8QJn6anm/Carp-Assert-More-1.16/blib/lib
    /usr/home/cpan/pit/thr/conf/perl-5.24.1/.cpanplus/5.24.1/build/VR8QJn6anm/Carp-Assert-More-1.16/blib/arch
    /usr/home/cpan/pit/thr/conf/perl-5.24.1/.cpanplus/5.24.1/build/lljWdWo6gF/HTML-Tree-5.07/blib/lib
    /usr/home/cpan/pit/thr/conf/perl-5.24.1/.cpanplus/5.24.1/build/lljWdWo6gF/HTML-Tree-5.07/blib/arch
    /usr/home/cpan/pit/thr/conf/perl-5.24.1/.cpanplus/5.24.1/build/w4A71jywpn/HTTP-Server-Simple-0.52/blib/lib
    /usr/home/cpan/pit/thr/conf/perl-5.24.1/.cpanplus/5.24.1/build/w4A71jywpn/HTTP-Server-Simple-0.52/blib/arch
    /usr/home/cpan/pit/thr/conf/perl-5.24.1/.cpanplus/5.24.1/build/LX1ThAaRuR/File-Listing-6.04/blib/lib
    /usr/home/cpan/pit/thr/conf/perl-5.24.1/.cpanplus/5.24.1/build/LX1ThAaRuR/File-Listing-6.04/blib/arch
    /usr/home/cpan/pit/thr/conf/perl-5.24.1/.cpanplus/5.24.1/build/yF5eWmY6D_/HTTP-Cookies-6.04/blib/lib
    /usr/home/cpan/pit/thr/conf/perl-5.24.1/.cpanplus/5.24.1/build/yF5eWmY6D_/HTTP-Cookies-6.04/blib/arch
    /usr/home/cpan/pit/thr/conf/perl-5.24.1/.cpanplus/5.24.1/build/B5xP_vXwEm/HTTP-Daemon-6.01/blib/lib
    /usr/home/cpan/pit/thr/conf/perl-5.24.1/.cpanplus/5.24.1/build/B5xP_vXwEm/HTTP-Daemon-6.01/blib/arch
    /usr/home/cpan/pit/thr/conf/perl-5.24.1/.cpanplus/5.24.1/build/In18omdfUz/HTTP-Negotiate-6.01/blib/lib
    /usr/home/cpan/pit/thr/conf/perl-5.24.1/.cpanplus/5.24.1/build/In18omdfUz/HTTP-Negotiate-6.01/blib/arch
    /usr/home/cpan/pit/thr/conf/perl-5.24.1/.cpanplus/5.24.1/build/jiyvXb1mrV/Net-HTTP-6.17/blib/lib
    /usr/home/cpan/pit/thr/conf/perl-5.24.1/.cpanplus/5.24.1/build/jiyvXb1mrV/Net-HTTP-6.17/blib/arch
    /usr/home/cpan/pit/thr/conf/perl-5.24.1/.cpanplus/5.24.1/build/IK0u53Y8rZ/Test-RequiresInternet-0.05/blib/lib
    /usr/home/cpan/pit/thr/conf/perl-5.24.1/.cpanplus/5.24.1/build/IK0u53Y8rZ/Test-RequiresInternet-0.05/blib/arch
    /usr/home/cpan/pit/thr/conf/perl-5.24.1/.cpanplus/5.24.1/build/aTNu3qnUiE/WWW-RobotRules-6.02/blib/lib
    /usr/home/cpan/pit/thr/conf/perl-5.24.1/.cpanplus/5.24.1/build/aTNu3qnUiE/WWW-RobotRules-6.02/blib/arch
    /usr/home/cpan/pit/thr/conf/perl-5.24.1/.cpanplus/5.24.1/build/MHH2dAzQrK/libwww-perl-6.31/blib/lib
    /usr/home/cpan/pit/thr/conf/perl-5.24.1/.cpanplus/5.24.1/build/MHH2dAzQrK/libwww-perl-6.31/blib/arch
    /usr/home/cpan/pit/thr/conf/perl-5.24.1/.cpanplus/5.24.1/build/0_ziwt84Gt/Test-LongString-0.17/blib/lib
    /usr/home/cpan/pit/thr/conf/perl-5.24.1/.cpanplus/5.24.1/build/0_ziwt84Gt/Test-LongString-0.17/blib/arch
    /usr/home/cpan/pit/thr/conf/perl-5.24.1/.cpanplus/5.24.1/build/ebo7ihjpNi/HTML-Form-6.03/blib/lib
    /usr/home/cpan/pit/thr/conf/perl-5.24.1/.cpanplus/5.24.1/build/ebo7ihjpNi/HTML-Form-6.03/blib/arch
    /usr/home/cpan/pit/thr/conf/perl-5.24.1/.cpanplus/5.24.1/build/Thl2YlFmuk/Test-Warnings-0.026/blib/lib
    /usr/home/cpan/pit/thr/conf/perl-5.24.1/.cpanplus/5.24.1/build/Thl2YlFmuk/Test-Warnings-0.026/blib/arch
    /usr/home/cpan/pit/thr/conf/perl-5.24.1/.cpanplus/5.24.1/build/KX5o54IIPN/WWW-Mechanize-1.86/blib/lib
    /usr/home/cpan/pit/thr/conf/perl-5.24.1/.cpanplus/5.24.1/build/KX5o54IIPN/WWW-Mechanize-1.86/blib/arch
    /usr/home/cpan/pit/thr/conf/perl-5.24.1/.cpanplus/5.24.1/build/Lsq0GVhuoI/Test-WWW-Mechanize-1.48/blib/lib
    /usr/home/cpan/pit/thr/conf/perl-5.24.1/.cpanplus/5.24.1/build/Lsq0GVhuoI/Test-WWW-Mechanize-1.48/blib/arch
    /usr/home/cpan/pit/thr/conf/perl-5.24.1/.cpanplus/5.24.1/build/kCW4928qF_/Test-WWW-Mechanize-PSGI-0.38/blib/lib
    /usr/home/cpan/pit/thr/conf/perl-5.24.1/.cpanplus/5.24.1/build/kCW4928qF_/Test-WWW-Mechanize-PSGI-0.38/blib/arch
    /usr/home/cpan/pit/thr/conf/perl-5.24.1/.cpanplus/5.24.1/build/KDcaDxwy0I/HTTP-Session2-1.10/blib/lib
    /usr/home/cpan/pit/thr/conf/perl-5.24.1/.cpanplus/5.24.1/build/KDcaDxwy0I/HTTP-Session2-1.10/blib/arch
    /usr/home/cpan/pit/thr/perl-5.24.1/lib/site_perl/5.24.1/amd64-freebsd-thread-multi
    /usr/home/cpan/pit/thr/perl-5.24.1/lib/site_perl/5.24.1
    /usr/home/cpan/pit/thr/perl-5.24.1/lib/5.24.1/amd64-freebsd-thread-multi
    /usr/home/cpan/pit/thr/perl-5.24.1/lib/5.24.1
    .