HTML-FromText v2.07 Perl 5 v5.20.1 RC1 x86_64-linux

Status
Pass
From
Slaven Rezić (SREZIC)
Dist
HTML-FromText v2.07
Platform
Perl 5 v5.20.1 RC1 x86_64-linux
Date
2014-08-31 00:37:35
ID
005bf51e-30a7-11e4-bfda-c25de0bfc7aa
This distribution has been tested as part of the CPAN Testers
project, supporting the Perl programming language.  See
http://wiki.cpantesters.org/ for more information or email
questions to cpan-testers-discuss@perl.org


--
Dear Ricardo SIGNES,

This is a computer-generated report for HTML-FromText-2.07
on perl 5.20.1, created by CPAN-Reporter-1.2011.

Thank you for uploading your work to CPAN.  Congratulations!
All tests were successful.

Sections of this report:

    * Tester comments
    * Program output
    * Prerequisites
    * Environment and other context

------------------------------
TESTER COMMENTS
------------------------------

Additional comments from tester:

none provided

------------------------------
PROGRAM OUTPUT
------------------------------

Output from '/usr/bin/make test':

PERL_DL_NONLAZY=1 /bbbike/perl-5.20.1-RC1/bin/perl "-MExtUtils::Command::MM" "-MTest::Harness" "-e" "undef *Test::Harness::Switches; test_harness(0, 'blib/lib', 'blib/arch')" t/*.t
t/00-compile.t ................ ok
# 
# 
# Generated by Dist::Zilla::Plugin::ReportVersions::Tiny v1.08
# perl: 5.020001 (wanted any version) on linux from /bbbike/perl-5.20.1-RC1/bin/perl
# 
# Carp                                          => 1.3301     (want any version)
# Email::Find::addrspec                         => 0.09       (want 0.09)   
# Exporter                                      => 5.71       (want 5.58)   
# ExtUtils::MakeMaker                           => 6.98       (want 6.30)   
# File::Find                                    => 1.27       (want any version)
# File::Spec                                    => 3.48       (want any version)
# File::Temp                                    => 0.2304     (want any version)
# HTML::Entities                                => 3.69       (want 1.26)   
# Scalar::Util                                  => 1.39       (want 1.12)   
# Test::More                                    => 1.001003   (want 0.96)   
# Test::Pod                                     => 1.48       (want 1.41)   
# Text::Tabs                                    => 2013.0523  (want 98.1128)
# strict                                        => 1.08       (want any version)
# version                                       => 0.9909     (want 0.9901) 
# warnings                                      => 1.23       (want any version)
# 
# Thanks for using my code.  I hope it works for you.
# If not, please try and include this output in the bug report.
# That will help me reproduce the issue and solve your problem.
# 
t/000-report-versions-tiny.t .. ok
t/01_features.t ............... ok
t/02_v2.01.t .................. ok
t/03_v2.02.t .................. ok
t/04_v2.03.t .................. ok
t/05_v2.04.t .................. ok
t/06_v2.05.t .................. ok
t/99_pod.t .................... ok
All tests successful.
Files=9, Tests=60,  0 wallclock secs ( 0.05 usr  0.05 sys +  0.46 cusr  0.14 csys =  0.70 CPU)
Result: PASS

------------------------------
PREREQUISITES
------------------------------

Prerequisite modules loaded:

requires:

    Module                Need    Have     
    --------------------- ------- ---------
    Carp                  0       1.3301   
    Email::Find::addrspec 0.09    0.09     
    Exporter              5.58    5.71     
    HTML::Entities        1.26    3.69     
    Scalar::Util          1.12    1.39     
    strict                0       1.08     
    Text::Tabs            98.1128 2013.0523
    warnings              0       1.23     

build_requires:

    Module                Need    Have     
    --------------------- ------- ---------
    File::Find            0       1.27     
    File::Spec            0       3.48     
    File::Temp            0       0.2304   
    Test::More            0.96    1.001003 

configure_requires:

    Module                Need    Have     
    --------------------- ------- ---------
    ExtUtils::MakeMaker   6.30    6.98     


------------------------------
ENVIRONMENT AND OTHER CONTEXT
------------------------------

Environment variables:

    DBIC_NO_WARN_BAD_PERL = 1
    LANG = C
    LC_ALL = de_DE.UTF-8
    PATH = /usr/local/bin:/usr/bin:/bin:/usr/local/sbin:/usr/sbin:/sbin:/home/eserte/bin/linux-gnu:/home/eserte/bin/sh:/home/eserte/bin:/usr/games:/home/eserte/devel:/home/eserte/src/srezic-misc/scripts
    PERL5LIB = 
    PERL5OPT = 
    PERL5_CPANPLUS_IS_RUNNING = 11497
    PERL5_CPAN_IS_RUNNING = 11497
    PERL5_CPAN_IS_RUNNING_IN_RECURSION = 32385,11497
    PERLDOC = -MPod::Perldoc::ToTextOverstrike
    PERL_BATCH = yes
    PERL_CPAN_REPORTER_CONFIG = /var/tmp/cpansmoker-1001/YnpbFoQhsM_config.ini
    PERL_EXTUTILS_AUTOINSTALL = --defaultdeps
    PERL_HTML_DISPLAY_CLASS = HTML::Display::Mozilla
    PERL_PARALLEL_SMOKER = yes
    SHELL = /bin/zsh
    TERM = screen
    TMPDIR = /var/tmp/cpansmoker-1001

Perl special variables (and OS-specific diagnostics, for MSWin32):

    $^X = /bbbike/perl-5.20.1-RC1/bin/perl
    $UID/$EUID = 1001 / 1001
    $GID = 1001 109 1001
    $EGID = 1001 109 1001

Perl module toolchain versions installed:

    Module              Have    
    ------------------- --------
    CPAN                2.05    
    CPAN::Meta          2.140640
    Cwd                 3.48    
    ExtUtils::CBuilder  0.280217
    ExtUtils::Command   1.18    
    ExtUtils::Install   1.67    
    ExtUtils::MakeMaker 6.98    
    ExtUtils::Manifest  1.65    
    ExtUtils::ParseXS   3.24    
    File::Spec          3.48    
    JSON                2.90    
    JSON::PP            2.27203 
    Module::Build       0.4208  
    Module::Signature   0.73    
    Parse::CPAN::Meta   1.4414  
    Test::Harness       3.33    
    Test::More          1.001003
    YAML                1.11    
    YAML::Syck          1.27    
    version             0.9909  


--

Summary of my perl5 (revision 5 version 20 subversion 1) configuration:
   
  Platform:
    osname=linux, osvers=3.2.0-4-amd64, archname=x86_64-linux
    uname='linux eserte 3.2.0-4-amd64 #1 smp debian 3.2.60-1+deb7u3 x86_64 gnulinux '
    config_args='-ds -e -Dprefix=/opt/perl-5.20.1-RC1'
    hint=recommended, useposix=true, d_sigaction=define
    useithreads=undef, usemultiplicity=undef
    use64bitint=define, use64bitall=define, uselongdouble=undef
    usemymalloc=n, bincompat5005=undef
  Compiler:
    cc='cc', ccflags ='-fwrapv -fno-strict-aliasing -pipe -fstack-protector -I/usr/local/include -D_LARGEFILE_SOURCE -D_FILE_OFFSET_BITS=64',
    optimize='-O2',
    cppflags='-fwrapv -fno-strict-aliasing -pipe -fstack-protector -I/usr/local/include'
    ccversion='', gccversion='4.7.2', gccosandvers=''
    intsize=4, longsize=8, ptrsize=8, doublesize=8, byteorder=12345678
    d_longlong=define, longlongsize=8, d_longdbl=define, longdblsize=16
    ivtype='long', ivsize=8, nvtype='double', nvsize=8, Off_t='off_t', lseeksize=8
    alignbytes=8, prototype=define
  Linker and Libraries:
    ld='cc', ldflags =' -fstack-protector -L/usr/local/lib'
    libpth=/usr/local/lib /usr/lib/gcc/x86_64-linux-gnu/4.7/include-fixed /usr/include/x86_64-linux-gnu /usr/lib /lib/x86_64-linux-gnu /lib/../lib /usr/lib/x86_64-linux-gnu /usr/lib/../lib /lib
    libs=-lnsl -ldb -ldl -lm -lcrypt -lutil -lc
    perllibs=-lnsl -ldl -lm -lcrypt -lutil -lc
    libc=libc-2.13.so, so=so, useshrplib=false, libperl=libperl.a
    gnulibc_version='2.13'
  Dynamic Linking:
    dlsrc=dl_dlopen.xs, dlext=so, d_dlsymun=undef, ccdlflags='-Wl,-E'
    cccdlflags='-fPIC', lddlflags='-shared -O2 -L/usr/local/lib -fstack-protector'


Characteristics of this binary (from libperl): 
  Compile-time options: HAS_TIMES PERLIO_LAYERS PERL_DONT_CREATE_GVSV
                        PERL_HASH_FUNC_ONE_AT_A_TIME_HARD PERL_MALLOC_WRAP
                        PERL_NEW_COPY_ON_WRITE PERL_PRESERVE_IVUV
                        USE_64_BIT_ALL USE_64_BIT_INT USE_LARGE_FILES
                        USE_LOCALE USE_LOCALE_COLLATE USE_LOCALE_CTYPE
                        USE_LOCALE_NUMERIC USE_PERLIO USE_PERL_ATOF
  Locally applied patches:
	RC1
  Built under linux
  Compiled at Aug 25 2014 19:48:42
  %ENV:
    PERL5LIB=""
    PERL5OPT=""
    PERL5_CPANPLUS_IS_RUNNING="11497"
    PERL5_CPAN_IS_RUNNING="11497"
    PERL5_CPAN_IS_RUNNING_IN_RECURSION="32385,11497"
    PERLDOC="-MPod::Perldoc::ToTextOverstrike"
    PERL_BATCH="yes"
    PERL_CPAN_REPORTER_CONFIG="/var/tmp/cpansmoker-1001/YnpbFoQhsM_config.ini"
    PERL_EXTUTILS_AUTOINSTALL="--defaultdeps"
    PERL_HTML_DISPLAY_CLASS="HTML::Display::Mozilla"
    PERL_PARALLEL_SMOKER="yes"
  @INC:
    /opt/perl-5.20.1-RC1/lib/site_perl/5.20.1/x86_64-linux
    /opt/perl-5.20.1-RC1/lib/site_perl/5.20.1
    /opt/perl-5.20.1-RC1/lib/5.20.1/x86_64-linux
    /opt/perl-5.20.1-RC1/lib/5.20.1
    .