SWISH-Prog v0.75 Perl 5 v5.35.5 x86_64-linux-ld

Status
Pass
From
Andreas J. König (ANDK)
Dist
SWISH-Prog v0.75
Platform
Perl 5 v5.35.5 x86_64-linux-ld
Date
2021-10-26 09:49:24
ID
00668f3a-3642-11ec-a58c-a0761bfc853c
This distribution has been tested as part of the CPAN Testers
project, supporting the Perl programming language.  See
http://wiki.cpantesters.org/ for more information or email
questions to cpan-testers-discuss@perl.org


--
Dear Peter Karman,

This is a computer-generated report for SWISH-Prog-0.75
on perl 5.35.5, created by CPAN-Reporter-1.2018.

Thank you for uploading your work to CPAN.  Congratulations!
All tests were successful.

Sections of this report:

    * Tester comments
    * Program output
    * Prerequisites
    * Environment and other context

------------------------------
TESTER COMMENTS
------------------------------

Additional comments from tester:

this report is from an automated smoke testing program
and was not reviewed by a human for accuracy

------------------------------
PROGRAM OUTPUT
------------------------------

Output from '/usr/bin/make test':

PERL_DL_NONLAZY=1 "/tmp/basesmoker-reloperl-GNsB/bin/perl" "-MExtUtils::Command::MM" "-MTest::Harness" "-e" "undef *Test::Harness::Switches; test_harness(0, 'inc', 'blib/lib', 'blib/arch')" t/*.t
# testing SWISH::Prog version 0.75
Can't exec "swish-e": No such file or directory at /tmp/loop_over_bdir-12394-dS1jlp/SWISH-Prog-0.75-0/blib/lib/SWISH/Prog/Native/Indexer.pm line 120.
t/00_synopsis.t ........... ok
Can't exec "swish-e": No such file or directory at /tmp/loop_over_bdir-12394-dS1jlp/SWISH-Prog-0.75-0/blib/lib/SWISH/Prog/Native/Indexer.pm line 120.
t/01_fs.t ................. ok
Can't exec "swish-e": No such file or directory at /tmp/loop_over_bdir-12394-dS1jlp/SWISH-Prog-0.75-0/blib/lib/SWISH/Prog/Native/Indexer.pm line 120.
t/02_dbi.t ................ ok
Can't exec "swish-e": No such file or directory at /tmp/loop_over_bdir-12394-dS1jlp/SWISH-Prog-0.75-0/blib/lib/SWISH/Prog/Native/Indexer.pm line 120.
t/03_object.t ............. ok
Can't exec "swish-e": No such file or directory at /tmp/loop_over_bdir-12394-dS1jlp/SWISH-Prog-0.75-0/blib/lib/SWISH/Prog/Native/Indexer.pm line 120.
t/04_mail.t ............... ok
# set TEST_SPIDER env var to test the spider
t/05_spider.t ............. ok
t/06_config.t ............. ok
t/08_meta.t ............... ok
t/10_config.t ............. ok
Can't exec "swish-e": No such file or directory at /tmp/loop_over_bdir-12394-dS1jlp/SWISH-Prog-0.75-0/blib/lib/SWISH/Prog/Native/Indexer.pm line 120.
t/11-leak-test.t .......... ok
Can't exec "swish-e": No such file or directory at /tmp/loop_over_bdir-12394-dS1jlp/SWISH-Prog-0.75-0/blib/lib/SWISH/Prog/Native/Indexer.pm line 120.
t/12-merge.t .............. ok
Can't exec "swish-e": No such file or directory at /tmp/loop_over_bdir-12394-dS1jlp/SWISH-Prog-0.75-0/blib/lib/SWISH/Prog/Native/Indexer.pm line 120.
t/13_mail_fs.t ............ ok
Can't exec "swish-e": No such file or directory at /tmp/loop_over_bdir-12394-dS1jlp/SWISH-Prog-0.75-0/blib/lib/SWISH/Prog/Native/Indexer.pm line 120.
t/14-search.t ............. ok
Can't exec "swish-e": No such file or directory at /tmp/loop_over_bdir-12394-dS1jlp/SWISH-Prog-0.75-0/blib/lib/SWISH/Prog/Native/Indexer.pm line 120.
t/15-index-file-config.t .. ok
t/16-replace-rules.t ...... ok
t/17-spider-server.t ...... ok
t/18-utils.t .............. ok
t/pod-coverage.t .......... skipped: set RELEASE_TESTING to test POD
t/pod.t ................... skipped: set RELEASE_TESTING to test POD
All tests successful.
Files=19, Tests=185,  3 wallclock secs ( 0.05 usr  0.07 sys +  2.07 cusr  0.78 csys =  2.97 CPU)
Result: PASS

------------------------------
PREREQUISITES
------------------------------

Prerequisite modules loaded:

requires:

    Module                       Need     Have    
    ---------------------------- -------- --------
    Config::General              2.31     2.63    
    Data::Dump                   0        1.25    
    File::Basename               0        2.85    
    File::Rules                  0.02     0.02    
    File::Slurp                  0        9999.32 
    File::Temp                   0        0.2311  
    MIME::Types                  0        2.21    
    Path::Class                  0        0.37    
    perl                         5.008003 5.035005
    Rose::DateTime               0        0.540   
    Rose::ObjectX::CAF           0        0.03    
    Scalar::Util                 0        1.60    
    Search::Query                0.17     0.307   
    Search::Tools                0.82     1.007   
    SWISH::3                     1.000005 1.000015
    SWISH::Filter                0.15     0.191   
    Test::More                   0        1.302188
    Time::HiRes                  0        1.9769  
    XML::Simple                  0        2.25    

build_requires:

    Module                       Need     Have    
    ---------------------------- -------- --------
    ExtUtils::MakeMaker          6.59     7.62    

configure_requires:

    Module                       Need     Have    
    ---------------------------- -------- --------
    ExtUtils::MakeMaker          6.59     7.62    

opt_requires:

    Module                       Need     Have    
    ---------------------------- -------- --------
    DBI                          0        1.643   
    File::Find                   0        1.39_01 
    HTML::LinkExtor              0        3.76    
    HTML::Tagset                 0        3.20    
    HTTP::Message                0        6.33    
    HTTP::Server::Simple         0        0.52    
    HTTP::Server::Simple::Authen 0        0.04    
    JSON                         2        4.03    
    LWP::RobotUA                 0        6.57    
    Mail::Box                    0        3.009   
  ! SWISH::API::Object           0.13     n/a     
    Term::ProgressBar            0        2.22    
    Test::HTTP::Server::Simple   0        0.11    
    URI                          0        5.09    
    WWW::Sitemap::XML            0        2.02    
  ! XML::Feed                    0        n/a     
    YAML::Syck                   0.72     1.34    


------------------------------
ENVIRONMENT AND OTHER CONTEXT
------------------------------

Environment variables:

    AUTOMATED_TESTING = 1
    LANG = en_US.utf8
    PATH = /home/sand/bin:/usr/local/bin:/usr/local/sbin:/usr/sbin:/usr/bin:/sbin:/bin:/usr/games:/usr/local/games:/snap/bin:/usr/local/perl/bin:/usr/X11/bin
    PERL5LIB = /tmp/loop_over_bdir-12394-dS1jlp/App-oo_modulino_zsh_completion_helper-0.04-0/blib/arch:/tmp/loop_over_bdir-12394-dS1jlp/App-oo_modulino_zsh_completion_helper-0.04-0/blib/lib:/tmp/loop_over_bdir-12394-dS1jlp/Devel-Required-0.16-0/blib/arch:/tmp/loop_over_bdir-12394-dS1jlp/Devel-Required-0.16-0/blib/lib:/tmp/loop_over_bdir-12394-dS1jlp/CGI-Application-NetNewsIface-0.0204-0/blib/arch:/tmp/loop_over_bdir-12394-dS1jlp/CGI-Application-NetNewsIface-0.0204-0/blib/lib:/tmp/loop_over_bdir-12394-dS1jlp/CORBA-Python-2.66-0/blib/arch:/tmp/loop_over_bdir-12394-dS1jlp/CORBA-Python-2.66-0/blib/lib:/tmp/loop_over_bdir-12394-dS1jlp/DBIx-Migration-Directories-0.12-0/blib/arch:/tmp/loop_over_bdir-12394-dS1jlp/DBIx-Migration-Directories-0.12-0/blib/lib:/tmp/loop_over_bdir-12394-dS1jlp/Net-OpenVPN-DDNS-0.1-0/blib/arch:/tmp/loop_over_bdir-12394-dS1jlp/Net-OpenVPN-DDNS-0.1-0/blib/lib:/tmp/loop_over_bdir-12394-dS1jlp/perl-Hardware-UPS-Perl-0.43-0/blib/arch:/tmp/loop_over_bdir-12394-dS1jlp/perl-Hardware-UPS-Perl-0.43-0/blib/lib
    PERL5OPT = 
    PERL5_CPANPLUS_IS_RUNNING = 12402
    PERL5_CPAN_IS_RUNNING = 12402
    PERL_CANARY_STABILITY_NOPROMPT = 1
    PERL_MM_USE_DEFAULT = 1
    PERL_USE_UNSAFE_INC = 1
    SHELL = /usr/bin/zsh
    TERM = screen

Perl special variables (and OS-specific diagnostics, for MSWin32):

    $^X = /tmp/basesmoker-reloperl-GNsB/bin/perl
    $UID/$EUID = 1005 / 1005
    $GID = 1005 1005
    $EGID = 1005 1005

Perl module toolchain versions installed:

    Module              Have    
    ------------------- --------
    CPAN                2.28    
    CPAN::Meta          2.150010
    Cwd                 3.82    
    ExtUtils::CBuilder  0.280236
    ExtUtils::Command   7.62    
    ExtUtils::Install   2.20    
    ExtUtils::MakeMaker 7.62    
    ExtUtils::Manifest  1.73    
    ExtUtils::ParseXS   3.44    
    File::Spec          3.81    
    JSON                4.03    
    JSON::PP            4.06    
    Module::Build       0.4231  
    Module::Signature   0.87    
    Parse::CPAN::Meta   2.150010
    Test::Harness       3.43    
    Test::More          1.302188
    YAML                1.30    
    YAML::Syck          1.34    
    version             0.9929  


--

Summary of my perl5 (revision 5 version 35 subversion 5) configuration:
  Commit id: 14713429e65eb99c419694960cf6bdb876d43270
  Platform:
    osname=linux
    osvers=4.15.0-159-generic
    archname=x86_64-linux-ld
    uname='linux k93bionic 4.15.0-159-generic #167-ubuntu smp tue sep 21 08:55:05 utc 2021 x86_64 x86_64 x86_64 gnulinux '
    config_args='-Dprefix=/home/sand/src/perl/repoperls/installed-perls/host/k93bionic/v5.35.5/ca05 -Dmyhostname=k93bionic -Dinstallusrbinperl=n -Uversiononly -Dusedevel -des -Ui_db -Dlibswanted=cl pthread socket inet nsl gdbm dbm malloc dl ld sun m crypt sec util c cposix posix ucb BSD gdbm_compat -Uuseithreads -Duselongdouble -DEBUGGING=-g'
    hint=recommended
    useposix=true
    d_sigaction=define
    useithreads=undef
    usemultiplicity=undef
    use64bitint=define
    use64bitall=define
    uselongdouble=define
    usemymalloc=n
    default_inc_excludes_dot=define
  Compiler:
    cc='cc'
    ccflags ='-fwrapv -fno-strict-aliasing -pipe -fstack-protector-strong -I/usr/local/include -D_LARGEFILE_SOURCE -D_FILE_OFFSET_BITS=64'
    optimize='-O2 -g'
    cppflags='-fwrapv -fno-strict-aliasing -pipe -fstack-protector-strong -I/usr/local/include'
    ccversion=''
    gccversion='7.5.0'
    gccosandvers=''
    intsize=4
    longsize=8
    ptrsize=8
    doublesize=8
    byteorder=12345678
    doublekind=3
    d_longlong=define
    longlongsize=8
    d_longdbl=define
    longdblsize=16
    longdblkind=3
    ivtype='long'
    ivsize=8
    nvtype='long double'
    nvsize=16
    Off_t='off_t'
    lseeksize=8
    alignbytes=16
    prototype=define
  Linker and Libraries:
    ld='cc'
    ldflags =' -fstack-protector-strong -L/usr/local/lib'
    libpth=/usr/local/lib /usr/lib/x86_64-linux-gnu /usr/lib /lib/x86_64-linux-gnu /lib
    libs=-lpthread -lnsl -ldl -lm -lcrypt -lutil -lc
    perllibs=-lpthread -lnsl -ldl -lm -lcrypt -lutil -lc
    libc=libc-2.27.so
    so=so
    useshrplib=false
    libperl=libperl.a
    gnulibc_version='2.27'
  Dynamic Linking:
    dlsrc=dl_dlopen.xs
    dlext=so
    d_dlsymun=undef
    ccdlflags='-Wl,-E'
    cccdlflags='-fPIC'
    lddlflags='-shared -O2 -g -L/usr/local/lib -fstack-protector-strong'


Characteristics of this binary (from libperl): 
  Compile-time options:
    HAS_TIMES
    PERLIO_LAYERS
    PERL_COPY_ON_WRITE
    PERL_DONT_CREATE_GVSV
    PERL_MALLOC_WRAP
    PERL_OP_PARENT
    PERL_PRESERVE_IVUV
    PERL_USE_DEVEL
    USE_64_BIT_ALL
    USE_64_BIT_INT
    USE_LARGE_FILES
    USE_LOCALE
    USE_LOCALE_COLLATE
    USE_LOCALE_CTYPE
    USE_LOCALE_NUMERIC
    USE_LOCALE_TIME
    USE_LONG_DOUBLE
    USE_PERLIO
    USE_PERL_ATOF
  Built under linux
  Compiled at Oct 22 2021 00:42:08
  %ENV:
    PERL5LIB="/tmp/loop_over_bdir-12394-dS1jlp/App-oo_modulino_zsh_completion_helper-0.04-0/blib/arch:/tmp/loop_over_bdir-12394-dS1jlp/App-oo_modulino_zsh_completion_helper-0.04-0/blib/lib:/tmp/loop_over_bdir-12394-dS1jlp/Devel-Required-0.16-0/blib/arch:/tmp/loop_over_bdir-12394-dS1jlp/Devel-Required-0.16-0/blib/lib:/tmp/loop_over_bdir-12394-dS1jlp/CGI-Application-NetNewsIface-0.0204-0/blib/arch:/tmp/loop_over_bdir-12394-dS1jlp/CGI-Application-NetNewsIface-0.0204-0/blib/lib:/tmp/loop_over_bdir-12394-dS1jlp/CORBA-Python-2.66-0/blib/arch:/tmp/loop_over_bdir-12394-dS1jlp/CORBA-Python-2.66-0/blib/lib:/tmp/loop_over_bdir-12394-dS1jlp/DBIx-Migration-Directories-0.12-0/blib/arch:/tmp/loop_over_bdir-12394-dS1jlp/DBIx-Migration-Directories-0.12-0/blib/lib:/tmp/loop_over_bdir-12394-dS1jlp/Net-OpenVPN-DDNS-0.1-0/blib/arch:/tmp/loop_over_bdir-12394-dS1jlp/Net-OpenVPN-DDNS-0.1-0/blib/lib:/tmp/loop_over_bdir-12394-dS1jlp/perl-Hardware-UPS-Perl-0.43-0/blib/arch:/tmp/loop_over_bdir-12394-dS1jlp/perl-Hardware-UPS-Perl-0.43-0/blib/lib"
    PERL5OPT=""
    PERL5_CPANPLUS_IS_RUNNING="12402"
    PERL5_CPAN_IS_RUNNING="12402"
    PERL_CANARY_STABILITY_NOPROMPT="1"
    PERL_MM_USE_DEFAULT="1"
    PERL_USE_UNSAFE_INC="1"
  @INC:
    /tmp/loop_over_bdir-12394-dS1jlp/App-oo_modulino_zsh_completion_helper-0.04-0/blib/arch
    /tmp/loop_over_bdir-12394-dS1jlp/App-oo_modulino_zsh_completion_helper-0.04-0/blib/lib
    /tmp/loop_over_bdir-12394-dS1jlp/Devel-Required-0.16-0/blib/arch
    /tmp/loop_over_bdir-12394-dS1jlp/Devel-Required-0.16-0/blib/lib
    /tmp/loop_over_bdir-12394-dS1jlp/CGI-Application-NetNewsIface-0.0204-0/blib/arch
    /tmp/loop_over_bdir-12394-dS1jlp/CGI-Application-NetNewsIface-0.0204-0/blib/lib
    /tmp/loop_over_bdir-12394-dS1jlp/CORBA-Python-2.66-0/blib/arch
    /tmp/loop_over_bdir-12394-dS1jlp/CORBA-Python-2.66-0/blib/lib
    /tmp/loop_over_bdir-12394-dS1jlp/DBIx-Migration-Directories-0.12-0/blib/arch
    /tmp/loop_over_bdir-12394-dS1jlp/DBIx-Migration-Directories-0.12-0/blib/lib
    /tmp/loop_over_bdir-12394-dS1jlp/Net-OpenVPN-DDNS-0.1-0/blib/arch
    /tmp/loop_over_bdir-12394-dS1jlp/Net-OpenVPN-DDNS-0.1-0/blib/lib
    /tmp/loop_over_bdir-12394-dS1jlp/perl-Hardware-UPS-Perl-0.43-0/blib/arch
    /tmp/loop_over_bdir-12394-dS1jlp/perl-Hardware-UPS-Perl-0.43-0/blib/lib
    /home/sand/src/perl/repoperls/installed-perls/host/k93bionic/v5.35.5/ca05/lib/site_perl/5.35.5/x86_64-linux-ld
    /home/sand/src/perl/repoperls/installed-perls/host/k93bionic/v5.35.5/ca05/lib/site_perl/5.35.5
    /home/sand/src/perl/repoperls/installed-perls/host/k93bionic/v5.35.5/ca05/lib/5.35.5/x86_64-linux-ld
    /home/sand/src/perl/repoperls/installed-perls/host/k93bionic/v5.35.5/ca05/lib/5.35.5
    .