Dist-Zilla-Plugin-RequiresExternal v1.007 Perl 5 v5.27.2 x86_64-linux

Status
Pass
From
Slaven Rezić (SREZIC)
Dist
Dist-Zilla-Plugin-RequiresExternal v1.007
Platform
Perl 5 v5.27.2 x86_64-linux
Date
2017-08-16 20:25:10
ID
006e8480-82c1-11e7-8f67-c36e75589d76
This distribution has been tested as part of the CPAN Testers
project, supporting the Perl programming language.  See
http://wiki.cpantesters.org/ for more information or email
questions to cpan-testers-discuss@perl.org


--
Dear Mark Gardner,

This is a computer-generated report for Dist-Zilla-Plugin-RequiresExternal-1.007
on perl 5.27.2, created by CPAN-Reporter-1.2018.

Thank you for uploading your work to CPAN.  Congratulations!
All tests were successful.

Sections of this report:

    * Tester comments
    * Program output
    * Prerequisites
    * Environment and other context

------------------------------
TESTER COMMENTS
------------------------------

Additional comments from tester:

none provided

------------------------------
PROGRAM OUTPUT
------------------------------

Output from '/usr/bin/make test':

PERL_DL_NONLAZY=1 "/opt/perl-5.27.2/bin/perl5.27.2" "-MExtUtils::Command::MM" "-MTest::Harness" "-e" "undef *Test::Harness::Switches; test_harness(0, 'blib/lib', 'blib/arch')" t/*.t
t/00-compile.t ................... ok
# Testing with Perl 5.027002, /opt/perl-5.27.2/bin/perl5.27.2
#     Carp version is 1.38
#     Cwd version is 3.62
#     Dist::Zilla::App version is 6.010
#     Dist::Zilla::File::InMemory version is 6.010
#     Dist::Zilla::Role::FileGatherer version is 6.010
#     Dist::Zilla::Role::MetaProvider version is 6.010
#     Dist::Zilla::Role::Plugin version is 6.010
#     Dist::Zilla::Role::TextTemplate version is 6.010
#     English version is 1.10
#     Env::Path version is 0.19
#     ExtUtils::MakeMaker version is 7.3
#     File::Spec version is 3.62
#     IO::Handle version is 1.36
#     IPC::Open3 version is 1.20
#     List::MoreUtils version is 0.419
#     Modern::Perl version is 1.20170117
#     Moose version is 2.2006
#     MooseX::AttributeShortcuts version is 0.032
#     MooseX::Types::Moose version is 0.50
#     Path::Class version is 0.37
#     Scalar::Util version is 1.48
#     Test::DZil version is 6.010
#     Test::More version is 1.302086
#     Test::Most version is 0.35
#     Test::Output version is 1.031
#     blib version is 1.06
#     namespace::autoclean version is 0.28
#     strict version is 1.11
#     utf8 version is 1.19
#     warnings version is 1.37
t/000-report-versions.t .......... ok
t/author-critic.t ................ skipped: these tests are for testing by the author
t/author-eol.t ................... skipped: these tests are for testing by the author
t/author-mojibake.t .............. skipped: these tests are for testing by the author
t/author-no-tabs.t ............... skipped: these tests are for testing by the author
t/author-pod-coverage.t .......... skipped: these tests are for testing by the author
t/author-pod-linkcheck.t ......... skipped: these tests are for testing by the author
t/author-pod-syntax.t ............ skipped: these tests are for testing by the author
t/author-portability.t ........... skipped: these tests are for testing by the author
t/author-synopsis.t .............. skipped: these tests are for testing by the author
t/author-test-version.t .......... skipped: these tests are for testing by the author
t/externaldeps.t ................. ok

#   Failed test 'this_is_supposed_to_fail in PATH'
#   at t/000-requires_external.t line 8.
# Looks like you failed 1 test of 1.
FAILED--Further testing stopped: Test failed.  BAIL OUT!.
make[1]: *** [test_dynamic] Error 255
t/fatal.t ........................ ok
t/release-changes_has_content.t .. skipped: these tests are for release candidate testing
t/release-cpan-changes.t ......... skipped: these tests are for release candidate testing
t/release-dist-manifest.t ........ skipped: these tests are for release candidate testing
t/release-distmeta.t ............. skipped: these tests are for release candidate testing
t/release-kwalitee.t ............. skipped: these tests are for release candidate testing
t/release-meta-json.t ............ skipped: these tests are for release candidate testing
t/release-minimum-version.t ...... skipped: these tests are for release candidate testing
t/release-portability.t .......... skipped: these tests are for release candidate testing
t/release-unused-vars.t .......... skipped: these tests are for release candidate testing
t/test.t ......................... ok
All tests successful.
Files=24, Tests=41,  3 wallclock secs ( 0.04 usr  0.08 sys +  2.90 cusr  0.48 csys =  3.50 CPU)
Result: PASS

------------------------------
PREREQUISITES
------------------------------

Prerequisite modules loaded:

requires:

    Module                          Need  Have      
    ------------------------------- ----- ----------
    Dist::Zilla::App                0     6.010     
    Dist::Zilla::File::InMemory     0     6.010     
    Dist::Zilla::Role::FileGatherer 0     6.010     
    Dist::Zilla::Role::MetaProvider 0     6.010     
    Dist::Zilla::Role::Plugin       0     6.010     
    Dist::Zilla::Role::TextTemplate 0     6.010     
    English                         0     1.10      
    Env::Path                       0.18  0.19      
    List::MoreUtils                 0     0.419     
    Modern::Perl                    0     1.20170117
    Moose                           0     2.2006    
    MooseX::AttributeShortcuts      0     0.032     
    MooseX::Types::Moose            0     0.50      
    namespace::autoclean            0     0.28      
    Path::Class                     0     0.37      
    perl                            5.010 5.027002  
    Test::Most                      0     0.35      
    utf8                            0     1.19      

build_requires:

    Module                          Need  Have      
    ------------------------------- ----- ----------
    blib                            1.01  1.06      
    Carp                            0     1.38      
    Cwd                             0     3.62      
    Env::Path                       0.18  0.19      
    ExtUtils::MakeMaker             0     7.30      
    File::Spec                      0     3.62      
    IO::Handle                      0     1.36      
    IPC::Open3                      0     1.20      
    Scalar::Util                    0     1.48      
    strict                          0     1.11      
    Test::DZil                      0     6.010     
    Test::More                      0.94  1.302086  
    Test::Most                      0     0.35      
    Test::Output                    0     1.031     
    warnings                        0     1.37      

configure_requires:

    Module                          Need  Have      
    ------------------------------- ----- ----------
    ExtUtils::MakeMaker             0     7.30      


------------------------------
ENVIRONMENT AND OTHER CONTEXT
------------------------------

Environment variables:

    LANG = C
    PATH = /usr/local/bin:/usr/bin:/bin:/usr/local/sbin:/usr/sbin:/sbin:/home/cpansand/bin/linux-gnu:/home/cpansand/bin/sh:/home/cpansand/bin:/usr/games:/home/cpansand/devel:/home/eserte/src/srezic-misc/scripts
    PERL5LIB = 
    PERL5OPT = 
    PERL5_CPANPLUS_IS_RUNNING = 21626
    PERL5_CPAN_IS_RUNNING = 21626
    PERL5_CPAN_IS_RUNNING_IN_RECURSION = 21530,21626
    PERLDOC = -MPod::Perldoc::ToTextOverstrike
    PERL_BATCH = yes
    PERL_CANARY_STABILITY_NOPROMPT = 1
    PERL_CPAN_REPORTER_CONFIG = /var/tmp/cpansmoker-1023/2017081618/cpanreporter_000_config.ini
    PERL_EXTUTILS_AUTOINSTALL = --defaultdeps
    PERL_USE_UNSAFE_INC = 1
    SHELL = /usr/bin/zsh
    TERM = screen
    TMPDIR = /var/tmp/cpansmoker-1023/2017081618

Perl special variables (and OS-specific diagnostics, for MSWin32):

    $^X = /opt/perl-5.27.2/bin/perl5.27.2
    $UID/$EUID = 1023 / 1023
    $GID = 1023 1023
    $EGID = 1023 1023

Perl module toolchain versions installed:

    Module              Have    
    ------------------- --------
    CPAN                2.16    
    CPAN::Meta          2.150010
    Cwd                 3.62    
    ExtUtils::CBuilder  0.280226
    ExtUtils::Command   7.30    
    ExtUtils::Install   2.14    
    ExtUtils::MakeMaker 7.30    
    ExtUtils::Manifest  1.70    
    ExtUtils::ParseXS   3.30    
    File::Spec          3.62    
    JSON                2.94    
    JSON::PP            2.94    
    Module::Build       0.4224  
    Module::Signature   0.81    
    Parse::CPAN::Meta   2.150010
    Test::Harness       3.39    
    Test::More          1.302086
    YAML                1.23    
    YAML::Syck          1.30    
    version             0.9918  


--

Summary of my perl5 (revision 5 version 27 subversion 2) configuration:
   
  Platform:
    osname=linux
    osvers=4.9.0-3-amd64
    archname=x86_64-linux
    uname='linux debian9 4.9.0-3-amd64 #1 smp debian 4.9.30-2+deb9u2 (2017-06-26) x86_64 gnulinux '
    config_args='-ds -e -Dprefix=/opt/perl-5.27.2 -Dusedevel -Dusemallocwrap=no -Dcf_email=srezic@cpan.org'
    hint=recommended
    useposix=true
    d_sigaction=define
    useithreads=undef
    usemultiplicity=undef
    use64bitint=define
    use64bitall=define
    uselongdouble=undef
    usemymalloc=n
    default_inc_excludes_dot=define
    bincompat5005=undef
  Compiler:
    cc='cc'
    ccflags ='-fwrapv -fno-strict-aliasing -pipe -fstack-protector-strong -I/usr/local/include -D_LARGEFILE_SOURCE -D_FILE_OFFSET_BITS=64'
    optimize='-O2'
    cppflags='-fwrapv -fno-strict-aliasing -pipe -fstack-protector-strong -I/usr/local/include'
    ccversion=''
    gccversion='6.3.0 20170516'
    gccosandvers=''
    intsize=4
    longsize=8
    ptrsize=8
    doublesize=8
    byteorder=12345678
    doublekind=3
    d_longlong=define
    longlongsize=8
    d_longdbl=define
    longdblsize=16
    longdblkind=3
    ivtype='long'
    ivsize=8
    nvtype='double'
    nvsize=8
    Off_t='off_t'
    lseeksize=8
    alignbytes=8
    prototype=define
  Linker and Libraries:
    ld='cc'
    ldflags =' -fstack-protector-strong -L/usr/local/lib'
    libpth=/usr/local/lib /usr/lib/gcc/x86_64-linux-gnu/6/include-fixed /usr/include/x86_64-linux-gnu /usr/lib /lib/x86_64-linux-gnu /lib/../lib /usr/lib/x86_64-linux-gnu /usr/lib/../lib /lib
    libs=-lpthread -lnsl -lgdbm -ldb -ldl -lm -lcrypt -lutil -lc -lgdbm_compat
    perllibs=-lpthread -lnsl -ldl -lm -lcrypt -lutil -lc
    libc=libc-2.24.so
    so=so
    useshrplib=false
    libperl=libperl.a
    gnulibc_version='2.24'
  Dynamic Linking:
    dlsrc=dl_dlopen.xs
    dlext=so
    d_dlsymun=undef
    ccdlflags='-Wl,-E'
    cccdlflags='-fPIC'
    lddlflags='-shared -O2 -L/usr/local/lib -fstack-protector-strong'


Characteristics of this binary (from libperl): 
  Compile-time options:
    HAS_TIMES
    PERLIO_LAYERS
    PERL_COPY_ON_WRITE
    PERL_DONT_CREATE_GVSV
    PERL_OP_PARENT
    PERL_PRESERVE_IVUV
    PERL_USE_DEVEL
    USE_64_BIT_ALL
    USE_64_BIT_INT
    USE_LARGE_FILES
    USE_LOCALE
    USE_LOCALE_COLLATE
    USE_LOCALE_CTYPE
    USE_LOCALE_NUMERIC
    USE_LOCALE_TIME
    USE_PERLIO
    USE_PERL_ATOF
  Built under linux
  Compiled at Jul 20 2017 21:00:25
  %ENV:
    PERL5LIB=""
    PERL5OPT=""
    PERL5_CPANPLUS_IS_RUNNING="21626"
    PERL5_CPAN_IS_RUNNING="21626"
    PERL5_CPAN_IS_RUNNING_IN_RECURSION="21530,21626"
    PERLDOC="-MPod::Perldoc::ToTextOverstrike"
    PERL_BATCH="yes"
    PERL_CANARY_STABILITY_NOPROMPT="1"
    PERL_CPAN_REPORTER_CONFIG="/var/tmp/cpansmoker-1023/2017081618/cpanreporter_000_config.ini"
    PERL_EXTUTILS_AUTOINSTALL="--defaultdeps"
    PERL_USE_UNSAFE_INC="1"
  @INC:
    /opt/perl-5.27.2/lib/site_perl/5.27.2/x86_64-linux
    /opt/perl-5.27.2/lib/site_perl/5.27.2
    /opt/perl-5.27.2/lib/5.27.2/x86_64-linux
    /opt/perl-5.27.2/lib/5.27.2
    .