Data-FormValidator v4.81 Perl 5 v5.12.5 x86_64-linux-thread-multi

Status
Pass
From
Nigel Horne
Dist
Data-FormValidator v4.81
Platform
Perl 5 v5.12.5 x86_64-linux-thread-multi
Date
2016-04-22 18:28:25
ID
00828d9c-08b8-11e6-a6f2-e12f13c359e3
This distribution has been tested as part of the CPAN Testers
project, supporting the Perl programming language.  See
http://wiki.cpantesters.org/ for more information or email
questions to cpan-testers-discuss@perl.org


--
Dear Mark Stosberg,

This is a computer-generated report for Data-FormValidator-4.81
on perl 5.12.5, created by CPAN-Reporter-1.2017.

Thank you for uploading your work to CPAN.  Congratulations!
All tests were successful.

Sections of this report:

    * Tester comments
    * Program output
    * Prerequisites
    * Environment and other context

------------------------------
TESTER COMMENTS
------------------------------

Additional comments from tester:

this report is from an automated smoke testing program
and was not reviewed by a human for accuracy

------------------------------
PROGRAM OUTPUT
------------------------------

Output from './Build test':

t/00_base.t .............................. ok
CGI::param called in list context from /home/njh/.cpan/build/Data-FormValidator-4.81-1_XA3z/blib/lib/Data/FormValidator/Results.pm line 1074, this can lead to vulnerabilities. See the warning in "Fetching the value or values of a single named parameter" at /home/njh/perl5/perlbrew/perls/perl-5.12.5/lib/site_perl/5.12.5/CGI.pm line 405.
t/03_dependency.t ........................ ok
t/04_arrayify_undef.t .................... ok
t/05_valid_ip_address.t .................. ok
t/02_code_ref.t .......................... ok
t/13_validator_packages.t ................ ok
t/17_multi_valued_keys.t ................. ok
t/09_require_some.t ...................... ok
t/15_literal_param_constraints.t ......... ok
t/19_refs_as_values.t .................... ok
CGI::param called in list context from /home/njh/.cpan/build/Data-FormValidator-4.81-1_XA3z/blib/lib/Data/FormValidator/Results.pm line 1074, this can lead to vulnerabilities. See the warning in "Fetching the value or values of a single named parameter" at /home/njh/perl5/perlbrew/perls/perl-5.12.5/lib/site_perl/5.12.5/CGI.pm line 405.
t/16_cgi_object.t ........................ ok
t/21_multiple_fields.t ................... ok
t/25_results.t ........................... ok
t/20_careful_exception_handling.t ........ ok
t/06_regexp_map.t ........................ ok
t/18_constraint_refs.t ................... ok
t/30_filter_definedness.t ................ ok
t/any_errors.t ........................... ok
t/check_profile_syntax.t ................. ok
t/27_qualify_ref_happy_death.t ........... ok
t/28_defaults_for_new.t .................. ok
t/constraint_method.t .................... ok
t/11_procedural_match.t .................. ok
t/constraint_method_string.t ............. ok
t/FV_length.t ............................ ok
t/constraint_method_zero.t ............... ok
t/constraints_builtin.t .................. ok
t/26_qr.t ................................ ok
t/constraints_invalid_once_only.t ........ ok
t/closure_msgs.t ......................... ok
t/constraints_builtin_closure.t .......... ok
t/constraints_factory.t .................. ok
t/constraints_reuse.t .................... ok
t/constraints_num_values.t ............... ok
t/dates.t ................................ ok
t/constraint_regexp_map_profile_reuse.t .. ok
t/filters_shouldnt_modify.t .............. ok
t/filters_builtin.t ...................... ok
t/get_filtered_data.t .................... ok
t/constraints_regexp_map_interaction.t ... ok
t/credit_card.t .......................... ok
t/dependency_coderef.t ................... ok
CGI::param called in list context from /home/njh/.cpan/build/Data-FormValidator-4.81-1_XA3z/blib/lib/Data/FormValidator/Results.pm line 1074, this can lead to vulnerabilities. See the warning in "Fetching the value or values of a single named parameter" at /home/njh/perl5/perlbrew/perls/perl-5.12.5/lib/site_perl/5.12.5/CGI.pm line 405.
t/get_input_data.t ....................... ok
t/dates_closure.t ........................ ok
CGI::param called in list context from /home/njh/.cpan/build/Data-FormValidator-4.81-1_XA3z/blib/lib/Data/FormValidator/Results.pm line 1074, this can lead to vulnerabilities. See the warning in "Fetching the value or values of a single named parameter" at /home/njh/perl5/perlbrew/perls/perl-5.12.5/lib/site_perl/5.12.5/CGI.pm line 405.
t/dependency_groups.t .................... ok
CGI::param called in list context from /home/njh/.cpan/build/Data-FormValidator-4.81-1_XA3z/blib/lib/Data/FormValidator/Results.pm line 1074, this can lead to vulnerabilities. See the warning in "Fetching the value or values of a single named parameter" at /home/njh/perl5/perlbrew/perls/perl-5.12.5/lib/site_perl/5.12.5/CGI.pm line 405.
t/params_not_mentioned.t ................. ok
t/filter_constraints.t ................... ok
t/multiple_constraints.t ................. ok
t/profile_checking.t ..................... ok
t/results_success.t ...................... ok
t/rename_builtin_constraints.t ........... ok
CGI::param called in list context from /home/njh/.cpan/build/Data-FormValidator-4.81-1_XA3z/blib/lib/Data/FormValidator/Results.pm line 1074, this can lead to vulnerabilities. See the warning in "Fetching the value or values of a single named parameter" at /home/njh/perl5/perlbrew/perls/perl-5.12.5/lib/site_perl/5.12.5/CGI.pm line 405.
t/missing_optional.t ..................... ok
t/unknown.t .............................. ok
t/regexp_common_closure.t ................ ok
t/regexp_common.t ........................ ok
t/msgs.t ................................. ok
t/procedural_valid.t ..................... ok
t/upload_mime_types.t .................... ok
# testing with CGI.pm version: 4.25
CGI::param called in list context from /home/njh/.cpan/build/Data-FormValidator-4.81-1_XA3z/blib/lib/Data/FormValidator/Results.pm line 1074, this can lead to vulnerabilities. See the warning in "Fetching the value or values of a single named parameter" at /home/njh/perl5/perlbrew/perls/perl-5.12.5/lib/site_perl/5.12.5/CGI.pm line 405.
t/tt_and_overload.t ...................... skipped: Template Toolkit required
t/undefined_arrayref.t ................... ok
t/pod.t .................................. ok
t/simple.t ............................... ok
# Skipping CGI::Simple Tests
# testing with CGI.pm version: 4.25
# Running tests with CGI
CGI::param called in list context from /home/njh/.cpan/build/Data-FormValidator-4.81-1_XA3z/blib/lib/Data/FormValidator/Results.pm line 1074, this can lead to vulnerabilities. See the warning in "Fetching the value or values of a single named parameter" at /home/njh/perl5/perlbrew/perls/perl-5.12.5/lib/site_perl/5.12.5/CGI.pm line 405.
t/upload_closure.t ....................... ok
t/untaint.t .............................. ok
t/upload.t ............................... ok
All tests successful.
Files=65, Tests=605,  1 wallclock secs ( 0.19 usr  0.08 sys +  3.81 cusr  0.64 csys =  4.72 CPU)
Result: PASS

------------------------------
PREREQUISITES
------------------------------

Prerequisite modules loaded:

requires:

    Module          Need  Have      
    --------------- ----- ----------
    Date::Calc      5     6.4       
    Email::Valid    0     1.195     
    File::MMagic    1.17  1.30      
    Image::Size     0     3.300     
    MIME::Types     1.005 2.12      
    overload        0     1.10      
    perl            5.008 5.012005  
    Perl6::Junction 1.1   1.60000   
    Regexp::Common  0     2016020301
    Scalar::Util    0     1.41      
    Test::More      0     1.001014  

build_requires:

    Module          Need  Have      
    --------------- ----- ----------
    CGI             3.48  4.25      

configure_requires:

    Module          Need  Have      
    --------------- ----- ----------
    Module::Build   0.38  0.4214    


------------------------------
ENVIRONMENT AND OTHER CONTEXT
------------------------------

Environment variables:

    AUTOMATED_TESTING = 1
    HARNESS_OPTIONS = j12
    LANG = en_US.UTF-8
    LD_LIBRARY_PATH = /usr/local/lib::
    PATH = /home/njh/perl5/perlbrew/bin:/home/njh/perl5/perlbrew/perls/perl-5.12.5/bin:/home/njh/perl5/perlbrew/bin:/usr/local/bin:/usr/bin:/bin:/usr/local/games:/usr/games:/home/njh/bin:/sbin
    PERL5LIB = /home/njh/.cpan/build/Regexp-Common-2016020301-Q0ED3t/blib/arch:/home/njh/.cpan/build/Regexp-Common-2016020301-Q0ED3t/blib/lib:/home/njh/.cpan/build/Perl6-Junction-1.60000-PjMMhM/blib/arch:/home/njh/.cpan/build/Perl6-Junction-1.60000-PjMMhM/blib/lib:/home/njh/.cpan/build/File-MMagic-1.30-b5DEgE/blib/arch:/home/njh/.cpan/build/File-MMagic-1.30-b5DEgE/blib/lib:/home/njh/.cpan/build/Session-Token-1.502-m7mfdA/blib/arch:/home/njh/.cpan/build/Session-Token-1.502-m7mfdA/blib/lib:/home/njh/.cpan/build/Image-Size-3.300-ojEaIu/blib/arch:/home/njh/.cpan/build/Image-Size-3.300-ojEaIu/blib/lib:/home/njh/.cpan/build/JSON-XS-3.02-fiOkWS/blib/arch:/home/njh/.cpan/build/JSON-XS-3.02-fiOkWS/blib/lib:/home/njh/.cpan/build/Types-Serialiser-1.0-TzSQT_/blib/arch:/home/njh/.cpan/build/Types-Serialiser-1.0-TzSQT_/blib/lib:/home/njh/.cpan/build/common-sense-3.74-uKBNBU/blib/arch:/home/njh/.cpan/build/common-sense-3.74-uKBNBU/blib/lib:/home/njh/.cpan/build/Canary-Stability-2011-FaAzLU/blib/arch:/home/njh/.cpan/build/Canary-Stability-2011-FaAzLU/blib/lib:/home/njh/.cpan/build/Data-Phrasebook-0.35-AUx3b0/blib/arch:/home/njh/.cpan/build/Data-Phrasebook-0.35-AUx3b0/blib/lib:/home/njh/.cpan/build/HTML-TagCloud-0.38-rsVnqq/blib/arch:/home/njh/.cpan/build/HTML-TagCloud-0.38-rsVnqq/blib/lib
    PERL5OPT = 
    PERL5_CPANPLUS_IS_RUNNING = 23037
    PERL5_CPAN_IS_RUNNING = 23037
    PERLBREW_BASHRC_VERSION = 0.75
    PERLBREW_HOME = /home/njh/.perlbrew
    PERLBREW_LIB = 
    PERLBREW_MANPATH = /home/njh/perl5/perlbrew/perls/perl-5.12.5/man
    PERLBREW_PATH = /home/njh/perl5/perlbrew/bin:/home/njh/perl5/perlbrew/perls/perl-5.12.5/bin
    PERLBREW_PERL = perl-5.12.5
    PERLBREW_ROOT = /home/njh/perl5/perlbrew
    PERLBREW_VERSION = 0.75
    PERL_LOCAL_LIB_ROOT = 
    SHELL = /bin/bash
    TERM = xterm-256color

Perl special variables (and OS-specific diagnostics, for MSWin32):

    $^X = /home/njh/perl5/perlbrew/perls/perl-5.12.5/bin/perl
    $UID/$EUID = 1000 / 1000
    $GID = 1000 4 24 25 29 30 44 46 103 104 107 110 1000
    $EGID = 1000 4 24 25 29 30 44 46 103 104 107 110 1000

Perl module toolchain versions installed:

    Module              Have    
    ------------------- --------
    CPAN                1.9800  
    CPAN::Meta          2.150005
    Cwd                 3.47    
    ExtUtils::CBuilder  0.280224
    ExtUtils::Command   7.12    
    ExtUtils::Install   2.04    
    ExtUtils::MakeMaker 7.12    
    ExtUtils::Manifest  1.70    
    ExtUtils::ParseXS   3.30    
    File::Spec          3.47    
    JSON                2.90    
    JSON::PP            2.27300 
    Module::Build       0.4214  
    Module::Signature   n/a     
    Parse::CPAN::Meta   1.4414  
    Test::Harness       3.35    
    Test::More          1.001014
    YAML                1.15    
    YAML::Syck          1.29    
    version             0.9912  


--

Summary of my perl5 (revision 5 version 12 subversion 5) configuration:
   
  Platform:
    osname=linux, osvers=3.16-2-amd64, archname=x86_64-linux-thread-multi
    uname='linux cyberpower2 3.16-2-amd64 #1 smp debian 3.16.3-2 (2014-09-20) x86_64 gnulinux '
    config_args='-de -Dprefix=/home/njh/perl5/perlbrew/perls/perl-5.12.5 -Duseithreads -Dusemultiplicity -Dusedevel -Accflags=-O2 -W -Wformat=2 -Wswitch -Wshadow -Wwrite-strings -Wuninitialized -Wall -pipe -mtune=native -march=native -fomit-frame-pointer -msse2 -msse -mmmx -mfpmath=sse -pedantic -D_FORTIFY_SOURCE=2 -Wpointer-arith -Wstrict-prototypes -fstack-protector -Wstack-protector -Wextra -Wbad-function-cast -Wcast-align -Wcast-qual -Wdisabled-optimization -Wendif-labels -Wfloat-equal -Wformat-nonliteral -Winline -Wmissing-declarations -Wmissing-prototypes -Wnested-externs -Wpointer-arith -Wundef -Wformat-security -ftree-vectorize -fdiagnostics-color=auto -Aeval:scriptdir=/home/njh/perl5/perlbrew/perls/perl-5.12.5/bin'
    hint=recommended, useposix=true, d_sigaction=define
    useithreads=define, usemultiplicity=define
    useperlio=define, d_sfio=undef, uselargefiles=define, usesocks=undef
    use64bitint=define, use64bitall=define, uselongdouble=undef
    usemymalloc=n, bincompat5005=undef
  Compiler:
    cc='cc', ccflags ='-D_REENTRANT -D_GNU_SOURCE -O2 -W -Wformat=2 -Wswitch -Wshadow -Wwrite-strings -Wuninitialized -Wall -pipe -mtune=native -march=native -fomit-frame-pointer -msse2 -msse -mmmx -mfpmath=sse -pedantic -D_FORTIFY_SOURCE=2 -Wpointer-arith -Wstrict-prototypes -fstack-protector -Wstack-protector -Wextra -Wbad-function-cast -Wcast-align -Wcast-qual -Wdisabled-optimization -Wendif-labels -Wfloat-equal -Wformat-nonliteral -Winline -Wmissing-declarations -Wmissing-prototypes -Wnested-externs -Wpointer-arith -Wundef -Wformat-security -ftree-vectorize -fdiagnostics-color=auto -fno-strict-aliasing -I/usr/local/include -D_LARGEFILE_SOURCE -D_FILE_OFFSET_BITS=64',
    optimize='-O2',
    cppflags='-D_REENTRANT -D_GNU_SOURCE -O2 -W -Wformat=2 -Wswitch -Wshadow -Wwrite-strings -Wuninitialized -Wall -pipe -mtune=native -march=native -fomit-frame-pointer -msse2 -msse -mmmx -mfpmath=sse -pedantic -D_FORTIFY_SOURCE=2 -Wpointer-arith -Wstrict-prototypes -fstack-protector -Wstack-protector -Wextra -Wbad-function-cast -Wcast-align -Wcast-qual -Wdisabled-optimization -Wendif-labels -Wfloat-equal -Wformat-nonliteral -Winline -Wmissing-declarations -Wmissing-prototypes -Wnested-externs -Wpointer-arith -Wundef -Wformat-security -ftree-vectorize -fdiagnostics-color=auto -fno-strict-aliasing -I/usr/local/include'
    ccversion='', gccversion='4.9.1', gccosandvers=''
    intsize=4, longsize=8, ptrsize=8, doublesize=8, byteorder=12345678
    d_longlong=define, longlongsize=8, d_longdbl=define, longdblsize=16
    ivtype='long', ivsize=8, nvtype='double', nvsize=8, Off_t='off_t', lseeksize=8
    alignbytes=8, prototype=define
  Linker and Libraries:
    ld='cc', ldflags =' -fstack-protector -L/usr/local/lib'
    libpth=/usr/local/lib /lib/x86_64-linux-gnu /lib/../lib /usr/lib/x86_64-linux-gnu /usr/lib/../lib /lib /usr/lib
    libs=-lnsl -lgdbm -ldb -ldl -lm -lcrypt -lutil -lpthread -lc -lgdbm_compat
    perllibs=-lnsl -ldl -lm -lcrypt -lutil -lpthread -lc
    libc=libc-2.19.so, so=so, useshrplib=false, libperl=libperl.a
    gnulibc_version='2.19'
  Dynamic Linking:
    dlsrc=dl_dlopen.xs, dlext=so, d_dlsymun=undef, ccdlflags='-Wl,-E'
    cccdlflags='-fPIC', lddlflags='-shared -O2 -L/usr/local/lib -fstack-protector'


Characteristics of this binary (from libperl): 
  Compile-time options: MULTIPLICITY PERL_DONT_CREATE_GVSV
                        PERL_IMPLICIT_CONTEXT PERL_MALLOC_WRAP PERL_USE_DEVEL
                        USE_64_BIT_ALL USE_64_BIT_INT USE_ITHREADS
                        USE_LARGE_FILES USE_PERLIO USE_PERL_ATOF
                        USE_REENTRANT_API
  Built under linux
  Compiled at Oct 15 2014 10:26:39
  %ENV:
    PERL5LIB="/home/njh/.cpan/build/Regexp-Common-2016020301-Q0ED3t/blib/arch:/home/njh/.cpan/build/Regexp-Common-2016020301-Q0ED3t/blib/lib:/home/njh/.cpan/build/Perl6-Junction-1.60000-PjMMhM/blib/arch:/home/njh/.cpan/build/Perl6-Junction-1.60000-PjMMhM/blib/lib:/home/njh/.cpan/build/File-MMagic-1.30-b5DEgE/blib/arch:/home/njh/.cpan/build/File-MMagic-1.30-b5DEgE/blib/lib:/home/njh/.cpan/build/Session-Token-1.502-m7mfdA/blib/arch:/home/njh/.cpan/build/Session-Token-1.502-m7mfdA/blib/lib:/home/njh/.cpan/build/Image-Size-3.300-ojEaIu/blib/arch:/home/njh/.cpan/build/Image-Size-3.300-ojEaIu/blib/lib:/home/njh/.cpan/build/JSON-XS-3.02-fiOkWS/blib/arch:/home/njh/.cpan/build/JSON-XS-3.02-fiOkWS/blib/lib:/home/njh/.cpan/build/Types-Serialiser-1.0-TzSQT_/blib/arch:/home/njh/.cpan/build/Types-Serialiser-1.0-TzSQT_/blib/lib:/home/njh/.cpan/build/common-sense-3.74-uKBNBU/blib/arch:/home/njh/.cpan/build/common-sense-3.74-uKBNBU/blib/lib:/home/njh/.cpan/build/Canary-Stability-2011-FaAzLU/blib/arch:/home/njh/.cpan/build/Canary-Stability-2011-FaAzLU/blib/lib:/home/njh/.cpan/build/Data-Phrasebook-0.35-AUx3b0/blib/arch:/home/njh/.cpan/build/Data-Phrasebook-0.35-AUx3b0/blib/lib:/home/njh/.cpan/build/HTML-TagCloud-0.38-rsVnqq/blib/arch:/home/njh/.cpan/build/HTML-TagCloud-0.38-rsVnqq/blib/lib"
    PERL5OPT=""
    PERL5_CPANPLUS_IS_RUNNING="23037"
    PERL5_CPAN_IS_RUNNING="23037"
    PERLBREW_BASHRC_VERSION="0.75"
    PERLBREW_HOME="/home/njh/.perlbrew"
    PERLBREW_LIB=""
    PERLBREW_MANPATH="/home/njh/perl5/perlbrew/perls/perl-5.12.5/man"
    PERLBREW_PATH="/home/njh/perl5/perlbrew/bin:/home/njh/perl5/perlbrew/perls/perl-5.12.5/bin"
    PERLBREW_PERL="perl-5.12.5"
    PERLBREW_ROOT="/home/njh/perl5/perlbrew"
    PERLBREW_VERSION="0.75"
    PERL_LOCAL_LIB_ROOT=""
  @INC:
    /home/njh/.cpan/build/Regexp-Common-2016020301-Q0ED3t/blib/arch
    /home/njh/.cpan/build/Regexp-Common-2016020301-Q0ED3t/blib/lib
    /home/njh/.cpan/build/Perl6-Junction-1.60000-PjMMhM/blib/arch
    /home/njh/.cpan/build/Perl6-Junction-1.60000-PjMMhM/blib/lib
    /home/njh/.cpan/build/File-MMagic-1.30-b5DEgE/blib/arch
    /home/njh/.cpan/build/File-MMagic-1.30-b5DEgE/blib/lib
    /home/njh/.cpan/build/Session-Token-1.502-m7mfdA/blib/arch
    /home/njh/.cpan/build/Session-Token-1.502-m7mfdA/blib/lib
    /home/njh/.cpan/build/Image-Size-3.300-ojEaIu/blib/arch
    /home/njh/.cpan/build/Image-Size-3.300-ojEaIu/blib/lib
    /home/njh/.cpan/build/JSON-XS-3.02-fiOkWS/blib/arch
    /home/njh/.cpan/build/JSON-XS-3.02-fiOkWS/blib/lib
    /home/njh/.cpan/build/Types-Serialiser-1.0-TzSQT_/blib/arch
    /home/njh/.cpan/build/Types-Serialiser-1.0-TzSQT_/blib/lib
    /home/njh/.cpan/build/common-sense-3.74-uKBNBU/blib/arch
    /home/njh/.cpan/build/common-sense-3.74-uKBNBU/blib/lib
    /home/njh/.cpan/build/Canary-Stability-2011-FaAzLU/blib/arch
    /home/njh/.cpan/build/Canary-Stability-2011-FaAzLU/blib/lib
    /home/njh/.cpan/build/Data-Phrasebook-0.35-AUx3b0/blib/arch
    /home/njh/.cpan/build/Data-Phrasebook-0.35-AUx3b0/blib/lib
    /home/njh/.cpan/build/HTML-TagCloud-0.38-rsVnqq/blib/arch
    /home/njh/.cpan/build/HTML-TagCloud-0.38-rsVnqq/blib/lib
    /home/njh/perl5/perlbrew/perls/perl-5.12.5/lib/site_perl/5.12.5/x86_64-linux-thread-multi
    /home/njh/perl5/perlbrew/perls/perl-5.12.5/lib/site_perl/5.12.5
    /home/njh/perl5/perlbrew/perls/perl-5.12.5/lib/5.12.5/x86_64-linux-thread-multi
    /home/njh/perl5/perlbrew/perls/perl-5.12.5/lib/5.12.5
    .