Mojolicious-Plugin-Export-Git v0.003 Perl 5 v5.33.9 x86_64-linux

Status
Pass
From
Slaven Rezić
Dist
Mojolicious-Plugin-Export-Git v0.003
Platform
Perl 5 v5.33.9 x86_64-linux
Date
2021-05-09 13:03:51
ID
0091b850-b0c7-11eb-b200-583a1f24ea8f
This distribution has been tested as part of the CPAN Testers
project, supporting the Perl programming language.  See
http://wiki.cpantesters.org/ for more information or email
questions to cpan-testers-discuss@perl.org


--
Dear Doug Bell,

This is a computer-generated report for Mojolicious-Plugin-Export-Git-0.003
on perl 5.33.9, created by CPAN-Reporter-1.2018.

Thank you for uploading your work to CPAN.  Congratulations!
All tests were successful.

Sections of this report:

    * Tester comments
    * Program output
    * Prerequisites
    * Environment and other context

------------------------------
TESTER COMMENTS
------------------------------

Additional comments from tester:

none provided

------------------------------
PROGRAM OUTPUT
------------------------------

Output from '/usr/bin/make test':

PERL_DL_NONLAZY=1 "/opt/perl-5.33.9/bin/perl5.33.9" "-MExtUtils::Command::MM" "-MTest::Harness" "-e" "undef *Test::Harness::Switches; test_harness(0, 'blib/lib', 'blib/arch')" t/*.t
t/00-compile.t ......... ok
# 
# Versions for all modules listed in MYMETA.json (including optional ones):
# 
# === Configure Requires ===
# 
#     Module              Want Have
#     ------------------- ---- ----
#     ExtUtils::MakeMaker  any 7.62
# 
# === Build Requires ===
# 
#     Module              Want Have
#     ------------------- ---- ----
#     ExtUtils::MakeMaker  any 7.62
# 
# === Test Requires ===
# 
#     Module              Want     Have
#     ------------------- ---- --------
#     ExtUtils::MakeMaker  any     7.62
#     File::Spec           any     3.80
#     IO::Handle           any     1.46
#     IPC::Open3           any     1.21
#     Test::More           any 1.302183
# 
# === Test Recommends ===
# 
#     Module         Want     Have
#     ---------- -------- --------
#     CPAN::Meta 2.120900 2.150010
# 
# === Runtime Requires ===
# 
#     Module                       Want  Have
#     --------------------------- ----- -----
#     Git::Repository             1.322 1.324
#     Mojolicious                     8  9.17
#     Mojolicious::Plugin::Export 0.008 0.008
# 
t/00-report-prereqs.t .. ok
# Git version: 2.020001
[2021-05-09 13:02:21.05379] [31486] [debug] [p_AyVugPXtmk] GET "/"
[2021-05-09 13:02:21.06224] [31486] [debug] [p_AyVugPXtmk] Rendering template "index.html.ep" from DATA section
[2021-05-09 13:02:21.06927] [31486] [debug] [p_AyVugPXtmk] 200 OK (0.015458s, 64.691/s)
[2021-05-09 13:02:25.19744] [31486] [debug] [0wum7DE7rejS] GET "/"
[2021-05-09 13:02:25.20065] [31486] [debug] [0wum7DE7rejS] Rendering template "index.html.ep" from DATA section
[2021-05-09 13:02:25.20230] [31486] [debug] [0wum7DE7rejS] 200 OK (0.004837s, 206.740/s)
[2021-05-09 13:02:28.02988] [31486] [debug] [Do3u1O21X3jF] GET "/"
[2021-05-09 13:02:28.03111] [31486] [debug] [Do3u1O21X3jF] Rendering cached template "index.html.ep" from DATA section
[2021-05-09 13:02:28.03151] [31486] [debug] [Do3u1O21X3jF] 200 OK (0.001605s, 623.053/s)
[2021-05-09 13:02:30.55447] [31486] [debug] [DPJ9w3hsGB0U] GET "/"
[2021-05-09 13:02:30.55526] [31486] [debug] [DPJ9w3hsGB0U] Rendering cached template "index.html.ep" from DATA section
[2021-05-09 13:02:30.55565] [31486] [debug] [DPJ9w3hsGB0U] 200 OK (0.001154s, 866.551/s)
[2021-05-09 13:02:34.74827] [31486] [debug] [TIYR8RNLSNZ4] GET "/"
[2021-05-09 13:02:34.75145] [31486] [debug] [TIYR8RNLSNZ4] Rendering template "index.html.ep" from DATA section
[2021-05-09 13:02:34.88955] [31486] [debug] [TIYR8RNLSNZ4] 200 OK (0.141268s, 7.079/s)
[2021-05-09 13:02:39.18008] [31486] [debug] [ENaK1-_IHrnk] GET "/"
[2021-05-09 13:02:39.18369] [31486] [debug] [ENaK1-_IHrnk] Rendering template "index.html.ep" from DATA section
[2021-05-09 13:02:39.18520] [31486] [debug] [ENaK1-_IHrnk] 200 OK (0.005111s, 195.656/s)
[2021-05-09 13:02:40.09018] [31486] [debug] [XQzDijPU1_G0] GET "/"
[2021-05-09 13:02:40.09102] [31486] [debug] [XQzDijPU1_G0] Rendering cached template "index.html.ep" from DATA section
[2021-05-09 13:02:40.09141] [31486] [debug] [XQzDijPU1_G0] 200 OK (0.00122s, 819.672/s)
t/git.t ................ ok
All tests successful.
Files=3, Tests=7, 32 wallclock secs ( 0.07 usr  0.08 sys +  5.59 cusr 19.83 csys = 25.57 CPU)
Result: PASS

------------------------------
PREREQUISITES
------------------------------

Prerequisite modules loaded:

requires:

    Module                      Need  Have    
    --------------------------- ----- --------
    Git::Repository             1.322 1.324   
    Mojolicious                 8     9.17    
    Mojolicious::Plugin::Export 0.008 0.008   
    perl                        5.014 5.033009

build_requires:

    Module                      Need  Have    
    --------------------------- ----- --------
    ExtUtils::MakeMaker         0     7.62    
    File::Spec                  0     3.80    
    IO::Handle                  0     1.46    
    IPC::Open3                  0     1.21    
    Test::More                  0     1.302183

configure_requires:

    Module                      Need  Have    
    --------------------------- ----- --------
    ExtUtils::MakeMaker         0     7.62    


------------------------------
ENVIRONMENT AND OTHER CONTEXT
------------------------------

Environment variables:

    LANG = C
    PATH = /usr/local/bin:/usr/bin:/bin:/usr/local/sbin:/usr/sbin:/sbin:/home/cpansand/bin/linux-gnu:/home/cpansand/bin/sh:/home/cpansand/bin:/usr/games:/home/cpansand/devel:/home/eserte/src/srezic-misc/scripts
    PERL5LIB = 
    PERL5OPT = 
    PERL5_CPANPLUS_IS_RUNNING = 30950
    PERL5_CPAN_IS_RUNNING = 30950
    PERL5_CPAN_IS_RUNNING_IN_RECURSION = 19078,30950
    PERLDOC = -MPod::Perldoc::ToTextOverstrike
    PERL_BATCH = yes
    PERL_CANARY_STABILITY_NOPROMPT = 1
    PERL_CPAN_REPORTER_CONFIG = /var/tmp/cpansmoker-1023/2021050912/cpanreporter_000_config.ini
    PERL_EXTUTILS_AUTOINSTALL = --defaultdeps
    PERL_USE_UNSAFE_INC = 1
    SHELL = /usr/bin/zsh
    TERM = screen
    TMPDIR = /var/tmp/cpansmoker-1023/2021050912

Perl special variables (and OS-specific diagnostics, for MSWin32):

    $^X = /opt/perl-5.33.9/bin/perl5.33.9
    $UID/$EUID = 1023 / 1023
    $GID = 1023 1023
    $EGID = 1023 1023

Perl module toolchain versions installed:

    Module              Have    
    ------------------- --------
    CPAN                2.28    
    CPAN::Meta          2.150010
    Cwd                 3.80    
    ExtUtils::CBuilder  0.280236
    ExtUtils::Command   7.62    
    ExtUtils::Install   2.20    
    ExtUtils::MakeMaker 7.62    
    ExtUtils::Manifest  1.73    
    ExtUtils::ParseXS   3.43    
    File::Spec          3.80    
    JSON                4.03    
    JSON::PP            4.06    
    Module::Build       0.4231  
    Module::Signature   n/a     
    Parse::CPAN::Meta   2.150010
    Test::Harness       3.43    
    Test::More          1.302183
    YAML                1.30    
    YAML::Syck          1.34    
    version             0.9928  


--

Summary of my perl5 (revision 5 version 33 subversion 9) configuration:
   
  Platform:
    osname=linux
    osvers=4.19.0-16-amd64
    archname=x86_64-linux
    uname='linux debian10 4.19.0-16-amd64 #1 smp debian 4.19.181-1 (2021-03-19) x86_64 gnulinux '
    config_args='-ds -e -Dprefix=/opt/perl-5.33.9 -Dusedevel -Dusemallocwrap=no -Dcf_email=srezic@cpan.org'
    hint=recommended
    useposix=true
    d_sigaction=define
    useithreads=undef
    usemultiplicity=undef
    use64bitint=define
    use64bitall=define
    uselongdouble=undef
    usemymalloc=n
    default_inc_excludes_dot=define
  Compiler:
    cc='cc'
    ccflags ='-fwrapv -fno-strict-aliasing -pipe -fstack-protector-strong -I/usr/local/include -D_LARGEFILE_SOURCE -D_FILE_OFFSET_BITS=64 -D_FORTIFY_SOURCE=2'
    optimize='-O2'
    cppflags='-fwrapv -fno-strict-aliasing -pipe -fstack-protector-strong -I/usr/local/include'
    ccversion=''
    gccversion='8.3.0'
    gccosandvers=''
    intsize=4
    longsize=8
    ptrsize=8
    doublesize=8
    byteorder=12345678
    doublekind=3
    d_longlong=define
    longlongsize=8
    d_longdbl=define
    longdblsize=16
    longdblkind=3
    ivtype='long'
    ivsize=8
    nvtype='double'
    nvsize=8
    Off_t='off_t'
    lseeksize=8
    alignbytes=8
    prototype=define
  Linker and Libraries:
    ld='cc'
    ldflags =' -fstack-protector-strong -L/usr/local/lib'
    libpth=/usr/local/lib /usr/lib/x86_64-linux-gnu /usr/lib /lib/x86_64-linux-gnu /lib
    libs=-lpthread -lnsl -lgdbm -ldb -ldl -lm -lcrypt -lutil -lc
    perllibs=-lpthread -lnsl -ldl -lm -lcrypt -lutil -lc
    libc=libc-2.28.so
    so=so
    useshrplib=false
    libperl=libperl.a
    gnulibc_version='2.28'
  Dynamic Linking:
    dlsrc=dl_dlopen.xs
    dlext=so
    d_dlsymun=undef
    ccdlflags='-Wl,-E'
    cccdlflags='-fPIC'
    lddlflags='-shared -O2 -L/usr/local/lib -fstack-protector-strong'


Characteristics of this binary (from libperl): 
  Compile-time options:
    HAS_TIMES
    PERLIO_LAYERS
    PERL_COPY_ON_WRITE
    PERL_DONT_CREATE_GVSV
    PERL_OP_PARENT
    PERL_PRESERVE_IVUV
    PERL_USE_DEVEL
    USE_64_BIT_ALL
    USE_64_BIT_INT
    USE_LARGE_FILES
    USE_LOCALE
    USE_LOCALE_COLLATE
    USE_LOCALE_CTYPE
    USE_LOCALE_NUMERIC
    USE_LOCALE_TIME
    USE_PERLIO
    USE_PERL_ATOF
  Built under linux
  Compiled at Apr 30 2021 16:46:44
  %ENV:
    PERL5LIB=""
    PERL5OPT=""
    PERL5_CPANPLUS_IS_RUNNING="30950"
    PERL5_CPAN_IS_RUNNING="30950"
    PERL5_CPAN_IS_RUNNING_IN_RECURSION="19078,30950"
    PERLDOC="-MPod::Perldoc::ToTextOverstrike"
    PERL_BATCH="yes"
    PERL_CANARY_STABILITY_NOPROMPT="1"
    PERL_CPAN_REPORTER_CONFIG="/var/tmp/cpansmoker-1023/2021050912/cpanreporter_000_config.ini"
    PERL_EXTUTILS_AUTOINSTALL="--defaultdeps"
    PERL_USE_UNSAFE_INC="1"
  @INC:
    /opt/perl-5.33.9/lib/site_perl/5.33.9/x86_64-linux
    /opt/perl-5.33.9/lib/site_perl/5.33.9
    /opt/perl-5.33.9/lib/5.33.9/x86_64-linux
    /opt/perl-5.33.9/lib/5.33.9
    .