Git-Repository-Plugin-Blame vv1.3.0 Perl 5 v5.18.2 MSWin32-x86-multi-thread-64int
- Status
- Pass
- From
- Alexandr Ciornii (CHORNY)
- Dist
-
Git-Repository-Plugin-Blame vv1.3.0
- Platform
- Perl 5 v5.18.2 MSWin32-x86-multi-thread-64int
- Date
- 2015-05-25 09:13:29
- ID
- 009dbd0e-6bf6-1014-b82c-9edcb55a623c
This distribution has been tested as part of the CPAN Testers
project, supporting the Perl programming language. See
http://wiki.cpantesters.org/ for more information or email
questions to cpan-testers-discuss@perl.org
--
Dear Guillaume Aubert,
This is a computer-generated report for Git-Repository-Plugin-Blame-v1.3.0
on perl 5.18.2, created by CPAN-Reporter-1.2011_02.
Thank you for uploading your work to CPAN. Congratulations!
All tests were successful.
Sections of this report:
* Tester comments
* Program output
* Prerequisites
* Environment and other context
------------------------------
TESTER COMMENTS
------------------------------
Additional comments from tester:
this report is from an automated smoke testing program
and was not reviewed by a human for accuracy
------------------------------
PROGRAM OUTPUT
------------------------------
Output from 'C:\strawberry182\perl\bin\perl.exe ./Build test':
# Testing Git::Repository::Plugin::Blame 1.3.0, Perl 5.018002, C:\strawberry182\perl\bin\perl.exe
t/00-load.t ........................ ok
# Testing Git::Repository::Plugin::Blame::Cache 1.3.0, Perl 5.018002, C:\strawberry182\perl\bin\perl.exe
t/05-Cache/00-load.t ............... ok
t/05-Cache/10-new.t ................ ok
t/05-Cache/15-get_repository.t ..... ok
t/05-Cache/20-set_blame_lines.t .... ok
t/05-Cache/25-get_blame_lines.t .... ok
t/10-blame-ignore_whitespace.t ..... skipped: Default git binary not found in PATH
t/10-blame.t ....................... skipped: Default git binary not found in PATH
# Testing Git::Repository::Plugin::Blame::Line 1.3.0, Perl 5.018002, C:\strawberry182\perl\bin\perl.exe
t/Line/00-load.t ................... ok
t/Line/10-new.t .................... ok
t/Line/20-get_commit_attributes.t .. ok
t/Line/30-get_commit_id.t .......... ok
t/Line/40-get_line.t ............... ok
t/Line/50-get_line_number.t ........ ok
All tests successful.
Files=14, Tests=43, 3 wallclock secs ( 0.02 usr + 0.12 sys = 0.14 CPU)
Result: PASS
------------------------------
PREREQUISITES
------------------------------
Prerequisite modules loaded:
requires:
Module Need Have
---------------------------- ----- --------
Carp 0 1.32
Class::Load 0.2 0.20
Data::Validate::Type 0 1.5.1
Git::Repository 1.2 1.311
Git::Repository::Plugin::Log 0 1.310
perl 5.006 5.018002
Perl6::Slurp 0 0.051005
build_requires:
Module Need Have
---------------------------- ----- --------
Data::Dumper 0 2.145
Test::Deep 0 0.112
Test::Exception 0 0.32
Test::FailWarnings 0 0.008
Test::Git 0 1.311
Test::More 0 1.001002
Test::Type 0 1.2.0
configure_requires:
Module Need Have
---------------------------- ----- --------
Module::Build 0 0.4203
------------------------------
ENVIRONMENT AND OTHER CONTEXT
------------------------------
Environment variables:
AUTOMATED_TESTING = 1
COMSPEC = C:\WINDOWS\system32\cmd.exe
NUMBER_OF_PROCESSORS = 1
PATH = C:\WINDOWS\system32;C:\WINDOWS;C:\WINDOWS\System32\Wbem;C:\strawberry182\c\bin;C:\strawberry182\perl\site\bin;C:\strawberry182\perl\bin
PERL5LIB = C:\strawberry182\cpan\build\Perl6-Slurp-0.051005-dxgJuD/blib/arch;C:\strawberry182\cpan\build\Perl6-Slurp-0.051005-dxgJuD/blib/lib;C:\strawberry182\cpan\build\Test-Type-v1.2.0-bO48IJ/blib/arch;C:\strawberry182\cpan\build\Test-Type-v1.2.0-bO48IJ/blib/lib;C:\strawberry182\cpan\build\Data-Validate-Type-v1.5.1-LUbBlN/blib/arch;C:\strawberry182\cpan\build\Data-Validate-Type-v1.5.1-LUbBlN/blib/lib
PERL5OPT =
PERL5_CPANPLUS_IS_RUNNING = 1276
PERL5_CPAN_IS_RUNNING = 1276
PERL5_CPAN_IS_RUNNING_IN_RECURSION = 1700,1276
PERL_CR_SMOKER_CURRENT = Git-Repository-Plugin-Blame-v1.3.0
PERL_CR_SMOKER_RUNONCE = 1
PERL_EXTUTILS_AUTOINSTALL = --defaultdeps
PERL_HASH_SEED = 0x11111111
PERL_MM_USE_DEFAULT = 1
PROCESSOR_IDENTIFIER = x86 Family 16 Model 5 Stepping 3, AuthenticAMD
TEMP = C:\DOCUME~1\c\LOCALS~1\Temp
TERM = dumb
Perl special variables (and OS-specific diagnostics, for MSWin32):
$^X = C:\strawberry182\perl\bin\perl.exe
$UID/$EUID = 0 / 0
$GID = 0
$EGID = 0
Win32::GetOSName = WinXP/.Net
Win32::GetOSVersion = Service Pack 3, 5, 1, 2600, 2, 3, 0, 256, 1
Win32::FsType = NTFS
Win32::IsAdminUser = 1
Perl module toolchain versions installed:
Module Have
------------------- --------
CPAN 2.00
CPAN::Meta 2.133380
Cwd 3.40
ExtUtils::CBuilder 0.280212
ExtUtils::Command 1.18
ExtUtils::Install 1.59
ExtUtils::MakeMaker 6.84
ExtUtils::Manifest 1.63
ExtUtils::ParseXS 3.22
File::Spec 3.40
JSON 2.90
JSON::PP 2.27203
Module::Build 0.4203
Module::Signature n/a
Parse::CPAN::Meta 1.4414
Test::Harness 3.30
Test::More 1.001002
YAML 0.90
YAML::Syck 1.27
version 0.9904
--
Summary of my perl5 (revision 5 version 18 subversion 2) configuration:
Platform:
osname=MSWin32, osvers=6.2, archname=MSWin32-x86-multi-thread-64int
uname='Win32 strawberry-perl 5.18.2.1 #1 Tue Jan 7 16:30:36 2014 i386'
config_args='undef'
hint=recommended, useposix=true, d_sigaction=undef
useithreads=define, usemultiplicity=define
useperlio=define, d_sfio=undef, uselargefiles=define, usesocks=undef
use64bitint=define, use64bitall=undef, uselongdouble=undef
usemymalloc=n, bincompat5005=undef
Compiler:
cc='gcc', ccflags =' -s -O2 -DWIN32 -DPERL_TEXTMODE_SCRIPTS -DPERL_IMPLICIT_CONTEXT -DPERL_IMPLICIT_SYS -DUSE_PERLIO -fno-strict-aliasing -mms-bitfields',
optimize='-s -O2',
cppflags='-DWIN32'
ccversion='', gccversion='4.7.3', gccosandvers=''
intsize=4, longsize=4, ptrsize=4, doublesize=8, byteorder=12345678
d_longlong=define, longlongsize=8, d_longdbl=define, longdblsize=12
ivtype='long long', ivsize=8, nvtype='double', nvsize=8, Off_t='long long', lseeksize=8
alignbytes=8, prototype=define
Linker and Libraries:
ld='g++', ldflags ='-s -L"C:\strawberry182\perl\lib\CORE" -L"C:\strawberry182\c\lib"'
libpth=C:\strawberry182\c\lib C:\strawberry182\c\i686-w64-mingw32\lib C:\strawberry182\c\lib\gcc\i686-w64-mingw32\4.7.3
libs=-lmoldname -lkernel32 -luser32 -lgdi32 -lwinspool -lcomdlg32 -ladvapi32 -lshell32 -lole32 -loleaut32 -lnetapi32 -luuid -lws2_32 -lmpr -lwinmm -lversion -lodbc32 -lodbccp32 -lcomctl32
perllibs=-lmoldname -lkernel32 -luser32 -lgdi32 -lwinspool -lcomdlg32 -ladvapi32 -lshell32 -lole32 -loleaut32 -lnetapi32 -luuid -lws2_32 -lmpr -lwinmm -lversion -lodbc32 -lodbccp32 -lcomctl32
libc=, so=dll, useshrplib=true, libperl=libperl518.a
gnulibc_version=''
Dynamic Linking:
dlsrc=dl_win32.xs, dlext=dll, d_dlsymun=undef, ccdlflags=' '
cccdlflags=' ', lddlflags='-mdll -s -L"C:\strawberry182\perl\lib\CORE" -L"C:\strawberry182\c\lib"'
Characteristics of this binary (from libperl):
Compile-time options: HAS_TIMES HAVE_INTERP_INTERN MULTIPLICITY
PERLIO_LAYERS PERL_DONT_CREATE_GVSV
PERL_HASH_FUNC_ONE_AT_A_TIME_HARD
PERL_IMPLICIT_CONTEXT PERL_IMPLICIT_SYS
PERL_MALLOC_WRAP PERL_PRESERVE_IVUV PERL_SAWAMPERSAND
USE_64_BIT_INT USE_ITHREADS USE_LARGE_FILES
USE_LOCALE USE_LOCALE_COLLATE USE_LOCALE_CTYPE
USE_LOCALE_NUMERIC USE_PERLIO USE_PERL_ATOF
Built under MSWin32
Compiled at Jan 7 2014 16:39:31
%ENV:
PERL5LIB="C:\strawberry182\cpan\build\Perl6-Slurp-0.051005-dxgJuD/blib/arch;C:\strawberry182\cpan\build\Perl6-Slurp-0.051005-dxgJuD/blib/lib;C:\strawberry182\cpan\build\Test-Type-v1.2.0-bO48IJ/blib/arch;C:\strawberry182\cpan\build\Test-Type-v1.2.0-bO48IJ/blib/lib;C:\strawberry182\cpan\build\Data-Validate-Type-v1.5.1-LUbBlN/blib/arch;C:\strawberry182\cpan\build\Data-Validate-Type-v1.5.1-LUbBlN/blib/lib"
PERL5_CPANPLUS_IS_RUNNING="1276"
PERL5_CPAN_IS_RUNNING="1276"
PERL5_CPAN_IS_RUNNING_IN_RECURSION="1700,1276"
PERL_CR_SMOKER_CURRENT="Git-Repository-Plugin-Blame-v1.3.0"
PERL_CR_SMOKER_RUNONCE="1"
PERL_EXTUTILS_AUTOINSTALL="--defaultdeps"
PERL_HASH_SEED="0x11111111"
PERL_MM_USE_DEFAULT="1"
@INC:
C:\strawberry182\cpan\build\Perl6-Slurp-0.051005-dxgJuD/blib/arch
C:\strawberry182\cpan\build\Perl6-Slurp-0.051005-dxgJuD/blib/lib
C:\strawberry182\cpan\build\Test-Type-v1.2.0-bO48IJ/blib/arch
C:\strawberry182\cpan\build\Test-Type-v1.2.0-bO48IJ/blib/lib
C:\strawberry182\cpan\build\Data-Validate-Type-v1.5.1-LUbBlN/blib/arch
C:\strawberry182\cpan\build\Data-Validate-Type-v1.5.1-LUbBlN/blib/lib
C:/strawberry182/perl/site/lib
C:/strawberry182/perl/vendor/lib
C:/strawberry182/perl/lib
.