Test-WWW-Selenium-HTML v0.02 Perl 5 v5.22.0 OpenBSD.i386-openbsd

Status
Pass
From
Alceu Rodrigues de Freitas Junior
Dist
Test-WWW-Selenium-HTML v0.02
Platform
Perl 5 v5.22.0 OpenBSD.i386-openbsd
Date
2015-11-24 19:46:06
ID
009ff4d0-92e4-11e5-88fe-a73fda6dc54d
This distribution has been tested as part of the CPAN Testers
project, supporting the Perl programming language.  See
http://wiki.cpantesters.org/ for more information or email
questions to cpan-testers-discuss@perl.org


--
Dear APNIC (Asia-Pacific Network Information Centre),

This is a computer-generated report for Test-WWW-Selenium-HTML-0.02
on perl 5.22.0, created by CPAN-Reporter-1.2015.

Thank you for uploading your work to CPAN.  Congratulations!
All tests were successful.

Sections of this report:

    * Tester comments
    * Program output
    * Prerequisites
    * Environment and other context

------------------------------
TESTER COMMENTS
------------------------------

Additional comments from tester:

this report is from an automated smoke testing program
and was not reviewed by a human for accuracy

------------------------------
PROGRAM OUTPUT
------------------------------

Output from '/usr/bin/make test':

PERL_DL_NONLAZY=1 "/home/arfreitas/perl5/perlbrew/perls/perl-5.22.0/bin/perl" "-MExtUtils::Command::MM" "-MTest::Harness" "-e" "undef *Test::Harness::Switches; test_harness(0, 'blib/lib', 'blib/arch')" t/*.t
Unescaped left brace in regex is deprecated, passed through in regex; marked by <-- HERE in m/\${ <-- HERE (.*?)}/ at /tmp/cpan/build/Test-WWW-Selenium-HTML-0.02-dAemRA/blib/lib/Test/WWW/Selenium/HTML.pm line 234.
Unescaped left brace in regex is deprecated, passed through in regex; marked by <-- HERE in m/^javascript{ <-- HERE .*}/ at /tmp/cpan/build/Test-WWW-Selenium-HTML-0.02-dAemRA/blib/lib/Test/WWW/Selenium/HTML.pm line 241.
Unescaped left brace in regex is deprecated, passed through in regex; marked by <-- HERE in m/^javascript{ <-- HERE (.*)}$/ at /tmp/cpan/build/Test-WWW-Selenium-HTML-0.02-dAemRA/blib/lib/Test/WWW/Selenium/HTML.pm line 474.
t/001basic.t ......... ok
t/002pod.t ........... ok
Unescaped left brace in regex is deprecated, passed through in regex; marked by <-- HERE in m/\${ <-- HERE (.*?)}/ at /tmp/cpan/build/Test-WWW-Selenium-HTML-0.02-dAemRA/blib/lib/Test/WWW/Selenium/HTML.pm line 234.
Unescaped left brace in regex is deprecated, passed through in regex; marked by <-- HERE in m/^javascript{ <-- HERE .*}/ at /tmp/cpan/build/Test-WWW-Selenium-HTML-0.02-dAemRA/blib/lib/Test/WWW/Selenium/HTML.pm line 241.
Unescaped left brace in regex is deprecated, passed through in regex; marked by <-- HERE in m/^javascript{ <-- HERE (.*)}$/ at /tmp/cpan/build/Test-WWW-Selenium-HTML-0.02-dAemRA/blib/lib/Test/WWW/Selenium/HTML.pm line 474.
t/003pod-coverage.t .. ok
Unescaped left brace in regex is deprecated, passed through in regex; marked by <-- HERE in m/\${ <-- HERE (.*?)}/ at /tmp/cpan/build/Test-WWW-Selenium-HTML-0.02-dAemRA/blib/lib/Test/WWW/Selenium/HTML.pm line 234.
Unescaped left brace in regex is deprecated, passed through in regex; marked by <-- HERE in m/^javascript{ <-- HERE .*}/ at /tmp/cpan/build/Test-WWW-Selenium-HTML-0.02-dAemRA/blib/lib/Test/WWW/Selenium/HTML.pm line 241.
Unescaped left brace in regex is deprecated, passed through in regex; marked by <-- HERE in m/^javascript{ <-- HERE (.*)}$/ at /tmp/cpan/build/Test-WWW-Selenium-HTML-0.02-dAemRA/blib/lib/Test/WWW/Selenium/HTML.pm line 474.
t/100simple.t ........ skipped: Unable to test, could not find Selenium Server.
Unescaped left brace in regex is deprecated, passed through in regex; marked by <-- HERE in m/\${ <-- HERE (.*?)}/ at /tmp/cpan/build/Test-WWW-Selenium-HTML-0.02-dAemRA/blib/lib/Test/WWW/Selenium/HTML.pm line 234.
Unescaped left brace in regex is deprecated, passed through in regex; marked by <-- HERE in m/^javascript{ <-- HERE .*}/ at /tmp/cpan/build/Test-WWW-Selenium-HTML-0.02-dAemRA/blib/lib/Test/WWW/Selenium/HTML.pm line 241.
Unescaped left brace in regex is deprecated, passed through in regex; marked by <-- HERE in m/^javascript{ <-- HERE (.*)}$/ at /tmp/cpan/build/Test-WWW-Selenium-HTML-0.02-dAemRA/blib/lib/Test/WWW/Selenium/HTML.pm line 474.
t/101accessors.t ..... skipped: Unable to test, could not find Selenium Server.
Unescaped left brace in regex is deprecated, passed through in regex; marked by <-- HERE in m/\${ <-- HERE (.*?)}/ at /tmp/cpan/build/Test-WWW-Selenium-HTML-0.02-dAemRA/blib/lib/Test/WWW/Selenium/HTML.pm line 234.
Unescaped left brace in regex is deprecated, passed through in regex; marked by <-- HERE in m/^javascript{ <-- HERE .*}/ at /tmp/cpan/build/Test-WWW-Selenium-HTML-0.02-dAemRA/blib/lib/Test/WWW/Selenium/HTML.pm line 241.
Unescaped left brace in regex is deprecated, passed through in regex; marked by <-- HERE in m/^javascript{ <-- HERE (.*)}$/ at /tmp/cpan/build/Test-WWW-Selenium-HTML-0.02-dAemRA/blib/lib/Test/WWW/Selenium/HTML.pm line 474.
t/102error.t ......... ok
Unescaped left brace in regex is deprecated, passed through in regex; marked by <-- HERE in m/\${ <-- HERE (.*?)}/ at /tmp/cpan/build/Test-WWW-Selenium-HTML-0.02-dAemRA/blib/lib/Test/WWW/Selenium/HTML.pm line 234.
Unescaped left brace in regex is deprecated, passed through in regex; marked by <-- HERE in m/^javascript{ <-- HERE .*}/ at /tmp/cpan/build/Test-WWW-Selenium-HTML-0.02-dAemRA/blib/lib/Test/WWW/Selenium/HTML.pm line 241.
Unescaped left brace in regex is deprecated, passed through in regex; marked by <-- HERE in m/^javascript{ <-- HERE (.*)}$/ at /tmp/cpan/build/Test-WWW-Selenium-HTML-0.02-dAemRA/blib/lib/Test/WWW/Selenium/HTML.pm line 474.
t/103js-vars.t ....... skipped: Unable to test, could not find Selenium Server.
Unescaped left brace in regex is deprecated, passed through in regex; marked by <-- HERE in m/\${ <-- HERE (.*?)}/ at /tmp/cpan/build/Test-WWW-Selenium-HTML-0.02-dAemRA/blib/lib/Test/WWW/Selenium/HTML.pm line 234.
Unescaped left brace in regex is deprecated, passed through in regex; marked by <-- HERE in m/^javascript{ <-- HERE .*}/ at /tmp/cpan/build/Test-WWW-Selenium-HTML-0.02-dAemRA/blib/lib/Test/WWW/Selenium/HTML.pm line 241.
Unescaped left brace in regex is deprecated, passed through in regex; marked by <-- HERE in m/^javascript{ <-- HERE (.*)}$/ at /tmp/cpan/build/Test-WWW-Selenium-HTML-0.02-dAemRA/blib/lib/Test/WWW/Selenium/HTML.pm line 474.
t/104events.t ........ skipped: Unable to test, could not find Selenium Server.
Unescaped left brace in regex is deprecated, passed through in regex; marked by <-- HERE in m/\${ <-- HERE (.*?)}/ at /tmp/cpan/build/Test-WWW-Selenium-HTML-0.02-dAemRA/blib/lib/Test/WWW/Selenium/HTML.pm line 234.
Unescaped left brace in regex is deprecated, passed through in regex; marked by <-- HERE in m/^javascript{ <-- HERE .*}/ at /tmp/cpan/build/Test-WWW-Selenium-HTML-0.02-dAemRA/blib/lib/Test/WWW/Selenium/HTML.pm line 241.
Unescaped left brace in regex is deprecated, passed through in regex; marked by <-- HERE in m/^javascript{ <-- HERE (.*)}$/ at /tmp/cpan/build/Test-WWW-Selenium-HTML-0.02-dAemRA/blib/lib/Test/WWW/Selenium/HTML.pm line 474.
t/105timeouts.t ...... skipped: Unable to test, could not find Selenium Server.
Unescaped left brace in regex is deprecated, passed through in regex; marked by <-- HERE in m/\${ <-- HERE (.*?)}/ at /tmp/cpan/build/Test-WWW-Selenium-HTML-0.02-dAemRA/blib/lib/Test/WWW/Selenium/HTML.pm line 234.
Unescaped left brace in regex is deprecated, passed through in regex; marked by <-- HERE in m/^javascript{ <-- HERE .*}/ at /tmp/cpan/build/Test-WWW-Selenium-HTML-0.02-dAemRA/blib/lib/Test/WWW/Selenium/HTML.pm line 241.
Unescaped left brace in regex is deprecated, passed through in regex; marked by <-- HERE in m/^javascript{ <-- HERE (.*)}$/ at /tmp/cpan/build/Test-WWW-Selenium-HTML-0.02-dAemRA/blib/lib/Test/WWW/Selenium/HTML.pm line 474.
t/106failures.t ...... skipped: Unable to test, could not find Selenium Server.
Unescaped left brace in regex is deprecated, passed through in regex; marked by <-- HERE in m/\${ <-- HERE (.*?)}/ at /tmp/cpan/build/Test-WWW-Selenium-HTML-0.02-dAemRA/blib/lib/Test/WWW/Selenium/HTML.pm line 234.
Unescaped left brace in regex is deprecated, passed through in regex; marked by <-- HERE in m/^javascript{ <-- HERE .*}/ at /tmp/cpan/build/Test-WWW-Selenium-HTML-0.02-dAemRA/blib/lib/Test/WWW/Selenium/HTML.pm line 241.
Unescaped left brace in regex is deprecated, passed through in regex; marked by <-- HERE in m/^javascript{ <-- HERE (.*)}$/ at /tmp/cpan/build/Test-WWW-Selenium-HTML-0.02-dAemRA/blib/lib/Test/WWW/Selenium/HTML.pm line 474.
t/107action-died.t ... skipped: Unable to test, could not find Selenium Server.
All tests successful.
Files=11, Tests=14,  3 wallclock secs ( 0.02 usr  0.17 sys +  1.15 cusr  0.75 csys =  2.09 CPU)
Result: PASS

------------------------------
PREREQUISITES
------------------------------

Prerequisite modules loaded:

requires:

    Module              Need Have    
    ------------------- ---- --------
    HTTP::Daemon        0    6.01    
    Params::Validate    0    1.21    
    Test::Builder       0.90 1.001014
    Test::More          0.90 1.001014
    Test::Pod           0.95 1.51    
    Test::WWW::Selenium 0    1.36    
    Time::HiRes         0    1.9728  
    XML::LibXML         0    2.0122  

build_requires:

    Module              Need Have    
    ------------------- ---- --------
    ExtUtils::MakeMaker 0    7.11_01 

configure_requires:

    Module              Need Have    
    ------------------- ---- --------
    ExtUtils::MakeMaker 0    7.11_01 


------------------------------
ENVIRONMENT AND OTHER CONTEXT
------------------------------

Environment variables:

    AUTOMATED_TESTING = 1
    NONINTERACTIVE_TESTING = 1
    PATH = /home/arfreitas/perl5/perlbrew/bin:/home/arfreitas/perl5/perlbrew/perls/perl-5.22.0/bin:/usr/bin:/bin:/usr/sbin:/sbin:/usr/X11R6/bin:/usr/local/bin:/usr/local/sbin
    PERL5LIB = 
    PERL5OPT = 
    PERL5_CPANPLUS_IS_RUNNING = 13236
    PERL5_CPAN_IS_RUNNING = 13236
    PERL5_CPAN_IS_RUNNING_IN_RECURSION = 7286,13236
    PERLBREW_BASHRC_VERSION = 0.73
    PERLBREW_HOME = /home/arfreitas/.perlbrew
    PERLBREW_MANPATH = /home/arfreitas/perl5/perlbrew/perls/perl-5.22.0/man
    PERLBREW_PATH = /home/arfreitas/perl5/perlbrew/bin:/home/arfreitas/perl5/perlbrew/perls/perl-5.22.0/bin
    PERLBREW_PERL = perl-5.22.0
    PERLBREW_ROOT = /home/arfreitas/perl5/perlbrew
    PERLBREW_VERSION = 0.73
    PERL_CR_SMOKER_CURRENT = Test-WWW-Selenium-HTML-0.02
    PERL_CR_SMOKER_RUNONCE = 1
    PERL_EXTUTILS_AUTOINSTALL = --defaultdeps
    PERL_MM_USE_DEFAULT = 1
    SHELL = /usr/local/bin/bash
    TERM = vt220

Perl special variables (and OS-specific diagnostics, for MSWin32):

    $^X = /home/arfreitas/perl5/perlbrew/perls/perl-5.22.0/bin/perl
    $UID/$EUID = 1000 / 1000
    $GID = 1000 1000 0
    $EGID = 1000 1000 0

Perl module toolchain versions installed:

    Module              Have    
    ------------------- --------
    CPAN                2.10    
    CPAN::Meta          2.150005
    Cwd                 3.59    
    ExtUtils::CBuilder  0.280224
    ExtUtils::Command   7.11_01 
    ExtUtils::Install   2.04    
    ExtUtils::MakeMaker 7.11_01 
    ExtUtils::Manifest  1.70    
    ExtUtils::ParseXS   3.30    
    File::Spec          3.59    
    JSON                2.90    
    JSON::PP            2.27300 
    Module::Build       0.4214  
    Module::Signature   0.79    
    Parse::CPAN::Meta   1.4417  
    Test::Harness       3.35    
    Test::More          1.001014
    YAML                1.15    
    YAML::Syck          1.29    
    version             0.9912  


--

Summary of my perl5 (revision 5 version 22 subversion 0) configuration:
   
  Platform:
    osname=openbsd, osvers=5.7, archname=OpenBSD.i386-openbsd
    uname='openbsd foobar.spo.virtua.com.br 5.7 generic.mp#767 i386 '
    config_args='-de -Dprefix=/home/arfreitas/perl5/perlbrew/perls/perl-5.22.0 -Aeval:scriptdir=/home/arfreitas/perl5/perlbrew/perls/perl-5.22.0/bin'
    hint=recommended, useposix=true, d_sigaction=define
    useithreads=undef, usemultiplicity=undef
    use64bitint=undef, use64bitall=undef, uselongdouble=undef
    usemymalloc=n, bincompat5005=undef
  Compiler:
    cc='cc', ccflags ='-fno-strict-aliasing -pipe -fstack-protector-strong -I/usr/local/include -D_FORTIFY_SOURCE=2',
    optimize='-O2',
    cppflags='-fno-strict-aliasing -pipe -fstack-protector-strong -I/usr/local/include'
    ccversion='', gccversion='4.2.1 20070719 ', gccosandvers='openbsd5.7'
    intsize=4, longsize=4, ptrsize=4, doublesize=8, byteorder=1234, doublekind=3
    d_longlong=define, longlongsize=8, d_longdbl=define, longdblsize=12, longdblkind=3
    ivtype='long', ivsize=4, nvtype='double', nvsize=8, Off_t='off_t', lseeksize=8
    alignbytes=4, prototype=define
  Linker and Libraries:
    ld='cc', ldflags ='-Wl,-E  -fstack-protector-strong -L/usr/local/lib'
    libpth=/usr/lib /usr/local/lib
    libs=-lpthread -lgdbm -lm -lutil -lc
    perllibs=-lpthread -lm -lutil -lc
    libc=/usr/lib/libc.so.78.1, so=so, useshrplib=false, libperl=libperl.a
    gnulibc_version=''
  Dynamic Linking:
    dlsrc=dl_dlopen.xs, dlext=so, d_dlsymun=undef, ccdlflags=' '
    cccdlflags='-DPIC -fPIC ', lddlflags='-shared -fPIC  -L/usr/local/lib -fstack-protector-strong'


Characteristics of this binary (from libperl): 
  Compile-time options: HAS_TIMES PERLIO_LAYERS PERL_DONT_CREATE_GVSV
                        PERL_HASH_FUNC_ONE_AT_A_TIME_HARD PERL_MALLOC_WRAP
                        PERL_NEW_COPY_ON_WRITE PERL_PRESERVE_IVUV
                        USE_LARGE_FILES USE_LOCALE USE_LOCALE_COLLATE
                        USE_LOCALE_CTYPE USE_LOCALE_NUMERIC USE_LOCALE_TIME
                        USE_PERLIO USE_PERL_ATOF
  Locally applied patches:
	Devel::PatchPerl 1.38
  Built under openbsd
  Compiled at Aug 20 2015 22:28:58
  %ENV:
    PERL5LIB=""
    PERL5OPT=""
    PERL5_CPANPLUS_IS_RUNNING="13236"
    PERL5_CPAN_IS_RUNNING="13236"
    PERL5_CPAN_IS_RUNNING_IN_RECURSION="7286,13236"
    PERLBREW_BASHRC_VERSION="0.73"
    PERLBREW_HOME="/home/arfreitas/.perlbrew"
    PERLBREW_MANPATH="/home/arfreitas/perl5/perlbrew/perls/perl-5.22.0/man"
    PERLBREW_PATH="/home/arfreitas/perl5/perlbrew/bin:/home/arfreitas/perl5/perlbrew/perls/perl-5.22.0/bin"
    PERLBREW_PERL="perl-5.22.0"
    PERLBREW_ROOT="/home/arfreitas/perl5/perlbrew"
    PERLBREW_VERSION="0.73"
    PERL_CR_SMOKER_CURRENT="Test-WWW-Selenium-HTML-0.02"
    PERL_CR_SMOKER_RUNONCE="1"
    PERL_EXTUTILS_AUTOINSTALL="--defaultdeps"
    PERL_MM_USE_DEFAULT="1"
  @INC:
    /home/arfreitas/perl5/perlbrew/perls/perl-5.22.0/lib/site_perl/5.22.0/OpenBSD.i386-openbsd
    /home/arfreitas/perl5/perlbrew/perls/perl-5.22.0/lib/site_perl/5.22.0
    /home/arfreitas/perl5/perlbrew/perls/perl-5.22.0/lib/5.22.0/OpenBSD.i386-openbsd
    /home/arfreitas/perl5/perlbrew/perls/perl-5.22.0/lib/5.22.0
    .