Dist-Zilla-Plugin-ChangelogFromGit v0.017 Perl 5 v5.22.4 x86_64-linux-thread-multi
- Status
- Pass
- From
- David Cantrell (DCANTRELL)
- Dist
-
Dist-Zilla-Plugin-ChangelogFromGit v0.017
- Platform
- Perl 5 v5.22.4 x86_64-linux-thread-multi
- Date
- 2019-06-03 21:39:01
- ID
- 00acc31c-8648-11e9-a1cf-a352052d0de1
This distribution has been tested as part of the CPAN Testers
project, supporting the Perl programming language. See
http://wiki.cpantesters.org/ for more information or email
questions to cpan-testers-discuss@perl.org
--
Dear Rocco Caputo,
This is a computer-generated report for Dist-Zilla-Plugin-ChangelogFromGit-0.017
on perl 5.22.4, created by CPAN-Reporter-1.2018.
Thank you for uploading your work to CPAN. Congratulations!
All tests were successful.
Sections of this report:
* Tester comments
* Program output
* Prerequisites
* Environment and other context
------------------------------
TESTER COMMENTS
------------------------------
Additional comments from tester:
this report is from an automated smoke testing program
and was not reviewed by a human for accuracy
------------------------------
PROGRAM OUTPUT
------------------------------
Output from '/usr/bin/make test':
PERL_DL_NONLAZY=1 "/home/david/cpantesting/perl-5.22.4/bin/perl" "-MExtUtils::Command::MM" "-MTest::Harness" "-e" "undef *Test::Harness::Switches; test_harness(0, 'blib/lib', 'blib/arch')" t/*.t
# Testing with Perl 5.022004, /home/david/cpantesting/perl-5.22.4/bin/perl
# Carp version is 1.36
# DateTime version is 1.51
# DateTime::Infinite version is 1.51
# Dist::Zilla::File::InMemory version is 6.012
# Dist::Zilla::Role::FileGatherer version is 6.012
# ExtUtils::MakeMaker version is 7.0402
# Git::Repository::Log::Iterator version is 1.314
# IPC::Cmd version is 0.92_01
# Moose version is 2.2011
# Moose::Autobox version is 0.16
# Scalar::Util version is 1.5
# Software::Release version is 0.03
# Software::Release::Change version is 0.03
# Test::More version is 1.302164
# Text::Wrap version is 2013.0523
# strict version is 1.09
# warnings version is 1.34
t/000-report-versions.t .. ok
t/author-pod-coverage.t .. skipped: these tests are for testing by the author
t/author-pod-syntax.t .... skipped: these tests are for testing by the author
All tests successful.
Files=3, Tests=17, 7 wallclock secs ( 0.02 usr 0.00 sys + 0.68 cusr 0.07 csys = 0.77 CPU)
Result: PASS
------------------------------
PREREQUISITES
------------------------------
Prerequisite modules loaded:
requires:
Module Need Have
------------------------------- ----- ---------
DateTime 0 1.51
DateTime::Infinite 0 1.51
Dist::Zilla::File::InMemory 0 6.012
Dist::Zilla::Role::FileGatherer 0 6.012
Git::Repository::Log::Iterator 0 1.314
IPC::Cmd 0 0.92_01
Moose 0 2.2011
Moose::Autobox 0 0.16
perl 5.004 5.022004
Software::Release 0 0.03
Software::Release::Change 0 0.03
Text::Wrap 0 2013.0523
build_requires:
Module Need Have
------------------------------- ----- ---------
Carp 0 1.36
ExtUtils::MakeMaker 0 7.04_02
Scalar::Util 0 1.50
strict 0 1.09
Test::More 0.94 1.302164
warnings 0 1.34
configure_requires:
Module Need Have
------------------------------- ----- ---------
ExtUtils::MakeMaker 0 7.04_02
------------------------------
ENVIRONMENT AND OTHER CONTEXT
------------------------------
Environment variables:
AUTOMATED_TESTING = 1
LANG = en_US.UTF-8
NONINTERACTIVE_TESTING = 1
PATH = /usr/local/bin:/usr/bin:/bin:/usr/local/games:/usr/games
PERL = 5.22.4
PERL5LIB =
PERL5OPT =
PERL5_CPANPLUS_IS_RUNNING = 27650
PERL5_CPAN_IS_RUNNING = 27650
PERLVER = 5.22.4
PERL_INLINE_DIRECTORY = /home/david/.Inline-5.22.4
PERL_MM_USE_DEFAULT = 1
PERL_USE_UNSAFE_INC = 0
SHELL = /bin/bash
TERM = screen
Perl special variables (and OS-specific diagnostics, for MSWin32):
$^X = /home/david/cpantesting/perl-5.22.4/bin/perl
$UID/$EUID = 1000 / 1000
$GID = 1000 27 1000
$EGID = 1000 27 1000
Perl module toolchain versions installed:
Module Have
------------------- ----------
CPAN 2.27
CPAN::Meta 2.150001
Cwd 3.56_02
ExtUtils::CBuilder 0.280221
ExtUtils::Command 1.20_01
ExtUtils::Install 2.04
ExtUtils::MakeMaker 7.04_02
ExtUtils::Manifest 1.70
ExtUtils::ParseXS 3.35
File::Spec 3.56_02
JSON 4.02
JSON::PP 2.27300_01
Module::Build 0.4229
Module::Signature n/a
Parse::CPAN::Meta 1.4414_001
Test::Harness 3.35_01
Test::More 1.302164
YAML 1.29
YAML::Syck n/a
version 0.9909
--
Summary of my perl5 (revision 5 version 22 subversion 4) configuration:
Platform:
osname=linux, osvers=4.9.0-8-amd64, archname=x86_64-linux-thread-multi
uname='linux pigsty 4.9.0-8-amd64 #1 smp debian 4.9.144-3 (2019-02-02) x86_64 gnulinux '
config_args='-de -Duse64bitall -Dusethreads -Dprefix=/home/david/cpantesting/perl-5.22.4'
hint=recommended, useposix=true, d_sigaction=define
useithreads=define, usemultiplicity=define
use64bitint=define, use64bitall=define, uselongdouble=undef
usemymalloc=n, bincompat5005=undef
Compiler:
cc='cc', ccflags ='-D_REENTRANT -D_GNU_SOURCE -fwrapv -fno-strict-aliasing -pipe -fstack-protector-strong -I/usr/local/include -D_LARGEFILE_SOURCE -D_FILE_OFFSET_BITS=64',
optimize='-O2',
cppflags='-D_REENTRANT -D_GNU_SOURCE -fwrapv -fno-strict-aliasing -pipe -fstack-protector-strong -I/usr/local/include'
ccversion='', gccversion='6.3.0 20170516', gccosandvers=''
intsize=4, longsize=8, ptrsize=8, doublesize=8, byteorder=12345678, doublekind=3
d_longlong=define, longlongsize=8, d_longdbl=define, longdblsize=16, longdblkind=3
ivtype='long', ivsize=8, nvtype='double', nvsize=8, Off_t='off_t', lseeksize=8
alignbytes=8, prototype=define
Linker and Libraries:
ld='cc', ldflags =' -fstack-protector-strong -L/usr/local/lib'
libpth=/usr/local/lib /usr/lib/gcc/x86_64-linux-gnu/6/include-fixed /usr/include/x86_64-linux-gnu /usr/lib /lib/x86_64-linux-gnu /lib/../lib /usr/lib/x86_64-linux-gnu /usr/lib/../lib /lib
libs=-lpthread -lnsl -ldb -ldl -lm -lcrypt -lutil -lc
perllibs=-lpthread -lnsl -ldl -lm -lcrypt -lutil -lc
libc=libc-2.24.so, so=so, useshrplib=false, libperl=libperl.a
gnulibc_version='2.24'
Dynamic Linking:
dlsrc=dl_dlopen.xs, dlext=so, d_dlsymun=undef, ccdlflags='-Wl,-E'
cccdlflags='-fPIC', lddlflags='-shared -O2 -L/usr/local/lib -fstack-protector-strong'
Characteristics of this binary (from libperl):
Compile-time options: HAS_TIMES MULTIPLICITY PERLIO_LAYERS
PERL_DONT_CREATE_GVSV
PERL_HASH_FUNC_ONE_AT_A_TIME_HARD
PERL_IMPLICIT_CONTEXT PERL_MALLOC_WRAP
PERL_NEW_COPY_ON_WRITE PERL_PRESERVE_IVUV
USE_64_BIT_ALL USE_64_BIT_INT USE_ITHREADS
USE_LARGE_FILES USE_LOCALE USE_LOCALE_COLLATE
USE_LOCALE_CTYPE USE_LOCALE_NUMERIC USE_LOCALE_TIME
USE_PERLIO USE_PERL_ATOF USE_REENTRANT_API
Locally applied patches:
Devel::PatchPerl 1.56
Built under linux
Compiled at Apr 25 2019 12:09:05
%ENV:
PERL="5.22.4"
PERL5LIB=""
PERL5OPT=""
PERL5_CPANPLUS_IS_RUNNING="27650"
PERL5_CPAN_IS_RUNNING="27650"
PERLVER="5.22.4"
PERL_INLINE_DIRECTORY="/home/david/.Inline-5.22.4"
PERL_MM_USE_DEFAULT="1"
PERL_USE_UNSAFE_INC="0"
@INC:
/home/david/cpantesting/perl-5.22.4/lib/site_perl/5.22.4/x86_64-linux-thread-multi
/home/david/cpantesting/perl-5.22.4/lib/site_perl/5.22.4
/home/david/cpantesting/perl-5.22.4/lib/5.22.4/x86_64-linux-thread-multi
/home/david/cpantesting/perl-5.22.4/lib/5.22.4
.