MooseX-Types-Structured v0.36 Perl 5 v5.10.0 amd64-netbsd

Status
Pass
From
Chris Williams (BINGOS)
Dist
MooseX-Types-Structured v0.36
Platform
Perl 5 v5.10.0 amd64-netbsd
Date
2019-07-27 20:20:40
ID
00b7904c-b0ac-11e9-9ccb-b1ae95f66eb9
This distribution has been tested as part of the CPAN Testers
project, supporting the Perl programming language.  See
http://wiki.cpantesters.org/ for more information or email
questions to cpan-testers-discuss@perl.org


--

Dear Karen Etheridge,

This is a computer-generated error report created automatically by
CPANPLUS, version 0.9178. Testers personal comments may appear
at the end of this report.


Thank you for uploading your work to CPAN.  Congratulations!
All tests were successful.

TEST RESULTS:

Below is the error stack from stage 'make test':

t/00-load.t .................... ok
# 
# Versions for all modules listed in MYMETA.json (including optional ones):
# 
# === Configure Requires ===
# 
#     Module               Want  Have
#     ------------------- ----- -----
#     Module::Build::Tiny 0.034 0.039
# 
# === Configure Suggests ===
# 
#     Module      Want Have
#     -------- ------- ----
#     JSON::PP 2.27300 4.04
# 
# === Test Requires ===
# 
#     Module               Want     Have
#     -------------------- ---- --------
#     Data::Dumper          any 2.121_14
#     DateTime              any     1.51
#     File::Spec            any     3.75
#     Module::Metadata      any 1.000036
#     MooseX::Types::Moose  any     0.50
#     Test::Fatal           any    0.014
#     Test::More           0.88 1.302164
#     Test::Needs           any 0.002006
#     strict                any     1.04
#     warnings              any     1.06
# 
# === Test Recommends ===
# 
#     Module         Want     Have
#     ---------- -------- --------
#     CPAN::Meta 2.120900 2.150010
# 
# === Test Suggests ===
# 
#     Module                  Want    Have
#     ----------------------- ---- -------
#     MooseX::Types::DateTime  any missing
# 
# === Runtime Requires ===
# 
#     Module                                        Want   Have
#     -------------------------------------------- ----- ------
#     Devel::PartialDump                            0.13   0.20
#     Moose                                          any 2.2011
#     Moose::Meta::TypeCoercion                      any 2.2011
#     Moose::Meta::TypeConstraint                    any 2.2011
#     Moose::Meta::TypeConstraint::Parameterizable   any 2.2011
#     Moose::Util::TypeConstraints                  1.06 2.2011
#     MooseX::Types                                 0.22   0.50
#     Scalar::Util                                   any   1.50
#     Sub::Exporter                                0.982  0.987
#     if                                             any   0.05
#     namespace::clean                              0.19   0.27
#     overload                                       any   1.06
# 
# === Other Modules ===
# 
#     Module                  Have
#     -------------------- -------
#     Dist::CheckConflicts    0.11
#     JSON::PP                4.04
#     Sub::Name               0.21
#     YAML                 missing
#     autodie              missing
# 
t/00-report-prereqs.t .......... ok
t/01-basic.t ................... ok
t/02-tuple.t ................... ok
t/03-dict.t .................... ok
t/04-combined.t ................ ok
t/04-map.t ..................... ok
t/05-advanced.t ................ ok
t/06-api.t ..................... ok
t/07-coerce.t .................. ok
t/08-examples.t ................ skipped: Need MooseX::Types::DateTime
t/09-optional.t ................ ok
t/10-recursion.t ............... ok
t/11-overflow.t ................ ok
t/12-error.t ................... ok
t/13-deeper_error.t ............ ok
t/14-fully-qualified.t ......... ok
t/bug-incorrect-message.t ...... ok
t/bug-is-subtype.t ............. ok
t/bug-mixed-stringy.t .......... ok
t/bug-optional.t ............... ok
t/regressions/01-is_type_of.t .. ok
t/zzz-check-breaks.t ........... ok
All tests successful.
Files=23, Tests=352, 12 wallclock secs ( 0.16 usr  0.05 sys + 10.21 cusr  1.74 csys = 12.16 CPU)
Result: PASS


PREREQUISITES:

Here is a list of prerequisites you specified and versions we
managed to load:

	  Module Name                        Have     Want
	  Data::Dumper                   2.121_14        0
	  DateTime                           1.51        0
	  Devel::PartialDump                 0.20     0.13
	  File::Spec                         3.75        0
	  Module::Metadata               1.000036        0
	  Moose                            2.2011        0
	  Moose::Meta::TypeCoercion        2.2011        0
	  Moose::Meta::TypeConstraint      2.2011        0
	  Moose::Meta::TypeConstraint::Parameterizable   2.2011        0
	  Moose::Util::TypeConstraints     2.2011     1.06
	  MooseX::Types                      0.50     0.22
	  MooseX::Types::Moose               0.50        0
	  Scalar::Util                       1.50        0
	  Sub::Exporter                     0.987    0.982
	  Test::Fatal                       0.014        0
	  Test::More                     1.302164     0.88
	  Test::Needs                    0.002006        0
	  if                                 0.05        0
	  namespace::clean                   0.27     0.19
	  overload                           1.06        0
	  strict                             1.04        0
	  warnings                           1.06        0

Perl module toolchain versions installed:
	Module Name                        Have
	CPANPLUS                         0.9178
	CPANPLUS::Dist::Build              0.90
	Cwd                                3.75
	ExtUtils::CBuilder             0.280231
	ExtUtils::Command                  7.36
	ExtUtils::Install                  2.14
	ExtUtils::MakeMaker                7.36
	ExtUtils::Manifest                 1.72
	ExtUtils::ParseXS                  3.35
	File::Spec                         3.75
	Module::Build                    0.4229
	Pod::Parser                        1.35
	Pod::Simple                        3.39
	Test2                          1.302164
	Test::Harness                      3.42
	Test::More                     1.302164
	version                          0.9924

******************************** NOTE ********************************
The comments above are created mechanically, possibly without manual
checking by the sender.  As there are many people performing automatic
tests on each upload to CPAN, it is likely that you will receive
identical messages about the same problem.

If you believe that the message is mistaken, please reply to the first
one with correction and/or additional informations, and do not take
it personally.  We appreciate your patience. :)
**********************************************************************

Additional comments:


This report was machine-generated by CPANPLUS::Dist::YACSmoke 1.08.
Powered by minismokebox version 0.68

CPANPLUS is prefering Build.PL

------------------------------
ENVIRONMENT AND OTHER CONTEXT
------------------------------

Environment variables:

    AUTOMATED_TESTING = 1
    NONINTERACTIVE_TESTING = 1
    PATH = /home/cpan/bin:/bin:/sbin:/usr/bin:/usr/sbin:/usr/X11R7/bin:/usr/pkg/bin:/usr/pkg/sbin:/usr/games:/usr/local/bin:/usr/local/sbin
    PERL5LIB = /home/cpan/pit/jail/RsIhmZHTgY/lib/perl5:/home/cpan/pit/bare/conf/perl-5.10.0/.cpanplus/5.10.0/build/Q3qa7KayJ1/MooseX-Types-Structured-0.36/blib/lib:/home/cpan/pit/bare/conf/perl-5.10.0/.cpanplus/5.10.0/build/Q3qa7KayJ1/MooseX-Types-Structured-0.36/blib/arch
    PERL5_CPANPLUS_IS_RUNNING = 8423
    PERL5_CPANPLUS_IS_VERSION = 0.9178
    PERL5_MINISMOKEBOX = 0.68
    PERL5_YACSMOKE_BASE = /home/cpan/pit/bare/conf/perl-5.10.0
    PERL_EXTUTILS_AUTOINSTALL = --defaultdeps
    PERL_LOCAL_LIB_ROOT = /home/cpan/pit/jail/RsIhmZHTgY
    PERL_MB_OPT = --install_base "/home/cpan/pit/jail/RsIhmZHTgY"
    PERL_MM_OPT = INSTALL_BASE=/home/cpan/pit/jail/RsIhmZHTgY
    PERL_MM_USE_DEFAULT = 1
    PERL_USE_UNSAFE_INC = 1
    SHELL = /usr/pkg/bin/bash
    TERM = screen

Perl special variables (and OS-specific diagnostics, for MSWin32):

    Perl: $^X = /home/cpan/pit/bare/perl-5.10.0/bin/perl
    UID:  $<  = 1001
    EUID: $>  = 1001
    GID:  $(  = 100 100
    EGID: $)  = 100 100


-------------------------------


--

Summary of my perl5 (revision 5 version 10 subversion 0) configuration:
  Platform:
    osname=netbsd, osvers=8.1, archname=amd64-netbsd
    uname='netbsd nephilim.bingosnet.co.uk 8.1 netbsd 8.1 (generic) #0: fri may 31 08:43:59 utc 2019 mkrepro@mkrepro.netbsd.org:usrsrcsysarchamd64compilegeneric amd64 '
    config_args='-des -Dprefix=/home/cpan/pit/bare/perl-5.10.0'
    hint=recommended, useposix=true, d_sigaction=define
    useithreads=undef, usemultiplicity=undef
    useperlio=define, d_sfio=undef, uselargefiles=define, usesocks=undef
    use64bitint=define, use64bitall=define, uselongdouble=undef
    usemymalloc=n, bincompat5005=undef
  Compiler:
    cc='cc', ccflags ='-fwrapv -fno-strict-aliasing -pipe -I/usr/pkg/include',
    optimize='-O',
    cppflags='-fwrapv -fno-strict-aliasing -pipe -I/usr/pkg/include'
    ccversion='', gccversion='5.5.0', gccosandvers=''
    intsize=4, longsize=8, ptrsize=8, doublesize=8, byteorder=12345678
    d_longlong=define, longlongsize=8, d_longdbl=define, longdblsize=16
    ivtype='long', ivsize=8, nvtype='double', nvsize=8, Off_t='off_t', lseeksize=8
    alignbytes=8, prototype=define
  Linker and Libraries:
    ld='cc', ldflags =' -Wl,-rpath,/usr/pkg/lib -Wl,-rpath,/usr/local/lib -L/usr/pkg/lib'
    libpth=/usr/pkg/lib /lib /usr/lib
    libs=-lgdbm -lm -lcrypt -lutil -lc -lposix
    perllibs=-lm -lcrypt -lutil -lc -lposix
    libc=/lib/libc.so, so=so, useshrplib=false, libperl=libperl.a
    gnulibc_version=''
  Dynamic Linking:
    dlsrc=dl_dlopen.xs, dlext=so, d_dlsymun=undef, ccdlflags='-Wl,-E '
    cccdlflags='-DPIC -fPIC ', lddlflags='-shared  -L/usr/pkg/lib'


Characteristics of this binary (from libperl): 
  Compile-time options: PERL_DONT_CREATE_GVSV PERL_MALLOC_WRAP USE_64_BIT_ALL
                        USE_64_BIT_INT USE_LARGE_FILES USE_PERLIO
  Locally applied patches:
	Devel::PatchPerl 1.64
  Built under netbsd
  Compiled at Jul 22 2019 16:24:07
  %ENV:
    PERL5LIB="/home/cpan/pit/jail/RsIhmZHTgY/lib/perl5:/home/cpan/pit/bare/conf/perl-5.10.0/.cpanplus/5.10.0/build/Q3qa7KayJ1/MooseX-Types-Structured-0.36/blib/lib:/home/cpan/pit/bare/conf/perl-5.10.0/.cpanplus/5.10.0/build/Q3qa7KayJ1/MooseX-Types-Structured-0.36/blib/arch"
    PERL5_CPANPLUS_IS_RUNNING="8423"
    PERL5_CPANPLUS_IS_VERSION="0.9178"
    PERL5_MINISMOKEBOX="0.68"
    PERL5_YACSMOKE_BASE="/home/cpan/pit/bare/conf/perl-5.10.0"
    PERL_EXTUTILS_AUTOINSTALL="--defaultdeps"
    PERL_LOCAL_LIB_ROOT="/home/cpan/pit/jail/RsIhmZHTgY"
    PERL_MB_OPT="--install_base "/home/cpan/pit/jail/RsIhmZHTgY""
    PERL_MM_OPT="INSTALL_BASE=/home/cpan/pit/jail/RsIhmZHTgY"
    PERL_MM_USE_DEFAULT="1"
    PERL_USE_UNSAFE_INC="1"
  @INC:
    /home/cpan/pit/jail/RsIhmZHTgY/lib/perl5/5.10.0/amd64-netbsd
    /home/cpan/pit/jail/RsIhmZHTgY/lib/perl5/5.10.0
    /home/cpan/pit/jail/RsIhmZHTgY/lib/perl5/amd64-netbsd
    /home/cpan/pit/jail/RsIhmZHTgY/lib/perl5
    /home/cpan/pit/bare/conf/perl-5.10.0/.cpanplus/5.10.0/build/Q3qa7KayJ1/MooseX-Types-Structured-0.36/blib/lib
    /home/cpan/pit/bare/conf/perl-5.10.0/.cpanplus/5.10.0/build/Q3qa7KayJ1/MooseX-Types-Structured-0.36/blib/arch
    /home/cpan/pit/bare/perl-5.10.0/lib/5.10.0/amd64-netbsd
    /home/cpan/pit/bare/perl-5.10.0/lib/5.10.0
    /home/cpan/pit/bare/perl-5.10.0/lib/site_perl/5.10.0/amd64-netbsd
    /home/cpan/pit/bare/perl-5.10.0/lib/site_perl/5.10.0
    .