Array-GroupBy vv0.0.4 Perl 5 v5.12.4 amd64-freebsd

Status
Pass
From
Tom Molesworth
Dist
Array-GroupBy vv0.0.4
Platform
Perl 5 v5.12.4 amd64-freebsd
Date
2012-08-11 06:23:02
ID
00b808d2-e37d-11e1-9af5-ec90f80f1ab4
This distribution has been tested as part of the CPAN Testers
project, supporting the Perl programming language.  See
http://wiki.cpantesters.org/ for more information or email
questions to cpan-testers-discuss@perl.org


--
Dear Sam Brain,

This is a computer-generated report for Array-GroupBy-v0.0.4
on perl 5.12.4, created by CPAN-Reporter-1.2006.

Thank you for uploading your work to CPAN.  Congratulations!
All tests were successful.

Sections of this report:

    * Tester comments
    * Program output
    * Prerequisites
    * Environment and other context

------------------------------
TESTER COMMENTS
------------------------------

Additional comments from tester:

this report is from an automated smoke testing program
and was not reviewed by a human for accuracy

------------------------------
PROGRAM OUTPUT
------------------------------

Output from './Build test':

# Testing Array::GroupBy 0.0.4
t/00.load.t ....... ok
t/1.t ............. ok
t/2.t ............. ok
t/3.t ............. ok
t/4.t ............. ok
t/5.t ............. ok
t/6.t ............. ok
t/7.t ............. ok
Policy "Perl::Critic::Policy::Miscellanea::RequireRcsKeywords" is not installed.
Policy "Perl::Critic::Policy::NamingConventions::ProhibitMixedCaseSubs" is not installed.
Policy "Perl::Critic::Policy::NamingConventions::ProhibitMixedCaseVars" is not installed.
t/perlcritic.t .... ok
t/pod-coverage.t .. ok
t/pod.t ........... ok
All tests successful.
Files=11, Tests=59,  2 wallclock secs ( 0.09 usr  0.05 sys +  1.43 cusr  0.22 csys =  1.79 CPU)
Result: PASS

------------------------------
PREREQUISITES
------------------------------

Prerequisite modules loaded:

requires:

    Module           Need Have  
    ---------------- ---- ------
    Carp             1.25 1.26  
    List::Util       1.23 1.25  
    Params::Validate 1    1.06  
    Test::More       0    0.98  
    version          0    0.99  

configure_requires:

    Module           Need Have  
    ---------------- ---- ------
    Module::Build    0.38 0.4002


------------------------------
ENVIRONMENT AND OTHER CONTEXT
------------------------------

Environment variables:

    AUTOMATED_TESTING = 1
    PATH = /home/cpan/perl5/bin:/sbin:/bin:/usr/sbin:/usr/bin:/usr/games:/usr/local/sbin:/usr/local/bin:/home/cpan/bin
    PERL5LIB = /home/cpan/perl5/lib/perl5/amd64-freebsd:/home/cpan/perl5/lib/perl5
    PERL5OPT = 
    PERL5_CPANPLUS_IS_RUNNING = 26445
    PERL5_CPAN_IS_RUNNING = 26445
    PERL5_CPAN_IS_RUNNING_IN_RECURSION = 1410,26445
    PERL_CR_SMOKER_CURRENT = Array-GroupBy-v0.0.4
    PERL_EXTUTILS_AUTOINSTALL = --defaultdeps
    PERL_LOCAL_LIB_ROOT = /home/cpan/perl5
    PERL_MB_OPT = --install_base /home/cpan/perl5
    PERL_MM_OPT = INSTALL_BASE=/home/cpan/perl5
    PERL_MM_USE_DEFAULT = 1
    SHELL = /usr/local/bin/bash
    TERM = screen

Perl special variables (and OS-specific diagnostics, for MSWin32):

    $^X = /usr/local/bin/perl
    $UID/$EUID = 1001 / 1001
    $GID = 1001 1001 0 5 20 80
    $EGID = 1001 1001 0 5 20 80

Perl module toolchain versions installed:

    Module              Have    
    ------------------- --------
    CPAN                1.9800  
    CPAN::Meta          2.120921
    Cwd                 3.33    
    ExtUtils::CBuilder  0.280205
    ExtUtils::Command   1.16    
    ExtUtils::Install   1.54    
    ExtUtils::MakeMaker 6.62    
    ExtUtils::Manifest  1.58    
    ExtUtils::ParseXS   3.15    
    File::Spec          3.33    
    JSON                2.53    
    JSON::PP            2.27200 
    Module::Build       0.4002  
    Module::Signature   0.68    
    Parse::CPAN::Meta   1.4404  
    Test::Harness       3.25    
    Test::More          0.98    
    YAML                0.84    
    YAML::Syck          1.20    
    version             0.99    


--

Summary of my perl5 (revision 5 version 12 subversion 4) configuration:
   
  Platform:
    osname=freebsd, osvers=9.0-rc2, archname=amd64-freebsd
    uname='freebsd freebsd.org 9.0-rc2 freebsd 9.0-rc2 #0: mon dec 5 15:11:44 utc 2011 kris@freebsd.org:usrsrcsysmagickernelpath amd64 '
    config_args='-sde -Dprefix=/usr/local -Darchlib=/usr/local/lib/perl5/5.12.4/mach -Dprivlib=/usr/local/lib/perl5/5.12.4 -Dman3dir=/usr/local/lib/perl5/5.12.4/perl/man/man3 -Dman1dir=/usr/local/man/man1 -Dsitearch=/usr/local/lib/perl5/site_perl/5.12.4/mach -Dsitelib=/usr/local/lib/perl5/site_perl/5.12.4 -Dscriptdir=/usr/local/bin -Dsiteman3dir=/usr/local/lib/perl5/5.12.4/man/man3 -Dsiteman1dir=/usr/local/man/man1 -Ui_malloc -Ui_iconv -Uinstallusrbinperl -Dcc=cc -Duseshrplib -Dinc_version_list=none -Dccflags=-DAPPLLIB_EXP="/usr/local/lib/perl5/5.12.4/BSDPAN" -Doptimize=-O2 -pipe -fno-strict-aliasing -Ui_gdbm -Dusethreads=n -Dusemymalloc=n -Duse64bitint'
    hint=recommended, useposix=true, d_sigaction=define
    useithreads=undef, usemultiplicity=undef
    useperlio=define, d_sfio=undef, uselargefiles=define, usesocks=undef
    use64bitint=define, use64bitall=define, uselongdouble=undef
    usemymalloc=n, bincompat5005=undef
  Compiler:
    cc='cc', ccflags ='-DAPPLLIB_EXP="/usr/local/lib/perl5/5.12.4/BSDPAN" -DHAS_FPSETMASK -DHAS_FLOATINGPOINT_H -fno-strict-aliasing -pipe -fstack-protector -I/usr/local/include',
    optimize='-O2 -pipe -fno-strict-aliasing',
    cppflags='-DAPPLLIB_EXP="/usr/local/lib/perl5/5.12.4/BSDPAN" -DHAS_FPSETMASK -DHAS_FLOATINGPOINT_H -fno-strict-aliasing -pipe -fstack-protector -I/usr/local/include'
    ccversion='', gccversion='4.2.1 20070831 patched [FreeBSD]', gccosandvers=''
    intsize=4, longsize=8, ptrsize=8, doublesize=8, byteorder=12345678
    d_longlong=define, longlongsize=8, d_longdbl=define, longdblsize=16
    ivtype='long', ivsize=8, nvtype='double', nvsize=8, Off_t='off_t', lseeksize=8
    alignbytes=8, prototype=define
  Linker and Libraries:
    ld='cc', ldflags =' -Wl,-E  -fstack-protector -L/usr/local/lib'
    libpth=/usr/lib /usr/local/lib
    libs=-lm -lcrypt -lutil
    perllibs=-lm -lcrypt -lutil
    libc=, so=so, useshrplib=true, libperl=libperl.so
    gnulibc_version=''
  Dynamic Linking:
    dlsrc=dl_dlopen.xs, dlext=so, d_dlsymun=undef, ccdlflags='  -Wl,-R/usr/local/lib/perl5/5.12.4/mach/CORE'
    cccdlflags='-DPIC -fPIC', lddlflags='-shared  -L/usr/local/lib -fstack-protector'


Characteristics of this binary (from libperl): 
  Compile-time options: PERL_DONT_CREATE_GVSV PERL_MALLOC_WRAP USE_64_BIT_ALL
                        USE_64_BIT_INT USE_LARGE_FILES USE_PERLIO
                        USE_PERL_ATOF
  Built under freebsd
  Compiled at Dec  5 2011 15:24:07
  %ENV:
    PERL5LIB="/home/cpan/perl5/lib/perl5/amd64-freebsd:/home/cpan/perl5/lib/perl5"
    PERL5OPT=""
    PERL5_CPANPLUS_IS_RUNNING="26445"
    PERL5_CPAN_IS_RUNNING="26445"
    PERL5_CPAN_IS_RUNNING_IN_RECURSION="1410,26445"
    PERL_CR_SMOKER_CURRENT="Array-GroupBy-v0.0.4"
    PERL_EXTUTILS_AUTOINSTALL="--defaultdeps"
    PERL_LOCAL_LIB_ROOT="/home/cpan/perl5"
    PERL_MB_OPT="--install_base /home/cpan/perl5"
    PERL_MM_OPT="INSTALL_BASE=/home/cpan/perl5"
    PERL_MM_USE_DEFAULT="1"
  @INC:
    /home/cpan/perl5/lib/perl5/amd64-freebsd
    /home/cpan/perl5/lib/perl5/amd64-freebsd
    /home/cpan/perl5/lib/perl5
    /usr/local/lib/perl5/5.12.4/BSDPAN
    /usr/local/lib/perl5/site_perl/5.12.4/mach
    /usr/local/lib/perl5/site_perl/5.12.4
    /usr/local/lib/perl5/5.12.4/mach
    /usr/local/lib/perl5/5.12.4
    .