HTML-Selector-XPath v0.23 Perl 5 v5.26.2 darwin-2level
- Status
- Pass
- From
- Nigel Horne
- Dist
-
HTML-Selector-XPath v0.23
- Platform
- Perl 5 v5.26.2 darwin-2level
- Date
- 2018-10-28 12:00:03
- ID
- 00ba9c4e-daa9-11e8-89c8-4fb21e89504c
This distribution has been tested as part of the CPAN Testers
project, supporting the Perl programming language. See
http://wiki.cpantesters.org/ for more information or email
questions to cpan-testers-discuss@perl.org
--
Dear Max Maischein,
This is a computer-generated report for HTML-Selector-XPath-0.23
on perl 5.26.2, created by CPAN-Reporter-1.2018.
Thank you for uploading your work to CPAN. Congratulations!
All tests were successful.
Sections of this report:
* Tester comments
* Program output
* Prerequisites
* Environment and other context
------------------------------
TESTER COMMENTS
------------------------------
Additional comments from tester:
this report is from an automated smoke testing program
and was not reviewed by a human for accuracy
------------------------------
PROGRAM OUTPUT
------------------------------
Output from '/sw/bin/make test':
PERL_DL_NONLAZY=1 "/Users/hornenj/perl5/perlbrew/perls/perl-5.26.2/bin/perl" "-MExtUtils::Command::MM" "-MTest::Harness" "-e" "undef *Test::Harness::Switches; test_harness(0, 'blib/lib', 'blib/arch')" t/*.t
t/00_compile.t ....... ok
t/02_html.t .......... skipped: HTML::TreeBuilder::XPath is not installed.
t/03_xpath_root.t .... ok
t/04_subclass.t ...... ok
t/01_xpath.t ......... ok
t/07_rt114345.t ...... ok
t/05_xpath_prefix.t .. ok
t/06_rt114261.t ...... ok
t/99_pod.t ........... ok
All tests successful.
Files=9, Tests=142, 0 wallclock secs ( 0.04 usr 0.02 sys + 0.56 cusr 0.48 csys = 1.10 CPU)
Result: PASS
------------------------------
PREREQUISITES
------------------------------
Prerequisite modules loaded:
requires:
Module Need Have
---------- ---- --------
Carp 0 1.50
Exporter 0 5.72
strict 0 1.11
build_requires:
Module Need Have
---------- ---- --------
Test::Base 0 0.89
Test::More 0 1.302136
------------------------------
ENVIRONMENT AND OTHER CONTEXT
------------------------------
Environment variables:
AUTOMATED_TESTING = 1
HARNESS_OPTIONS = j4
LANG = en_US.UTF-8
LC_ALL = POSIX
NONINTERACTIVE_TESTING = 1
PATH = /Users/hornenj/perl5/perlbrew/bin:/Users/hornenj/perl5/perlbrew/perls/perl-5.26.2/bin:/Users/hornenj/src/njh/smoker/bin:/Users/hornenj/homebrew/bin:/Users/hornenj/bin:/usr/bin:/bin:/usr/X11R6/bin:/sw/bin
PERL5LIB = /Users/hornenj/.cpan/build/Music-Chord-Note-0.08-2/blib/arch:/Users/hornenj/.cpan/build/Music-Chord-Note-0.08-2/blib/lib:/Users/hornenj/.cpan/build/App-vl-0.03-2/blib/arch:/Users/hornenj/.cpan/build/App-vl-0.03-2/blib/lib:/Users/hornenj/.cpan/build/IO-Pager-0.4-2/blib/arch:/Users/hornenj/.cpan/build/IO-Pager-0.4-2/blib/lib:/Users/hornenj/.cpan/build/Module-Build-Pluggable-CPANfile-0.05-2/blib/arch:/Users/hornenj/.cpan/build/Module-Build-Pluggable-CPANfile-0.05-2/blib/lib:/Users/hornenj/.cpan/build/Module-Build-Pluggable-0.10-2/blib/arch:/Users/hornenj/.cpan/build/Module-Build-Pluggable-0.10-2/blib/lib:/Users/hornenj/.cpan/build/Test-SharedFork-0.35-12/blib/arch:/Users/hornenj/.cpan/build/Test-SharedFork-0.35-12/blib/lib:/Users/hornenj/.cpan/build/Class-Accessor-Lite-0.08-2/blib/arch:/Users/hornenj/.cpan/build/Class-Accessor-Lite-0.08-2/blib/lib
PERL5OPT =
PERL5_CPANPLUS_IS_RUNNING = 47758
PERL5_CPAN_IS_RUNNING = 47758
PERLBREW_HOME = /Users/hornenj/.perlbrew
PERLBREW_MANPATH = /Users/hornenj/perl5/perlbrew/perls/perl-5.26.2/man
PERLBREW_PATH = /Users/hornenj/perl5/perlbrew/bin:/Users/hornenj/perl5/perlbrew/perls/perl-5.26.2/bin
PERLBREW_PERL = perl-5.26.2
PERLBREW_ROOT = /Users/hornenj/perl5/perlbrew
PERLBREW_SHELLRC_VERSION = 0.84
PERLBREW_VERSION = 0.84
PERL_MM_USE_DEFAULT = 1
PERL_USE_UNSAFE_INC = 1
SHELL = /bin/bash
TERM = xterm-256color
TMPDIR = /var/folders/pz/pd7y1qjs6s3cbk170cw50fjc000c61/T//testwrapper.47744
VERSIONER_PERL_PREFER_32_BIT = no
VERSIONER_PERL_VERSION = 5.18
Perl special variables (and OS-specific diagnostics, for MSWin32):
$^X = /Users/hornenj/perl5/perlbrew/perls/perl-5.26.2/bin/perl
$UID/$EUID = 12481 / 12481
$GID = 14 14 206 5344 37191 527 12 62 98 204 399 37223 241 223 100
$EGID = 14 14 206 5344 37191 527 12 62 98 204 399 37223 241 223 100
Perl module toolchain versions installed:
Module Have
------------------- ----------
CPAN 2.18
CPAN::Meta 2.150010
Cwd 3.74
ExtUtils::CBuilder 0.280225
ExtUtils::Command 7.34
ExtUtils::Install 2.06
ExtUtils::MakeMaker 7.34
ExtUtils::Manifest 1.70
ExtUtils::ParseXS 3.34
File::Spec 3.74
JSON 2.97001
JSON::PP 2.27400_02
Module::Build 0.4224
Module::Signature n/a
Parse::CPAN::Meta 2.150010
Test::Harness 3.38
Test::More 1.302136
YAML 1.26
YAML::Syck 1.30
version 0.9917
--
Summary of my perl5 (revision 5 version 26 subversion 2) configuration:
Platform:
osname=darwin
osvers=16.7.0
archname=darwin-2level
uname='darwin ncbimac2024 16.7.0 darwin kernel version 16.7.0: tue jan 30 11:27:06 pst 2018; root:xnu-3789.73.11~1release_x86_64 x86_64 '
config_args='-de -Dprefix=/Users/hornenj/perl5/perlbrew/perls/perl-5.26.2 -Aeval:scriptdir=/Users/hornenj/perl5/perlbrew/perls/perl-5.26.2/bin'
hint=recommended
useposix=true
d_sigaction=define
useithreads=undef
usemultiplicity=undef
use64bitint=define
use64bitall=define
uselongdouble=undef
usemymalloc=n
default_inc_excludes_dot=define
bincompat5005=undef
Compiler:
cc='cc'
ccflags ='-fno-common -DPERL_DARWIN -fno-strict-aliasing -pipe -fstack-protector-strong'
optimize='-O3'
cppflags='-fno-common -DPERL_DARWIN -fno-strict-aliasing -pipe -fstack-protector-strong'
ccversion=''
gccversion='4.2.1 Compatible Apple LLVM 9.0.0 (clang-900.0.39.2)'
gccosandvers=''
intsize=4
longsize=8
ptrsize=8
doublesize=8
byteorder=12345678
doublekind=3
d_longlong=define
longlongsize=8
d_longdbl=define
longdblsize=16
longdblkind=3
ivtype='long'
ivsize=8
nvtype='double'
nvsize=8
Off_t='off_t'
lseeksize=8
alignbytes=8
prototype=define
Linker and Libraries:
ld='env MACOSX_DEPLOYMENT_TARGET=10.3 cc'
ldflags =' -fstack-protector-strong -L/usr/local/lib'
libpth=/Applications/Xcode.app/Contents/Developer/Toolchains/XcodeDefault.xctoolchain/usr/lib/clang/9.0.0/lib /Applications/Xcode.app/Contents/Developer/Toolchains/XcodeDefault.xctoolchain/usr/lib /usr/lib /usr/local/lib
libs=-lpthread -ldbm -ldl -lm -lutil -lc
perllibs=-lpthread -ldl -lm -lutil -lc
libc=
so=dylib
useshrplib=false
libperl=libperl.a
gnulibc_version=''
Dynamic Linking:
dlsrc=dl_dlopen.xs
dlext=bundle
d_dlsymun=undef
ccdlflags=' '
cccdlflags=' '
lddlflags=' -bundle -undefined dynamic_lookup -L/usr/local/lib -fstack-protector-strong'
Characteristics of this binary (from libperl):
Compile-time options:
HAS_TIMES
PERLIO_LAYERS
PERL_COPY_ON_WRITE
PERL_DONT_CREATE_GVSV
PERL_MALLOC_WRAP
PERL_OP_PARENT
PERL_PRESERVE_IVUV
USE_64_BIT_ALL
USE_64_BIT_INT
USE_LARGE_FILES
USE_LOCALE
USE_LOCALE_COLLATE
USE_LOCALE_CTYPE
USE_LOCALE_NUMERIC
USE_LOCALE_TIME
USE_PERLIO
USE_PERL_ATOF
Locally applied patches:
Devel::PatchPerl 1.30
Built under darwin
Compiled at Apr 23 2018 08:49:35
%ENV:
PERL5LIB="/Users/hornenj/.cpan/build/Music-Chord-Note-0.08-2/blib/arch:/Users/hornenj/.cpan/build/Music-Chord-Note-0.08-2/blib/lib:/Users/hornenj/.cpan/build/App-vl-0.03-2/blib/arch:/Users/hornenj/.cpan/build/App-vl-0.03-2/blib/lib:/Users/hornenj/.cpan/build/IO-Pager-0.4-2/blib/arch:/Users/hornenj/.cpan/build/IO-Pager-0.4-2/blib/lib:/Users/hornenj/.cpan/build/Module-Build-Pluggable-CPANfile-0.05-2/blib/arch:/Users/hornenj/.cpan/build/Module-Build-Pluggable-CPANfile-0.05-2/blib/lib:/Users/hornenj/.cpan/build/Module-Build-Pluggable-0.10-2/blib/arch:/Users/hornenj/.cpan/build/Module-Build-Pluggable-0.10-2/blib/lib:/Users/hornenj/.cpan/build/Test-SharedFork-0.35-12/blib/arch:/Users/hornenj/.cpan/build/Test-SharedFork-0.35-12/blib/lib:/Users/hornenj/.cpan/build/Class-Accessor-Lite-0.08-2/blib/arch:/Users/hornenj/.cpan/build/Class-Accessor-Lite-0.08-2/blib/lib"
PERL5OPT=""
PERL5_CPANPLUS_IS_RUNNING="47758"
PERL5_CPAN_IS_RUNNING="47758"
PERLBREW_HOME="/Users/hornenj/.perlbrew"
PERLBREW_MANPATH="/Users/hornenj/perl5/perlbrew/perls/perl-5.26.2/man"
PERLBREW_PATH="/Users/hornenj/perl5/perlbrew/bin:/Users/hornenj/perl5/perlbrew/perls/perl-5.26.2/bin"
PERLBREW_PERL="perl-5.26.2"
PERLBREW_ROOT="/Users/hornenj/perl5/perlbrew"
PERLBREW_SHELLRC_VERSION="0.84"
PERLBREW_VERSION="0.84"
PERL_MM_USE_DEFAULT="1"
PERL_USE_UNSAFE_INC="1"
@INC:
/Users/hornenj/.cpan/build/Music-Chord-Note-0.08-2/blib/arch
/Users/hornenj/.cpan/build/Music-Chord-Note-0.08-2/blib/lib
/Users/hornenj/.cpan/build/App-vl-0.03-2/blib/arch
/Users/hornenj/.cpan/build/App-vl-0.03-2/blib/lib
/Users/hornenj/.cpan/build/IO-Pager-0.4-2/blib/arch
/Users/hornenj/.cpan/build/IO-Pager-0.4-2/blib/lib
/Users/hornenj/.cpan/build/Module-Build-Pluggable-CPANfile-0.05-2/blib/arch
/Users/hornenj/.cpan/build/Module-Build-Pluggable-CPANfile-0.05-2/blib/lib
/Users/hornenj/.cpan/build/Module-Build-Pluggable-0.10-2/blib/arch
/Users/hornenj/.cpan/build/Module-Build-Pluggable-0.10-2/blib/lib
/Users/hornenj/.cpan/build/Test-SharedFork-0.35-12/blib/arch
/Users/hornenj/.cpan/build/Test-SharedFork-0.35-12/blib/lib
/Users/hornenj/.cpan/build/Class-Accessor-Lite-0.08-2/blib/arch
/Users/hornenj/.cpan/build/Class-Accessor-Lite-0.08-2/blib/lib
/Users/hornenj/perl5/perlbrew/perls/perl-5.26.2/lib/site_perl/5.26.2/darwin-2level
/Users/hornenj/perl5/perlbrew/perls/perl-5.26.2/lib/site_perl/5.26.2
/Users/hornenj/perl5/perlbrew/perls/perl-5.26.2/lib/5.26.2/darwin-2level
/Users/hornenj/perl5/perlbrew/perls/perl-5.26.2/lib/5.26.2
.