Catalyst-Helper-Controller-DBIC-API-REST v0.09 Perl 5 v5.22.3 x86_64-linux

Status
Pass
From
Andreas J. König (ANDK)
Dist
Catalyst-Helper-Controller-DBIC-API-REST v0.09
Platform
Perl 5 v5.22.3 x86_64-linux
Date
2017-05-19 07:37:25
ID
00bffa00-3c66-11e7-a3d6-4c6e116c2b36
This distribution has been tested as part of the CPAN Testers
project, supporting the Perl programming language.  See
http://wiki.cpantesters.org/ for more information or email
questions to cpan-testers-discuss@perl.org


--
Dear Amiri Barksdale,

This is a computer-generated report for Catalyst-Helper-Controller-DBIC-API-REST-0.09
on perl 5.22.3, created by CPAN-Reporter-1.2018.

Thank you for uploading your work to CPAN.  Congratulations!
All tests were successful.

Sections of this report:

    * Tester comments
    * Program output
    * Prerequisites
    * Environment and other context

------------------------------
TESTER COMMENTS
------------------------------

Additional comments from tester:

this report is from an automated smoke testing program
and was not reviewed by a human for accuracy

------------------------------
PROGRAM OUTPUT
------------------------------

Output from '/usr/bin/make test':

PERL_DL_NONLAZY=1 "/home/sand/src/perl/repoperls/installed-perls/host/k93msid/v5.22.3/89ad/bin/perl" "-MExtUtils::Command::MM" "-MTest::Harness" "-e" "undef *Test::Harness::Switches; test_harness(0, 'blib/lib', 'blib/arch')" t/*.t
t/00-compile.t ............... ok
t/author-critic.t ............ skipped: these tests are for testing by the author
t/author-mojibake.t .......... skipped: these tests are for testing by the author
t/author-pod-coverage.t ...... skipped: these tests are for testing by the author
t/author-pod-syntax.t ........ skipped: these tests are for testing by the author
t/author-portability.t ....... skipped: these tests are for testing by the author
t/author-test-version.t ...... skipped: these tests are for testing by the author
t/create1.t .................. ok
[error] No value supplied for name and no default at /home/sand/src/perl/repoperls/installed-perls/host/k93msid/v5.22.3/89ad/lib/site_perl/5.22.3/Catalyst/Controller/DBIC/API.pm line 426, <$fh> line 1.
# {"success":"false","messages":["No value supplied for name and no default"]}
t/create2.t .................. ok
[error] No object found for id '4' at /home/sand/src/perl/repoperls/installed-perls/host/k93msid/v5.22.3/89ad/lib/site_perl/5.22.3/Catalyst/Controller/DBIC/API.pm line 218.
t/delete.t ................... ok
t/list.t ..................... ok
t/release-cpan-changes.t ..... skipped: these tests are for release candidate testing
t/release-distmeta.t ......... skipped: these tests are for release candidate testing
t/release-meta-json.t ........ skipped: these tests are for release candidate testing
t/release-minimum-version.t .. skipped: these tests are for release candidate testing
t/release-pod-linkcheck.t .... skipped: these tests are for release candidate testing
t/release-unused-vars.t ...... skipped: these tests are for release candidate testing
DBIx::Class::Storage::DBI::SQLite::_dbi_attrs_for_bind(): Non-integer value supplied for column 'me.trackid' despite the integer datatype at /home/sand/src/perl/repoperls/installed-perls/host/k93msid/v5.22.3/89ad/lib/site_perl/5.22.3/Catalyst/Controller/DBIC/API.pm line 217
[error] No object found for id 'sdsdsdsd' at /home/sand/src/perl/repoperls/installed-perls/host/k93msid/v5.22.3/89ad/lib/site_perl/5.22.3/Catalyst/Controller/DBIC/API.pm line 218, <$fh> line 1.
[error] No object found for id '3434234' at /home/sand/src/perl/repoperls/installed-perls/host/k93msid/v5.22.3/89ad/lib/site_perl/5.22.3/Catalyst/Controller/DBIC/API.pm line 218, <$fh> line 1.
[error] No valid keys passed at /home/sand/src/perl/repoperls/installed-perls/host/k93msid/v5.22.3/89ad/lib/site_perl/5.22.3/Catalyst/Controller/DBIC/API.pm line 447, <$fh> line 1.
t/update.t ................... ok
All tests successful.
Files=18, Tests=79, 19 wallclock secs ( 0.07 usr  0.08 sys +  7.21 cusr  0.75 csys =  8.11 CPU)
Result: PASS

------------------------------
PREREQUISITES
------------------------------

Prerequisite modules loaded:

requires:

    Module                                Need     Have     
    ------------------------------------- -------- ---------
    Class::Load                           0        0.24     
    File::Spec                            0        3.62     
    FindBin                               0        1.51     
    lib                                   0        0.63     
    List::Util                            0        1.47     
    namespace::autoclean                  0        0.28     
    Path::Tiny                            0        0.104    
    perl                                  5.006000 5.022003 
    strict                                0        1.09     
    warnings                              0        1.34     

build_requires:

    Module                                Need     Have     
    ------------------------------------- -------- ---------
    base                                  0        2.22     
    blib                                  1.01     1.06     
    bytes                                 0        1.04     
    Catalyst                              0        5.90114  
    Catalyst::Controller                  0        0        
    Catalyst::Controller::DBIC::API::REST 2.006002 2.006002 
    Catalyst::Helper                      0        1.39     
    Catalyst::Model::DBIC::Schema         0        0.65     
    Catalyst::Utils                       0        0        
    DBIx::Class::Core                     0        0        
    DBIx::Class::ResultSet                0        0        
    DBIx::Class::Schema                   0        0        
    ExtUtils::MakeMaker                   0        7.24     
    File::Copy::Recursive                 0        0.38     
    File::Path                            0        2.12_008 
    File::Spec                            0        3.62     
    HTTP::Request::Common                 0        6.11     
    IO::Handle                            0        1.35     
    IPC::Open3                            0        1.18     
    JSON::XS                              0        3.03     
    parent                                0        0.236    
    Test::Deep                            0        1.126_001
    Test::More                            0        1.302085 
    Test::WWW::Mechanize::Catalyst        0        0.60     
    URI                                   0        1.71     

configure_requires:

    Module                                Need     Have     
    ------------------------------------- -------- ---------
    ExtUtils::MakeMaker                   0        7.24     


------------------------------
ENVIRONMENT AND OTHER CONTEXT
------------------------------

Environment variables:

    AUTOMATED_TESTING = 1
    LANG = en_US.UTF-8
    PATH = /home/sand/bin:/usr/local/bin:/usr/bin:/bin:/usr/games:/usr/local/perl/bin:/usr/X11/bin:/sbin:/usr/sbin
    PERL5LIB = 
    PERL5OPT = 
    PERL5_CPANPLUS_IS_RUNNING = 19841
    PERL5_CPAN_IS_RUNNING = 19841
    PERL_CANARY_STABILITY_NOPROMPT = 1
    PERL_MM_USE_DEFAULT = 1
    PERL_USE_UNSAFE_INC = 1
    SHELL = /usr/bin/zsh
    TERM = screen

Perl special variables (and OS-specific diagnostics, for MSWin32):

    $^X = /home/sand/src/perl/repoperls/installed-perls/host/k93msid/v5.22.3/89ad/bin/perl
    $UID/$EUID = 1005 / 1005
    $GID = 1005 1005
    $EGID = 1005 1005

Perl module toolchain versions installed:

    Module              Have      
    ------------------- ----------
    CPAN                2.18      
    CPAN::Meta          2.150010  
    Cwd                 3.62      
    ExtUtils::CBuilder  0.280224  
    ExtUtils::Command   7.24      
    ExtUtils::Install   2.08      
    ExtUtils::MakeMaker 7.24      
    ExtUtils::Manifest  1.70      
    ExtUtils::ParseXS   3.28      
    File::Spec          3.62      
    JSON                2.92      
    JSON::PP            2.27300_01
    Module::Build       0.4222    
    Module::Signature   0.81      
    Parse::CPAN::Meta   2.150010  
    Test::Harness       3.39      
    Test::More          1.302085  
    YAML                1.23      
    YAML::Syck          1.29      
    version             0.9918    


--

Summary of my perl5 (revision 5 version 22 subversion 3) configuration:
  Derived from: 16b638b0a20de774856b3a21a75a5e373af5262c
  Platform:
    osname=linux, osvers=4.9.0-2-amd64, archname=x86_64-linux
    uname='linux k93msid 4.9.0-2-amd64 #1 smp debian 4.9.18-1 (2017-03-30) x86_64 gnulinux '
    config_args='-Dprefix=/home/sand/src/perl/repoperls/installed-perls/host/k93msid/v5.22.3/89ad -Dmyhostname=k93msid -Dinstallusrbinperl=n -Uversiononly -Dusedevel -des -Ui_db -Dlibswanted=cl pthread socket inet nsl gdbm dbm malloc dl ld sun m crypt sec util c cposix posix ucb BSD gdbm_compat -Uuseithreads -Uuselongdouble -DDEBUGGING=-g'
    hint=recommended, useposix=true, d_sigaction=define
    useithreads=undef, usemultiplicity=undef
    use64bitint=define, use64bitall=define, uselongdouble=undef
    usemymalloc=n, bincompat5005=undef
  Compiler:
    cc='cc', ccflags ='-fwrapv -fno-strict-aliasing -pipe -fstack-protector-strong -I/usr/local/include -D_LARGEFILE_SOURCE -D_FILE_OFFSET_BITS=64',
    optimize='-O2 -g',
    cppflags='-fwrapv -fno-strict-aliasing -pipe -fstack-protector-strong -I/usr/local/include'
    ccversion='', gccversion='6.3.0 20170406', gccosandvers=''
    intsize=4, longsize=8, ptrsize=8, doublesize=8, byteorder=12345678, doublekind=3
    d_longlong=define, longlongsize=8, d_longdbl=define, longdblsize=16, longdblkind=3
    ivtype='long', ivsize=8, nvtype='double', nvsize=8, Off_t='off_t', lseeksize=8
    alignbytes=8, prototype=define
  Linker and Libraries:
    ld='cc', ldflags =' -fstack-protector-strong -L/usr/local/lib'
    libpth=/usr/local/lib /usr/lib/gcc/x86_64-linux-gnu/6/include-fixed /usr/include/x86_64-linux-gnu /usr/lib /lib/x86_64-linux-gnu /lib/../lib /usr/lib/x86_64-linux-gnu /usr/lib/../lib /lib
    libs=-lpthread -lnsl -ldl -lm -lcrypt -lutil -lc
    perllibs=-lpthread -lnsl -ldl -lm -lcrypt -lutil -lc
    libc=libc-2.24.so, so=so, useshrplib=false, libperl=libperl.a
    gnulibc_version='2.24'
  Dynamic Linking:
    dlsrc=dl_dlopen.xs, dlext=so, d_dlsymun=undef, ccdlflags='-Wl,-E'
    cccdlflags='-fPIC', lddlflags='-shared -O2 -g -L/usr/local/lib -fstack-protector-strong'


Characteristics of this binary (from libperl): 
  Compile-time options: HAS_TIMES PERLIO_LAYERS PERL_DONT_CREATE_GVSV
                        PERL_HASH_FUNC_ONE_AT_A_TIME_HARD PERL_MALLOC_WRAP
                        PERL_NEW_COPY_ON_WRITE PERL_PRESERVE_IVUV
                        PERL_USE_DEVEL USE_64_BIT_ALL USE_64_BIT_INT
                        USE_LARGE_FILES USE_LOCALE USE_LOCALE_COLLATE
                        USE_LOCALE_CTYPE USE_LOCALE_NUMERIC USE_LOCALE_TIME
                        USE_PERLIO USE_PERL_ATOF
  Locally applied patches:
	uncommitted-changes
  Built under linux
  Compiled at Apr 14 2017 09:51:21
  %ENV:
    PERL5LIB=""
    PERL5OPT=""
    PERL5_CPANPLUS_IS_RUNNING="19841"
    PERL5_CPAN_IS_RUNNING="19841"
    PERL_CANARY_STABILITY_NOPROMPT="1"
    PERL_MM_USE_DEFAULT="1"
    PERL_USE_UNSAFE_INC="1"
  @INC:
    /home/sand/src/perl/repoperls/installed-perls/host/k93msid/v5.22.3/89ad/lib/site_perl/5.22.3/x86_64-linux
    /home/sand/src/perl/repoperls/installed-perls/host/k93msid/v5.22.3/89ad/lib/site_perl/5.22.3
    /home/sand/src/perl/repoperls/installed-perls/host/k93msid/v5.22.3/89ad/lib/5.22.3/x86_64-linux
    /home/sand/src/perl/repoperls/installed-perls/host/k93msid/v5.22.3/89ad/lib/5.22.3
    .