Module-Pluggable v4.6 Perl 5 v5.14.2 cygwin-thread-multi-64int

Status
Pass
From
Peter John Acklam (PJACKLAM)
Dist
Module-Pluggable v4.6
Platform
Perl 5 v5.14.2 cygwin-thread-multi-64int
Date
2013-02-01 20:29:59
ID
00c4ae9f-6c0e-1014-a90a-6b5caee646e5
This distribution has been tested as part of the CPAN Testers
project, supporting the Perl programming language.  See
http://wiki.cpantesters.org/ for more information or email
questions to cpan-testers-discuss@perl.org


--
Dear Simon Wistow,

This is a computer-generated report for Module-Pluggable-4.6
on perl 5.14.2, created by CPAN-Reporter-1.2009.

Thank you for uploading your work to CPAN.  Congratulations!
All tests were successful.

Sections of this report:

    * Tester comments
    * Program output
    * Prerequisites
    * Environment and other context

------------------------------
TESTER COMMENTS
------------------------------

Additional comments from tester:

none provided

------------------------------
PROGRAM OUTPUT
------------------------------

Output from './Build test':

t/01use.t .................. ok
t/02alsoworks.t ............ ok
t/02works.t ................ ok
t/02works_taint.t .......... ok
t/03diffname.t ............. ok
t/04acmedir.t .............. ok
t/04acmedir_single.t ....... ok
t/04acmepath.t ............. ok
t/04acmepath_single.t ...... ok
t/05postpath.t ............. ok
t/06multipath.t ............ ok
t/07instantiate.t .......... ok
t/08nothing.t .............. ok
t/09require.t .............. ok
t/10innerpack.t ............ ok
t/10innerpack_inner.t ...... ok
t/10innerpack_noinner.t .... ok
t/10innerpack_onefile.t .... ok
t/10innerpack_override.t ... ok
t/10innerpack_super.t ...... ok
t/11usetwice.t ............. ok
t/12only.t ................. ok
t/12onlyarray.t ............ ok
t/12onlyregex.t ............ ok
t/12onlyrequire.t .......... ok
t/13except.t ............... ok
t/13exceptarray.t .......... ok
t/13exceptregex.t .......... ok
t/14package.t .............. ok
t/15topicsafe.t ............ ok
t/16different_extension.t .. ok
t/17devel_inner_package.t .. ok
t/18skipped_package.t ...... ok
t/19can_ok_clobber.t ....... ok
t/20dodgy_files.t .......... ok
t/21editor_junk.t .......... ok
t/22trigger.t .............. ok
t/23depth.t ................ ok
t/24local_inc_object.t ..... ok
Couldn't require Text::PDF::TTFont : Can't locate Font/TTF/Font.pm in @INC (@INC contains: t/lib /cygdrive/c/src/.cpan/build/Module-Pluggable-4.6-2VzjIs/blib/lib /cygdrive/c/src/.cpan/build/Module-Pluggable-4.6-2VzjIs/blib/arch /usr/local/lib/perl5/site_perl/5.14 /usr/local/lib/perl5/site_perl/5.14/i686-cygwin-threads-64int /usr/local/lib/perl5/5.14 /usr/local/lib/perl5/5.14/i686-cygwin-threads-64int /usr/local/lib/perl5/cygwin-thread-multi-64int /usr/local/lib/perl5/cygwin-thread-multi-64int /usr/local/lib/perl5 /usr/local/lib/perl5/site_perl/5.14 /usr/local/lib/perl5/site_perl/5.14/i686-cygwin-threads-64int /usr/local/lib/perl5/5.14 /usr/local/lib/perl5/5.14/i686-cygwin-threads-64int /usr/local/lib/perl5/cygwin-thread-multi-64int /usr/local/lib/perl5 /usr/lib/perl5/site_perl/5.14/i686-cygwin-threads-64int /usr/lib/perl5/site_perl/5.14 /usr/lib/perl5/vendor_perl/5.14/i686-cygwin-threads-64int /usr/lib/perl5/vendor_perl/5.14 /usr/lib/perl5/5.14/i686-cygwin-threads-64int /usr/lib/perl5/5.14 /usr/lib/perl5/site_perl/5.10 /usr/lib/perl5/vendor_perl/5.10 /usr/lib/perl5/site_perl/5.8 .) at /usr/local/lib/perl5/site_perl/5.14/Text/PDF/TTFont.pm line 31.
BEGIN failed--compilation aborted at /usr/local/lib/perl5/site_perl/5.14/Text/PDF/TTFont.pm line 31.
Compilation failed in require at (eval 246) line 2.
 at /cygdrive/c/src/.cpan/build/Module-Pluggable-4.6-2VzjIs/blib/lib/Module/Pluggable.pm line 32.
Couldn't require Text::PDF::TTFont0 : Attempt to reload Text/PDF/TTFont.pm aborted.
Compilation failed in require at /usr/local/lib/perl5/site_perl/5.14/Text/PDF/TTFont0.pm line 27.
BEGIN failed--compilation aborted at /usr/local/lib/perl5/site_perl/5.14/Text/PDF/TTFont0.pm line 27.
Compilation failed in require at (eval 247) line 2.
 at /cygdrive/c/src/.cpan/build/Module-Pluggable-4.6-2VzjIs/blib/lib/Module/Pluggable.pm line 32.
UNIVERSAL->import is deprecated and will be removed in a future perl at /usr/local/lib/perl5/cygwin-thread-multi-64int/Text/BibTeX/Value.pm line 21.
Couldn't require Text::PDF::TTFont : Attempt to reload Text/PDF/TTFont.pm aborted.
Compilation failed in require at (eval 768) line 2.
 at /cygdrive/c/src/.cpan/build/Module-Pluggable-4.6-2VzjIs/blib/lib/Module/Pluggable.pm line 32.
Couldn't require Text::PDF::TTFont0 : Attempt to reload Text/PDF/TTFont0.pm aborted.
Compilation failed in require at (eval 769) line 2.
 at /cygdrive/c/src/.cpan/build/Module-Pluggable-4.6-2VzjIs/blib/lib/Module/Pluggable.pm line 32.
t/24local_inc_package.t .... ok
All tests successful.
Files=40, Tests=173, 16 wallclock secs ( 0.12 usr  0.08 sys +  5.89 cusr  4.97 csys = 11.07 CPU)
Result: PASS

------------------------------
PREREQUISITES
------------------------------

Prerequisite modules loaded:

requires:

    Module         Need Have  
    -------------- ---- ------
    File::Basename 0    2.82  
    File::Spec     3.00 3.40  
    if             0    0.0601

build_requires:

    Module         Need Have  
    -------------- ---- ------
    Test::More     0.62 0.98  

configure_requires:

    Module         Need Have  
    -------------- ---- ------
    Module::Build  0.38 0.4003


------------------------------
ENVIRONMENT AND OTHER CONTEXT
------------------------------

Environment variables:

    COMSPEC = C:\Windows\system32\cmd.exe
    LANG = C.utf8
    NUMBER_OF_PROCESSORS = 4
    PATH = /usr/local/bin:/usr/bin:/cygdrive/c/Program Files (x86)/PC Connectivity Solution:/cygdrive/c/Windows/system32:/cygdrive/c/Windows:/cygdrive/c/Windows/System32/Wbem:/cygdrive/c/Windows/System32/WindowsPowerShell/v1.0:/cygdrive/c/Program Files (x86)/Smart Projects/IsoBuster:/cygdrive/c/strawberry/c/bin:/cygdrive/c/strawberry/perl/site/bin:/cygdrive/c/strawberry/perl/bin:/cygdrive/c/Program Files (x86)/QuickTime/QTSystem:/usr/bin:/usr/X11R6/bin:/cygdrive/c/Program Files (x86)/cGPSmapper:/cygdrive/c/apps/emacs-23.3/bin:/cygdrive/c/Program Files (x86)/Nmap:/usr/lib/lapack:/bin:/usr/sbin:/cygdrive/c/apps/emacs-24.2//bin:/usr/local/lib:/cygdrive/c/peter/bin/os/unix/scripts:/cygdrive/c/Program Files (x86)/Java/jre7/bin
    PERL5LIB = /usr/local/lib/perl5/site_perl/5.14:/usr/local/lib/perl5/site_perl/5.14/i686-cygwin-threads-64int:/usr/local/lib/perl5/5.14:/usr/local/lib/perl5/5.14/i686-cygwin-threads-64int:/usr/local/lib/perl5
    PERL5OPT = 
    PERL5_CPANPLUS_IS_RUNNING = 6008
    PERL5_CPAN_IS_RUNNING = 6008
    PROCESSOR_IDENTIFIER = Intel64 Family 6 Model 37 Stepping 5, GenuineIntel
    SHELL = /bin/bash
    TEMP = /tmp
    TERM = xterm

Perl special variables (and OS-specific diagnostics, for MSWin32):

    $^X = /usr/bin/perl
    $UID/$EUID = 101 / 101
    $GID = 10513 0 544 545 1001 10513
    $EGID = 10513 0 544 545 1001 10513

Perl module toolchain versions installed:

    Module              Have    
    ------------------- --------
    CPAN                1.99_51 
    CPAN::Meta          2.120921
    Cwd                 3.40    
    ExtUtils::CBuilder  0.280205
    ExtUtils::Command   1.17    
    ExtUtils::Install   1.56    
    ExtUtils::MakeMaker 6.64    
    ExtUtils::Manifest  1.61    
    ExtUtils::ParseXS   3.18    
    File::Spec          3.40    
    JSON                2.53    
    JSON::PP            2.27200 
    Module::Build       0.4003  
    Module::Signature   0.70    
    Parse::CPAN::Meta   1.4404  
    Test::Harness       3.26    
    Test::More          0.98    
    YAML                0.84    
    YAML::Syck          1.22    
    version             0.9901  


--

Summary of my perl5 (revision 5 version 14 subversion 2) configuration:
   
  Platform:
    osname=cygwin, osvers=1.7.15(0.26053), archname=cygwin-thread-multi-64int
    uname='cygwin_nt-5.1 winxp 1.7.15(0.26053) 2012-05-09 10:25 i686 cygwin '
    config_args='-de -Dlibperl=cygperl5_14.dll -Dcc=gcc-4 -Dld=g++-4 -Darchname=i686-cygwin-threads-64int -Dmksymlinks -Dusethreads -Accflags=-g'
    hint=recommended, useposix=true, d_sigaction=define
    useithreads=define, usemultiplicity=define
    useperlio=define, d_sfio=undef, uselargefiles=define, usesocks=undef
    use64bitint=define, use64bitall=undef, uselongdouble=undef
    usemymalloc=n, bincompat5005=undef
  Compiler:
    cc='gcc-4', ccflags ='-DPERL_USE_SAFE_PUTENV -U__STRICT_ANSI__ -g -fno-strict-aliasing -pipe -fstack-protector',
    optimize='-O3',
    cppflags='-DPERL_USE_SAFE_PUTENV -U__STRICT_ANSI__ -g -fno-strict-aliasing -pipe -fstack-protector'
    ccversion='', gccversion='4.5.3', gccosandvers=''
    intsize=4, longsize=4, ptrsize=4, doublesize=8, byteorder=12345678
    d_longlong=define, longlongsize=8, d_longdbl=define, longdblsize=12
    ivtype='long long', ivsize=8, nvtype='double', nvsize=8, Off_t='off_t', lseeksize=8
    alignbytes=8, prototype=define
  Linker and Libraries:
    ld='g++-4', ldflags =' -Wl,--enable-auto-import -Wl,--export-all-symbols -Wl,--enable-auto-image-base -fstack-protector -L/usr/local/lib'
    libpth=/usr/local/lib /usr/lib /lib
    libs=-lgdbm -ldb -ldl -lcrypt -lgdbm_compat
    perllibs=-ldl -lcrypt
    libc=/usr/lib/libc.a, so=dll, useshrplib=true, libperl=cygperl5_14.dll
    gnulibc_version=''
  Dynamic Linking:
    dlsrc=dl_dlopen.xs, dlext=dll, d_dlsymun=undef, ccdlflags=' '
    cccdlflags=' ', lddlflags=' --shared  -Wl,--enable-auto-import -Wl,--export-all-symbols -Wl,--enable-auto-image-base -L/usr/local/lib -fstack-protector'


Characteristics of this binary (from libperl): 
  Compile-time options: MULTIPLICITY PERL_DONT_CREATE_GVSV
                        PERL_IMPLICIT_CONTEXT PERL_PRESERVE_IVUV
                        PERL_USE_SAFE_PUTENV USE_64_BIT_INT USE_ITHREADS
                        USE_LARGE_FILES USE_PERLIO USE_PERL_ATOF
                        USE_REENTRANT_API
  Locally applied patches:
	Bug#55162 File::Spec::case_tolerant performance
	CYG07 $vendorarch/auto/.rebase
	CYG15 static Win32CORE
	CYG17 cyg-1.7 paths-utf8
	0c612ce82 Fix building static extensions on cygwin, -UUSEIMPORTLIB
	1bac5ecc1 Fix 64-bit threading sv.c: S_anonymise_cv_maybe
	Cygwin::sync_winenv added
  Built under cygwin
  Compiled at Jul 12 2012 14:17:21
  %ENV:
    PERL5LIB="/usr/local/lib/perl5/site_perl/5.14:/usr/local/lib/perl5/site_perl/5.14/i686-cygwin-threads-64int:/usr/local/lib/perl5/5.14:/usr/local/lib/perl5/5.14/i686-cygwin-threads-64int:/usr/local/lib/perl5"
    PERL5OPT=""
    PERL5_CPANPLUS_IS_RUNNING="6008"
    PERL5_CPAN_IS_RUNNING="6008"
    CYGWIN="codepage:utf8 nodosfilewarning"
  @INC:
    /usr/local/lib/perl5/site_perl/5.14
    /usr/local/lib/perl5/site_perl/5.14/i686-cygwin-threads-64int
    /usr/local/lib/perl5/5.14
    /usr/local/lib/perl5/5.14/i686-cygwin-threads-64int
    /usr/local/lib/perl5/cygwin-thread-multi-64int
    /usr/local/lib/perl5
    /usr/lib/perl5/site_perl/5.14/i686-cygwin-threads-64int
    /usr/lib/perl5/site_perl/5.14
    /usr/lib/perl5/vendor_perl/5.14/i686-cygwin-threads-64int
    /usr/lib/perl5/vendor_perl/5.14
    /usr/lib/perl5/5.14/i686-cygwin-threads-64int
    /usr/lib/perl5/5.14
    /usr/lib/perl5/site_perl/5.10
    /usr/lib/perl5/vendor_perl/5.10
    /usr/lib/perl5/site_perl/5.8
    .