Number-Phone-Normalize v0.220 Perl 5 v5.10.1 x86_64-linux-thread-multi
- Status
- Pass
- From
- Daniel Bosold (DEVOGON)
- Dist
-
Number-Phone-Normalize v0.220
- Platform
- Perl 5 v5.10.1 x86_64-linux-thread-multi
- Date
- 2011-08-23 17:33:24
- ID
- 00c958f2-cdae-11e0-8a07-cbcc76225c5e
This distribution has been tested as part of the CPAN Testers
project, supporting the Perl programming language. See
http://wiki.cpantesters.org/ for more information or email
questions to cpan-testers-discuss@perl.org
--
Dear Claus Faerber,
This is a computer-generated report for Number-Phone-Normalize-0.220
on perl 5.10.1, created by CPAN-Reporter-1.1902.
Thank you for uploading your work to CPAN. Congratulations!
All tests were successful.
Sections of this report:
* Tester comments
* Program output
* Prerequisites
* Environment and other context
------------------------------
TESTER COMMENTS
------------------------------
Additional comments from tester:
this report is from an automated smoke testing program
and was not reviewed by a human for accuracy
------------------------------
PROGRAM OUTPUT
------------------------------
Output from './Build test':
t/00base-use.t ....... ok
t/05pod_check.t ...... ok
t/06pod_coverage.t ... ok
t/10obj__intl.t ...... ok
t/15obj__local.t ..... ok
t/16obj__l_ld.t ...... ok
t/17obj__l_nocc.t .... ok
t/18obj__l_noac.t .... ok
t/20phone_intl.t ..... ok
t/25phone_local.t .... ok
t/26phone_l_ld.t ..... ok
t/27phone_l_nocc.t ... ok
t/28phone_l_noac.t ... ok
t/30intl_cc_ac.t ..... ok
t/31local_cc.t ....... ok
t/32local_ac.t ....... ok
t/33local_ac_ld.t .... ok
t/34local_ac_nocc.t .. ok
t/40vanity_cvrt.t .... ok
t/41vanity_ok.t ...... ok
t/42vanity_ac.t ...... ok
All tests successful.
Files=21, Tests=126, 1 wallclock secs ( 0.07 usr 0.04 sys + 0.47 cusr 0.14 csys = 0.72 CPU)
Result: PASS
------------------------------
PREREQUISITES
------------------------------
Prerequisite modules loaded:
build_requires:
Module Need Have
------------- ---- ------
Test::More 0 0.98
configure_requires:
Module Need Have
------------- ---- ------
Module::Build 0.35 0.3800
------------------------------
ENVIRONMENT AND OTHER CONTEXT
------------------------------
Environment variables:
AUTOMATED_TESTING = 1
LANG = en_US.UTF-8
LC_COLLATE = C
LC_MONETARY = nl_NL.utf8
PATH = /home/tester/perl5/perlbrew/bin:/home/tester/perl5/perlbrew/perls/perl-5.15.1/bin:/usr/lib64/qt-3.3/bin:/usr/lib64/ccache:/usr/local/bin:/bin:/usr/bin:/usr/local/sbin:/usr/sbin:/sbin:/home/tester/bin:/home/tester/bin
PATH_WITHOUT_PERLBREW = /usr/lib64/qt-3.3/bin:/usr/lib64/ccache:/usr/local/bin:/bin:/usr/bin:/usr/local/sbin:/usr/sbin:/sbin:/home/tester/bin
PERL5LIB =
PERL5OPT =
PERL5_CPANPLUS_IS_RUNNING = 27072
PERL5_CPAN_IS_RUNNING = 27072
PERL5_CPAN_IS_RUNNING_IN_RECURSION = 27541,27072
PERLBREW_PATH = /home/tester/perl5/perlbrew/bin:/home/tester/perl5/perlbrew/perls/perl-5.15.1/bin
PERLBREW_PERL = perl-5.15.1
PERLBREW_ROOT = /home/tester/perl5/perlbrew
PERLBREW_VERSION = 0.15
PERL_CR_SMOKER_CURRENT = Number-Phone-Normalize-0.220
PERL_EXTUTILS_AUTOINSTALL = --defaultdeps
PERL_MM_USE_DEFAULT = 1
SHELL = /bin/bash
TERM = screen
Perl special variables (and OS-specific diagnostics, for MSWin32):
$^X = /home/perl510/testing/bin/perl5.10.1
$UID/$EUID = 507 / 507
$GID = 507 507
$EGID = 507 507
Perl module toolchain versions installed:
Module Have
------------------- --------
CPAN 1.9402
Cwd 3.30
ExtUtils::CBuilder 0.280202
ExtUtils::Command 1.16
ExtUtils::Install 1.54
ExtUtils::MakeMaker 6.56
ExtUtils::Manifest 1.56
ExtUtils::ParseXS 2.2206
File::Spec 3.30
Module::Build 0.3800
Module::Signature n/a
Test::Harness 3.17
Test::More 0.98
YAML n/a
YAML::Syck 1.17
version 0.88
--
Summary of my perl5 (revision 5 version 10 subversion 1) configuration:
Platform:
osname=linux, osvers=2.6.35.11-83.fc14.x86_64, archname=x86_64-linux-thread-multi
uname='linux firenze.fritz.box 2.6.35.11-83.fc14.x86_64 #1 smp mon feb 7 07:06:44 utc 2011 x86_64 x86_64 x86_64 gnulinux '
config_args='-Dprefix=/home/perl510/testing -Dusethreads -Dusedevel -des'
hint=recommended, useposix=true, d_sigaction=define
useithreads=define, usemultiplicity=define
useperlio=define, d_sfio=undef, uselargefiles=define, usesocks=undef
use64bitint=define, use64bitall=define, uselongdouble=undef
usemymalloc=n, bincompat5005=undef
Compiler:
cc='cc', ccflags ='-D_REENTRANT -D_GNU_SOURCE -fno-strict-aliasing -pipe -fstack-protector -I/usr/local/include -D_LARGEFILE_SOURCE -D_FILE_OFFSET_BITS=64',
optimize='-O2',
cppflags='-D_REENTRANT -D_GNU_SOURCE -fno-strict-aliasing -pipe -fstack-protector -I/usr/local/include'
ccversion='', gccversion='4.5.1 20100924 (Red Hat 4.5.1-4)', gccosandvers=''
intsize=4, longsize=8, ptrsize=8, doublesize=8, byteorder=12345678
d_longlong=define, longlongsize=8, d_longdbl=define, longdblsize=16
ivtype='long', ivsize=8, nvtype='double', nvsize=8, Off_t='off_t', lseeksize=8
alignbytes=8, prototype=define
Linker and Libraries:
ld='cc', ldflags =' -fstack-protector -L/usr/local/lib'
libpth=/usr/local/lib /lib /usr/lib /lib64 /usr/lib64 /usr/local/lib64
libs=-lnsl -lgdbm -ldb -ldl -lm -lcrypt -lutil -lpthread -lc -lgdbm_compat
perllibs=-lnsl -ldl -lm -lcrypt -lutil -lpthread -lc
libc=, so=so, useshrplib=false, libperl=libperl.a
gnulibc_version='2.13'
Dynamic Linking:
dlsrc=dl_dlopen.xs, dlext=so, d_dlsymun=undef, ccdlflags='-Wl,-E'
cccdlflags='-fPIC', lddlflags='-shared -O2 -L/usr/local/lib -fstack-protector'
Characteristics of this binary (from libperl):
Compile-time options: MULTIPLICITY PERL_DONT_CREATE_GVSV
PERL_IMPLICIT_CONTEXT PERL_MALLOC_WRAP PERL_USE_DEVEL
USE_64_BIT_ALL USE_64_BIT_INT USE_ITHREADS
USE_LARGE_FILES USE_PERLIO USE_REENTRANT_API
Built under linux
Compiled at May 19 2011 12:29:51
%ENV:
PERL5LIB=""
PERL5OPT=""
PERL5_CPANPLUS_IS_RUNNING="27072"
PERL5_CPAN_IS_RUNNING="27072"
PERL5_CPAN_IS_RUNNING_IN_RECURSION="27541,27072"
PERLBREW_PATH="/home/tester/perl5/perlbrew/bin:/home/tester/perl5/perlbrew/perls/perl-5.15.1/bin"
PERLBREW_PERL="perl-5.15.1"
PERLBREW_ROOT="/home/tester/perl5/perlbrew"
PERLBREW_VERSION="0.15"
PERL_CR_SMOKER_CURRENT="Number-Phone-Normalize-0.220"
PERL_EXTUTILS_AUTOINSTALL="--defaultdeps"
PERL_MM_USE_DEFAULT="1"
@INC:
/home/perl510/testing/lib/5.10.1/x86_64-linux-thread-multi
/home/perl510/testing/lib/5.10.1
/home/perl510/testing/lib/site_perl/5.10.1/x86_64-linux-thread-multi
/home/perl510/testing/lib/site_perl/5.10.1
.