Data-FormValidator v4.80 Perl 5 v5.16.2 i686-linux-thread-multi

Status
Pass
From
Alexandr Ciornii (CHORNY)
Dist
Data-FormValidator v4.80
Platform
Perl 5 v5.16.2 i686-linux-thread-multi
Date
2013-02-23 18:36:57
ID
00cf3d76-7de8-11e2-a8e8-eedf46af5c5f
This distribution has been tested as part of the CPAN Testers
project, supporting the Perl programming language.  See
http://wiki.cpantesters.org/ for more information or email
questions to cpan-testers-discuss@perl.org


--
Dear Mark Stosberg,

This is a computer-generated report for Data-FormValidator-4.80
on perl 5.16.2, created by CPAN-Reporter-1.2009.

Thank you for uploading your work to CPAN.  Congratulations!
All tests were successful.

Sections of this report:

    * Tester comments
    * Program output
    * Prerequisites
    * Environment and other context

------------------------------
TESTER COMMENTS
------------------------------

Additional comments from tester:

none provided

------------------------------
PROGRAM OUTPUT
------------------------------

Output from './Build test':

t/00_base.t .............................. ok
t/02_code_ref.t .......................... ok
t/03_dependency.t ........................ ok
t/04_arrayify_undef.t .................... ok
t/05_valid_ip_address.t .................. ok
t/06_regexp_map.t ........................ ok
t/09_require_some.t ...................... ok
t/11_procedural_match.t .................. ok
t/13_validator_packages.t ................ ok
t/15_literal_param_constraints.t ......... ok
t/16_cgi_object.t ........................ ok
t/17_multi_valued_keys.t ................. ok
t/18_constraint_refs.t ................... ok
t/19_refs_as_values.t .................... ok
t/20_careful_exception_handling.t ........ ok
t/21_multiple_fields.t ................... ok
t/25_results.t ........................... ok
t/26_qr.t ................................ ok
t/27_qualify_ref_happy_death.t ........... ok
t/28_defaults_for_new.t .................. ok
t/30_filter_definedness.t ................ ok
t/FV_length.t ............................ ok
t/any_errors.t ........................... ok
t/check_profile_syntax.t ................. ok
t/closure_msgs.t ......................... ok
t/constraint_method.t .................... ok
t/constraint_method_string.t ............. ok
t/constraint_method_zero.t ............... ok
t/constraint_regexp_map_profile_reuse.t .. ok
t/constraints_builtin.t .................. ok
t/constraints_builtin_closure.t .......... ok
t/constraints_factory.t .................. ok
t/constraints_invalid_once_only.t ........ ok
t/constraints_num_values.t ............... ok
t/constraints_regexp_map_interaction.t ... ok
t/constraints_reuse.t .................... ok
t/credit_card.t .......................... ok
t/dates.t ................................ ok
t/dates_closure.t ........................ ok
t/dependency_coderef.t ................... ok
t/dependency_groups.t .................... ok
t/filter_constraints.t ................... ok
"my" variable $replacer masks earlier declaration in same scope at t/filters_builtin.t line 17.
t/filters_builtin.t ...................... ok
t/filters_shouldnt_modify.t .............. ok
t/get_filtered_data.t .................... ok
t/get_input_data.t ....................... ok
t/missing_optional.t ..................... ok
t/msgs.t ................................. ok
t/multiple_constraints.t ................. ok
t/params_not_mentioned.t ................. ok
t/pod.t .................................. ok
t/procedural_valid.t ..................... ok
t/profile_checking.t ..................... ok
t/regexp_common.t ........................ ok
t/regexp_common_closure.t ................ ok
t/rename_builtin_constraints.t ........... ok
t/results_success.t ...................... ok
t/simple.t ............................... ok
t/tt_and_overload.t ...................... skipped: Template Toolkit required
t/undefined_arrayref.t ................... ok
t/unknown.t .............................. ok
t/untaint.t .............................. ok
# Adding CGI::Simple tests
# testing with CGI.pm version: 3.59
# testing with CGI::Simple version: 1.113
# Running tests with CGI
# Running tests with CGI::Simple
t/upload.t ............................... ok
# testing with CGI.pm version: 3.59
t/upload_closure.t ....................... ok
t/upload_mime_types.t .................... ok
All tests successful.
Files=65, Tests=630,  6 wallclock secs ( 0.03 usr  0.57 sys +  2.25 cusr  1.22 csys =  4.07 CPU)
Result: PASS

------------------------------
PREREQUISITES
------------------------------

Prerequisite modules loaded:

requires:

    Module          Need  Have      
    --------------- ----- ----------
    Date::Calc      5     6.3       
    Email::Valid    0     0.190     
    File::MMagic    1.17  1.29      
    Image::Size     0     3.232     
    MIME::Types     1.005 1.38      
    overload        0     1.18      
    perl            5.008 5.016002  
    Perl6::Junction 1.1   1.50000   
    Regexp::Common  0     2011121001
    Scalar::Util    0     1.25      
    Test::More      0     0.98      

build_requires:

    Module          Need  Have      
    --------------- ----- ----------
    CGI             3.48  3.59      

configure_requires:

    Module          Need  Have      
    --------------- ----- ----------
    Module::Build   0.38  0.4003    


------------------------------
ENVIRONMENT AND OTHER CONTEXT
------------------------------

Environment variables:

    LANG = ru_RU.utf8
    PATH = /home/c/perl5/perlbrew/bin:/home/c/perl5/perlbrew/perls/5.16.2i/bin:/usr/local/bin:/usr/bin:/bin:/usr/local/games:/usr/games
    PERL5LIB = 
    PERL5OPT = 
    PERL5_CPANPLUS_IS_RUNNING = 17509
    PERL5_CPAN_IS_RUNNING = 17509
    PERLBREW_MANPATH = /home/c/perl5/perlbrew/perls/5.16.2i/man
    PERLBREW_PATH = /home/c/perl5/perlbrew/bin:/home/c/perl5/perlbrew/perls/5.16.2i/bin
    PERLBREW_PERL = 5.16.2i
    PERLBREW_ROOT = /home/c/perl5/perlbrew
    PERLBREW_SKIP_INIT = 1
    PERLBREW_VERSION = 0.58
    SHELL = /bin/bash
    TERM = xterm

Perl special variables (and OS-specific diagnostics, for MSWin32):

    $^X = /home/c/perl5/perlbrew/perls/5.16.2i/bin/perl
    $UID/$EUID = 1000 / 1000
    $GID = 1000 24 25 27 29 30 44 46 108 109 115 1000 1001
    $EGID = 1000 24 25 27 29 30 44 46 108 109 115 1000 1001

Perl module toolchain versions installed:

    Module              Have    
    ------------------- --------
    CPAN                1.9800  
    CPAN::Meta          2.120921
    Cwd                 3.39_02 
    ExtUtils::CBuilder  0.280206
    ExtUtils::Command   1.17    
    ExtUtils::Install   1.58    
    ExtUtils::MakeMaker 6.63_02 
    ExtUtils::Manifest  1.61    
    ExtUtils::ParseXS   3.16    
    File::Spec          3.39_02 
    JSON                2.53    
    JSON::PP            2.27200 
    Module::Build       0.4003  
    Module::Signature   0.70    
    Parse::CPAN::Meta   1.4404  
    Test::Harness       3.23    
    Test::More          0.98    
    YAML                0.84    
    YAML::Syck          1.22    
    version             0.99    


--

Summary of my perl5 (revision 5 version 16 subversion 2) configuration:
   
  Platform:
    osname=linux, osvers=2.6.32-5-686, archname=i686-linux-thread-multi
    uname='linux deb1 2.6.32-5-686 #1 smp sun sep 23 09:49:36 utc 2012 i686 gnulinux '
    config_args='-de -Dprefix=/home/c/perl5/perlbrew/perls/5.16.2i -Dusethreads -Aeval:scriptdir=/home/c/perl5/perlbrew/perls/5.16.2i/bin'
    hint=recommended, useposix=true, d_sigaction=define
    useithreads=define, usemultiplicity=define
    useperlio=define, d_sfio=undef, uselargefiles=define, usesocks=undef
    use64bitint=undef, use64bitall=undef, uselongdouble=undef
    usemymalloc=n, bincompat5005=undef
  Compiler:
    cc='cc', ccflags ='-D_REENTRANT -D_GNU_SOURCE -fno-strict-aliasing -pipe -fstack-protector -I/usr/local/include -D_LARGEFILE_SOURCE -D_FILE_OFFSET_BITS=64',
    optimize='-O2',
    cppflags='-D_REENTRANT -D_GNU_SOURCE -fno-strict-aliasing -pipe -fstack-protector -I/usr/local/include'
    ccversion='', gccversion='4.4.5', gccosandvers=''
    intsize=4, longsize=4, ptrsize=4, doublesize=8, byteorder=1234
    d_longlong=define, longlongsize=8, d_longdbl=define, longdblsize=12
    ivtype='long', ivsize=4, nvtype='double', nvsize=8, Off_t='off_t', lseeksize=8
    alignbytes=4, prototype=define
  Linker and Libraries:
    ld='cc', ldflags =' -fstack-protector -L/usr/local/lib'
    libpth=/usr/local/lib /lib/../lib /usr/lib/../lib /lib /usr/lib /usr/lib/i486-linux-gnu /usr/lib64
    libs=-lnsl -lgdbm -ldb -ldl -lm -lcrypt -lutil -lpthread -lc -lgdbm_compat
    perllibs=-lnsl -ldl -lm -lcrypt -lutil -lpthread -lc
    libc=/lib/libc-2.11.3.so, so=so, useshrplib=false, libperl=libperl.a
    gnulibc_version='2.11.3'
  Dynamic Linking:
    dlsrc=dl_dlopen.xs, dlext=so, d_dlsymun=undef, ccdlflags='-Wl,-E'
    cccdlflags='-fPIC', lddlflags='-shared -O2 -L/usr/local/lib -fstack-protector'


Characteristics of this binary (from libperl): 
  Compile-time options: HAS_TIMES MULTIPLICITY PERLIO_LAYERS
                        PERL_DONT_CREATE_GVSV PERL_IMPLICIT_CONTEXT
                        PERL_MALLOC_WRAP PERL_PRESERVE_IVUV USE_ITHREADS
                        USE_LARGE_FILES USE_LOCALE USE_LOCALE_COLLATE
                        USE_LOCALE_CTYPE USE_LOCALE_NUMERIC USE_PERLIO
                        USE_PERL_ATOF USE_REENTRANT_API
  Built under linux
  Compiled at Jan 26 2013 16:12:36
  %ENV:
    PERL5LIB=""
    PERL5OPT=""
    PERL5_CPANPLUS_IS_RUNNING="17509"
    PERL5_CPAN_IS_RUNNING="17509"
    PERLBREW_MANPATH="/home/c/perl5/perlbrew/perls/5.16.2i/man"
    PERLBREW_PATH="/home/c/perl5/perlbrew/bin:/home/c/perl5/perlbrew/perls/5.16.2i/bin"
    PERLBREW_PERL="5.16.2i"
    PERLBREW_ROOT="/home/c/perl5/perlbrew"
    PERLBREW_SKIP_INIT="1"
    PERLBREW_VERSION="0.58"
  @INC:
    /home/c/perl5/perlbrew/perls/5.16.2i/lib/site_perl/5.16.2/i686-linux-thread-multi
    /home/c/perl5/perlbrew/perls/5.16.2i/lib/site_perl/5.16.2
    /home/c/perl5/perlbrew/perls/5.16.2i/lib/5.16.2/i686-linux-thread-multi
    /home/c/perl5/perlbrew/perls/5.16.2i/lib/5.16.2
    .