Algorithm-Voting v0.01 Perl 5 v5.12.2 i686-linux-thread-multi
- Status
- Pass
- From
- Graham Crookham (GRAHAMC)
- Dist
-
Algorithm-Voting v0.01
- Platform
- Perl 5 v5.12.2 i686-linux-thread-multi
- Date
- 2010-11-11 19:50:58
- ID
- 00d1558c-edcd-11df-9c71-22ae7f55ab53
This distribution has been tested as part of the CPAN Testers
project, supporting the Perl programming language. See
http://wiki.cpantesters.org/ for more information or email
questions to cpan-testers-discuss@perl.org
--
Dear John J. Trammell,
This is a computer-generated report for Algorithm-Voting-0.01
on perl 5.12.2, created by CPAN-Reporter-1.1805.
Thank you for uploading your work to CPAN. Congratulations!
All tests were successful.
Sections of this report:
* Tester comments
* Program output
* Prerequisites
* Environment and other context
------------------------------
TESTER COMMENTS
------------------------------
Additional comments from tester:
this report is from an automated smoke testing program
and was not reviewed by a human for accuracy
------------------------------
PROGRAM OUTPUT
------------------------------
Output from './Build test':
# Testing Algorithm::Voting 0.01, Perl 5.012002, /home/graham/perltest/perl5122/perl/bin/perl
t/00-load.t .................. ok
t/01-ballot.t ................ ok
t/99-perlcritic.t ............ skipped: Author test. Set $ENV{TEST_AUTHOR} to a true value to run.
t/99-pod-coverage.t .......... skipped: Author test. Set $ENV{TEST_AUTHOR} to a true value to run.
t/99-pod.t ................... skipped: Author test. Set $ENV{TEST_AUTHOR} to a true value to run.
t/plurality/01-simple.t ...... ok
t/plurality/02-restricted.t .. ok
t/sortition/01-key.t ......... ok
t/sortition/02-n.t ........... ok
t/sortition/03-as-string.t ... ok
got invalid hex from digest(0): 'zzzz' at /home/graham/perltest/perl5122/cpan/build/Algorithm-Voting-0.01-npA4mD/blib/lib/Algorithm/Voting/Sortition.pm line 239.
...caught at t/sortition/04-seq.t line 31.
t/sortition/04-seq.t ......... ok
t/sortition/10-rfc3797.t ..... ok
All tests successful.
Files=12, Tests=91, 3 wallclock secs ( 0.14 usr 0.06 sys + 2.93 cusr 0.35 csys = 3.48 CPU)
Result: PASS
------------------------------
PREREQUISITES
------------------------------
Prerequisite modules loaded:
requires:
Module Need Have
--------------------- ---- -------
Carp 0 1.17
Class::Accessor::Fast 0 0.34
Data::Dumper 0 2.128
Digest::MD5 0 2.51
List::Util 0 1.23_03
Math::BigInt 0 1.98
Params::Validate 0 0.95
Scalar::Util 0 1.23_03
build_requires:
Module Need Have
--------------------- ---- -------
base 0 2.15
File::Spec 0 3.33
Module::Build::Compat 0 0.36_17
strict 0 1.04
Test::Exception 0 0.31
Test::More 0 2.00_01
warnings 0 1.09
------------------------------
ENVIRONMENT AND OTHER CONTEXT
------------------------------
Environment variables:
AUTOMATED_TESTING = 1
LANG = C
PATH = /home/graham/perltest/perl5122/perl/bin:/bin:/usr/bin:/sbin:/usr/sbin:/opt/java/bin:/opt/java/jre/bin:/opt/kde/bin:/usr/bin/perlbin/site:/usr/bin/perlbin/vendor:/usr/bin/perlbin/core:/opt/qt/bin
PERL5LIB =
PERL5OPT =
PERL5_CPANPLUS_IS_RUNNING = 16499
PERL5_CPAN_IS_RUNNING = 16499
PERL5_CPAN_IS_RUNNING_IN_RECURSION = 3571,16499
PERL_CR_SMOKER_CURRENT = Algorithm-Voting-0.01
PERL_EXTUTILS_AUTOINSTALL = --defaultdeps
PERL_MM_USE_DEFAULT = 1
SHELL = /bin/bash
TERM = xterm
Perl special variables (and OS-specific diagnostics, for MSWin32):
$^X = /home/graham/perltest/perl5122/perl/bin/perl
$UID/$EUID = 1000 / 1000
$GID = 1000 7 10 91 92 93 95 98 100 108 1000 1001
$EGID = 1000 7 10 91 92 93 95 98 100 108 1000 1001
Perl module toolchain versions installed:
Module Have
------------------- -------
CPAN 1.9304
Cwd 3.33
ExtUtils::CBuilder 0.27_07
ExtUtils::Command 1.16
ExtUtils::Install 1.52
ExtUtils::MakeMaker 6.56
ExtUtils::Manifest 1.58
ExtUtils::ParseXS 2.2206
File::Spec 3.33
Module::Build 0.36_17
Module::Signature 0.66
Test::Harness 3.22
Test::More 2.00_01
YAML 0.72
YAML::Syck 1.15
version 0.85
--
Summary of my perl5 (revision 5 version 12 subversion 2) configuration:
Platform:
osname=linux, osvers=2.6.33-arch, archname=i686-linux-thread-multi
uname='linux lorant 2.6.33-arch #1 smp preempt thu may 13 12:06:25 cest 2010 i686 intel(r) pentium(r) 4 cpu 2.80ghz genuineintel gnulinux '
config_args=''
hint=recommended, useposix=true, d_sigaction=define
useithreads=define, usemultiplicity=define
useperlio=define, d_sfio=undef, uselargefiles=define, usesocks=undef
use64bitint=undef, use64bitall=undef, uselongdouble=undef
usemymalloc=n, bincompat5005=undef
Compiler:
cc='cc', ccflags ='-D_REENTRANT -D_GNU_SOURCE -fno-strict-aliasing -pipe -fstack-protector -I/usr/local/include -D_LARGEFILE_SOURCE -D_FILE_OFFSET_BITS=64',
optimize='-O2',
cppflags='-D_REENTRANT -D_GNU_SOURCE -fno-strict-aliasing -pipe -fstack-protector -I/usr/local/include'
ccversion='', gccversion='4.5.0 20100520 (prerelease)', gccosandvers=''
intsize=4, longsize=4, ptrsize=4, doublesize=8, byteorder=1234
d_longlong=define, longlongsize=8, d_longdbl=define, longdblsize=12
ivtype='long', ivsize=4, nvtype='double', nvsize=8, Off_t='off_t', lseeksize=8
alignbytes=4, prototype=define
Linker and Libraries:
ld='cc', ldflags =' -fstack-protector -L/usr/local/lib'
libpth=/usr/local/lib /lib /usr/lib
libs=-lnsl -lgdbm -ldb -ldl -lm -lcrypt -lutil -lpthread -lc -lgdbm_compat
perllibs=-lnsl -ldl -lm -lcrypt -lutil -lpthread -lc
libc=/lib/libc-2.12.so, so=so, useshrplib=true, libperl=libperl.so
gnulibc_version='2.12'
Dynamic Linking:
dlsrc=dl_dlopen.xs, dlext=so, d_dlsymun=undef, ccdlflags='-Wl,-E -Wl,-rpath,/home/graham/perltest/perl5122/perl/lib/5.12.2/i686-linux-thread-multi/CORE'
cccdlflags='-fPIC', lddlflags='-shared -O2 -L/usr/local/lib -fstack-protector'
Characteristics of this binary (from libperl):
Compile-time options: MULTIPLICITY PERL_DONT_CREATE_GVSV
PERL_IMPLICIT_CONTEXT PERL_MALLOC_WRAP USE_ITHREADS
USE_LARGE_FILES USE_PERLIO USE_PERL_ATOF
USE_REENTRANT_API
Built under linux
Compiled at Oct 18 2010 11:28:26
%ENV:
PERL5LIB=""
PERL5OPT=""
PERL5_CPANPLUS_IS_RUNNING="16499"
PERL5_CPAN_IS_RUNNING="16499"
PERL5_CPAN_IS_RUNNING_IN_RECURSION="3571,16499"
PERL_CR_SMOKER_CURRENT="Algorithm-Voting-0.01"
PERL_EXTUTILS_AUTOINSTALL="--defaultdeps"
PERL_MM_USE_DEFAULT="1"
@INC:
/home/graham/perltest/perl5122/perl/lib/site_perl/5.12.2/i686-linux-thread-multi
/home/graham/perltest/perl5122/perl/lib/site_perl/5.12.2
/home/graham/perltest/perl5122/perl/lib/5.12.2/i686-linux-thread-multi
/home/graham/perltest/perl5122/perl/lib/5.12.2
.