XML-Quick v0.07 Perl 5 v5.26.0 MSWin32-x64-multi-thread
- Status
- Pass
- From
- David Solimano
- Dist
-
XML-Quick v0.07
- Platform
- Perl 5 v5.26.0 MSWin32-x64-multi-thread
- Date
- 2017-06-26 23:29:22
- ID
- 00d6bb25-7656-1014-b7e0-64e85f496936
This distribution has been tested as part of the CPAN Testers
project, supporting the Perl programming language. See
http://wiki.cpantesters.org/ for more information or email
questions to cpan-testers-discuss@perl.org
--
Dear Rob N,
This is a computer-generated report for XML-Quick-0.07
on perl 5.26.0, created by CPAN-Reporter-1.2018.
Thank you for uploading your work to CPAN. Congratulations!
All tests were successful.
Sections of this report:
* Tester comments
* Program output
* Prerequisites
* Environment and other context
------------------------------
TESTER COMMENTS
------------------------------
Additional comments from tester:
this report is from an automated smoke testing program
and was not reviewed by a human for accuracy
------------------------------
PROGRAM OUTPUT
------------------------------
Output from 'C:\STRAWB~1\c\bin\gmake.exe test':
"C:\Strawberry\perl\bin\perl.exe" "-MExtUtils::Command::MM" "-MTest::Harness" "-e" "undef *Test::Harness::Switches; test_harness(0, 'blib\lib', 'blib\arch')" t/*.t
# Testing XML::Quick 0.07, Perl 5.026000, C:\Strawberry\perl\bin\perl.exe
t/00-load.t ............ ok
t/05-escape.t .......... ok
t/07-numeric-escape.t .. ok
t/09-attr-escape.t ..... ok
t/10-xml.t ............. ok
t/20-keep-object.t ..... ok
t/pod-coverage.t ....... skipped: Test::Pod::Coverage 1.04 required for testing POD coverage
t/pod.t ................ ok
All tests successful.
Files=8, Tests=30, 3 wallclock secs ( 0.08 usr + 0.06 sys = 0.14 CPU)
Result: PASS
------------------------------
PREREQUISITES
------------------------------
Prerequisite modules loaded:
requires:
Module Need Have
------------------- --------- --------
base 0 2.25
Exporter 0 5.72
perl 5.008_001 5.026000
Scalar::Util 0 1.47
strict 0 1.11
warnings 0 1.37
build_requires:
Module Need Have
------------------- --------- --------
Data::Dumper 0 2.167
ExtUtils::MakeMaker 0 7.28
Test::More 0 1.302085
Test::XML 0 0.08
configure_requires:
Module Need Have
------------------- --------- --------
ExtUtils::MakeMaker 0 7.28
------------------------------
ENVIRONMENT AND OTHER CONTEXT
------------------------------
Environment variables:
AUTOMATED_TESTING = 1
COMSPEC = C:\Windows\system32\cmd.exe
INCLUDE = C:\Program Files\IBM\WebSphere MQ\tools\c\include;C:\Program Files\IBM\WebSphere MQ\tools\cplus\include
LIB = C:\Program Files\IBM\WebSphere MQ\tools\lib64;C:\Program Files\IBM\WebSphere MQ\tools\lib
NUMBER_OF_PROCESSORS = 2
PATH = C:\ProgramData\Oracle\Java\javapath;C:\Program Files\IBM\WebSphere MQ\java\lib;C:\Program Files\IBM\WebSphere MQ\java\lib64;C:\Windows\system32;C:\Windows;C:\Windows\System32\Wbem;C:\Windows\System32\WindowsPowerShell\v1.0\;C:\Program Files\IBM\WebSphere MQ\bin64;C:\Program Files\IBM\WebSphere MQ\bin;C:\Program Files\IBM\WebSphere MQ\tools\c\samples\bin;C:\RV\BIN;C:\Strawberry\c\bin;C:\Strawberry\perl\site\bin;C:\Strawberry\perl\bin
PERL5LIB = C:\STRAWB~1\cpan\build\XML-SAX-Writer-0.56-0/blib/arch;C:\STRAWB~1\cpan\build\XML-SAX-Writer-0.56-0/blib/lib;C:\STRAWB~1\cpan\build\XML-Filter-BufferText-1.01-0/blib/arch;C:\STRAWB~1\cpan\build\XML-Filter-BufferText-1.01-0/blib/lib;C:\STRAWB~1\cpan\build\XML-XPath-1.40-0/blib/arch;C:\STRAWB~1\cpan\build\XML-XPath-1.40-0/blib/lib;C:\STRAWB~1\cpan\build\Test-XML-0.08-0/blib/arch;C:\STRAWB~1\cpan\build\Test-XML-0.08-0/blib/lib;C:\STRAWB~1\cpan\build\XML-SemanticDiff-1.0005-0/blib/arch;C:\STRAWB~1\cpan\build\XML-SemanticDiff-1.0005-0/blib/lib;C:\STRAWB~1\cpan\build\Text-vFile-asData-0.08-0/blib/arch;C:\STRAWB~1\cpan\build\Text-vFile-asData-0.08-0/blib/lib
PERL5OPT =
PERL5_CPANPLUS_IS_RUNNING = 14292
PERL5_CPAN_IS_RUNNING = 14292
PERL5_CPAN_IS_RUNNING_IN_RECURSION = 4288,14292
PERL_CR_SMOKER_CURRENT = Text-vFile-toXML-0.05
PERL_EXTUTILS_AUTOINSTALL = --defaultdeps
PERL_MM_USE_DEFAULT = 1
PERL_USE_UNSAFE_INC = 1
PROCESSOR_IDENTIFIER = Intel64 Family 6 Model 37 Stepping 1, GenuineIntel
TEMP = C:\Users\SOLIMA~1\AppData\Local\Temp
Perl special variables (and OS-specific diagnostics, for MSWin32):
$^X = C:\Strawberry\perl\bin\perl.exe
$UID/$EUID = 0 / 0
$GID = 0
$EGID = 0
Win32::GetOSName = Win2012
Win32::GetOSVersion = , 6, 3, 9600, 2, 0, 0, 272, 3
Win32::FsType = NTFS
Win32::IsAdminUser = 1
Perl module toolchain versions installed:
Module Have
------------------- --------
CPAN 2.18
CPAN::Meta 2.150010
Cwd 3.67
ExtUtils::CBuilder 0.280225
ExtUtils::Command 7.28
ExtUtils::Install 2.14
ExtUtils::MakeMaker 7.28
ExtUtils::Manifest 1.70
ExtUtils::ParseXS 3.34
File::Spec 3.67
JSON 2.94
JSON::PP 2.94
Module::Build 0.4224
Module::Signature n/a
Parse::CPAN::Meta 2.150010
Test::Harness 3.39
Test::More 1.302085
YAML 1.23
YAML::Syck n/a
version 0.9918
--
Summary of my perl5 (revision 5 version 26 subversion 0) configuration:
Platform:
osname=MSWin32
osvers=6.3
archname=MSWin32-x64-multi-thread
uname='Win32 strawberry-perl 5.26.0.1 #1 Wed May 31 04:42:31 2017 x64'
config_args='undef'
hint=recommended
useposix=true
d_sigaction=undef
useithreads=define
usemultiplicity=define
use64bitint=define
use64bitall=undef
uselongdouble=undef
usemymalloc=n
default_inc_excludes_dot=define
bincompat5005=undef
Compiler:
cc='gcc'
ccflags =' -s -O2 -DWIN32 -DWIN64 -DCONSERVATIVE -D__USE_MINGW_ANSI_STDIO -DPERL_TEXTMODE_SCRIPTS -DPERL_IMPLICIT_CONTEXT -DPERL_IMPLICIT_SYS -DUSE_PERLIO -fwrapv -fno-strict-aliasing -mms-bitfields'
optimize='-s -O2'
cppflags='-DWIN32'
ccversion=''
gccversion='7.1.0'
gccosandvers=''
intsize=4
longsize=4
ptrsize=8
doublesize=8
byteorder=12345678
doublekind=3
d_longlong=define
longlongsize=8
d_longdbl=define
longdblsize=16
longdblkind=3
ivtype='long long'
ivsize=8
nvtype='double'
nvsize=8
Off_t='long long'
lseeksize=8
alignbytes=8
prototype=define
Linker and Libraries:
ld='g++'
ldflags ='-s -L"C:\STRAWB~1\perl\lib\CORE" -L"C:\STRAWB~1\c\lib"'
libpth=C:\STRAWB~1\c\lib C:\STRAWB~1\c\x86_64-w64-mingw32\lib C:\STRAWB~1\c\lib\gcc\x86_64-w64-mingw32\7.1.0
libs= -lmoldname -lkernel32 -luser32 -lgdi32 -lwinspool -lcomdlg32 -ladvapi32 -lshell32 -lole32 -loleaut32 -lnetapi32 -luuid -lws2_32 -lmpr -lwinmm -lversion -lodbc32 -lodbccp32 -lcomctl32
perllibs= -lmoldname -lkernel32 -luser32 -lgdi32 -lwinspool -lcomdlg32 -ladvapi32 -lshell32 -lole32 -loleaut32 -lnetapi32 -luuid -lws2_32 -lmpr -lwinmm -lversion -lodbc32 -lodbccp32 -lcomctl32
libc=
so=dll
useshrplib=true
libperl=libperl526.a
gnulibc_version=''
Dynamic Linking:
dlsrc=dl_win32.xs
dlext=xs.dll
d_dlsymun=undef
ccdlflags=' '
cccdlflags=' '
lddlflags='-mdll -s -L"C:\STRAWB~1\perl\lib\CORE" -L"C:\STRAWB~1\c\lib"'
Characteristics of this binary (from libperl):
Compile-time options:
HAS_TIMES
HAVE_INTERP_INTERN
MULTIPLICITY
PERLIO_LAYERS
PERL_COPY_ON_WRITE
PERL_DONT_CREATE_GVSV
PERL_IMPLICIT_CONTEXT
PERL_IMPLICIT_SYS
PERL_MALLOC_WRAP
PERL_OP_PARENT
PERL_PRESERVE_IVUV
USE_64_BIT_INT
USE_ITHREADS
USE_LARGE_FILES
USE_LOCALE
USE_LOCALE_COLLATE
USE_LOCALE_CTYPE
USE_LOCALE_NUMERIC
USE_LOCALE_TIME
USE_PERLIO
USE_PERL_ATOF
Built under MSWin32
Compiled at May 31 2017 04:57:43
%ENV:
PERL5LIB="C:\STRAWB~1\cpan\build\XML-SAX-Writer-0.56-0/blib/arch;C:\STRAWB~1\cpan\build\XML-SAX-Writer-0.56-0/blib/lib;C:\STRAWB~1\cpan\build\XML-Filter-BufferText-1.01-0/blib/arch;C:\STRAWB~1\cpan\build\XML-Filter-BufferText-1.01-0/blib/lib;C:\STRAWB~1\cpan\build\XML-XPath-1.40-0/blib/arch;C:\STRAWB~1\cpan\build\XML-XPath-1.40-0/blib/lib;C:\STRAWB~1\cpan\build\Test-XML-0.08-0/blib/arch;C:\STRAWB~1\cpan\build\Test-XML-0.08-0/blib/lib;C:\STRAWB~1\cpan\build\XML-SemanticDiff-1.0005-0/blib/arch;C:\STRAWB~1\cpan\build\XML-SemanticDiff-1.0005-0/blib/lib;C:\STRAWB~1\cpan\build\Text-vFile-asData-0.08-0/blib/arch;C:\STRAWB~1\cpan\build\Text-vFile-asData-0.08-0/blib/lib"
PERL5_CPANPLUS_IS_RUNNING="14292"
PERL5_CPAN_IS_RUNNING="14292"
PERL5_CPAN_IS_RUNNING_IN_RECURSION="4288,14292"
PERL_CR_SMOKER_CURRENT="Text-vFile-toXML-0.05"
PERL_EXTUTILS_AUTOINSTALL="--defaultdeps"
PERL_MM_USE_DEFAULT="1"
PERL_USE_UNSAFE_INC="1"
@INC:
C:\STRAWB~1\cpan\build\XML-SAX-Writer-0.56-0/blib/arch
C:\STRAWB~1\cpan\build\XML-SAX-Writer-0.56-0/blib/lib
C:\STRAWB~1\cpan\build\XML-Filter-BufferText-1.01-0/blib/arch
C:\STRAWB~1\cpan\build\XML-Filter-BufferText-1.01-0/blib/lib
C:\STRAWB~1\cpan\build\XML-XPath-1.40-0/blib/arch
C:\STRAWB~1\cpan\build\XML-XPath-1.40-0/blib/lib
C:\STRAWB~1\cpan\build\Test-XML-0.08-0/blib/arch
C:\STRAWB~1\cpan\build\Test-XML-0.08-0/blib/lib
C:\STRAWB~1\cpan\build\XML-SemanticDiff-1.0005-0/blib/arch
C:\STRAWB~1\cpan\build\XML-SemanticDiff-1.0005-0/blib/lib
C:\STRAWB~1\cpan\build\Text-vFile-asData-0.08-0/blib/arch
C:\STRAWB~1\cpan\build\Text-vFile-asData-0.08-0/blib/lib
C:/Strawberry/perl/site/lib
C:/Strawberry/perl/vendor/lib
C:/Strawberry/perl/lib
.