Alien-sqlite v1.06 Perl 5 v5.34.0 darwin-2level
- Status
- Pass
- From
- AJNN
- Dist
-
Alien-sqlite v1.06
- Platform
- Perl 5 v5.34.0 darwin-2level
- Date
- 2021-06-11 16:13:48
- ID
- 00da40d4-cad0-11eb-ad20-f8feb0cadc81
This distribution has been tested as part of the CPAN Testers
project, supporting the Perl programming language. See
http://wiki.cpantesters.org/ for more information or email
questions to cpan-testers-discuss@perl.org
--
Dear SLAFFAN,
This is a computer-generated report for Alien-sqlite-1.06
on perl 5.34.0, created by App::cpanminus::reporter 0.17 (1.7044).
Thank you for uploading your work to CPAN. Congratulations!
All tests were successful.
Sections of this report:
* Tester comments
* Program output
* Prerequisites
* Environment and other context
------------------------------
TESTER COMMENTS
------------------------------
Additional comments from tester:
none provided
------------------------------
PROGRAM OUTPUT
------------------------------
Output from '':
Building and testing Alien-sqlite-1.06
cp lib/Alien/sqlite.pm blib/lib/Alien/sqlite.pm
"/Users/aj/.perl5/perlbrew/perls/perl-5.34.0/bin/perl" -MAlien::Build::MM=cmd -e prefix site /Users/aj/.perl5/perlbrew/perls/perl-5.34.0/lib/5.34.0/darwin-2level /Users/aj/.perl5/perlbrew/perls/perl-5.34.0/lib/site_perl/5.34.0/darwin-2level
Alien::Build::Plugin::PkgConfig::Negotiate> Using PkgConfig plugin: PkgConfig::CommandLine
Downloaded version is not yet defined
main> prefix /Users/aj/.perl5/perlbrew/perls/perl-5.34.0/lib/site_perl/5.34.0/darwin-2level/auto/share/dist/Alien-sqlite
"/Users/aj/.perl5/perlbrew/perls/perl-5.34.0/bin/perl" -MAlien::Build::MM=cmd -e version 1.06
Alien::Build::Plugin::PkgConfig::Negotiate> Using PkgConfig plugin: PkgConfig::CommandLine
Downloaded version is not yet defined
"/Users/aj/.perl5/perlbrew/perls/perl-5.34.0/bin/perl" -MAlien::Build::MM=cmd -e download
Alien::Build::Plugin::PkgConfig::Negotiate> Using PkgConfig plugin: PkgConfig::CommandLine
Downloaded version is not yet defined
"/Users/aj/.perl5/perlbrew/perls/perl-5.34.0/bin/perl" -MAlien::Build::MM=cmd -e build
Alien::Build::Plugin::PkgConfig::Negotiate> Using PkgConfig plugin: PkgConfig::CommandLine
Downloaded version is not yet defined
Alien::Build::CommandSequence> + pkg-config --exists sqlite3
Alien::Build::CommandSequence> + pkg-config --cflags sqlite3
Alien::Build::CommandSequence> [output consumed by Alien::Build recipe]
Alien::Build::CommandSequence> + pkg-config --libs sqlite3
Alien::Build::CommandSequence> [output consumed by Alien::Build recipe]
Alien::Build::CommandSequence> + pkg-config --modversion sqlite3
Alien::Build::CommandSequence> [output consumed by Alien::Build recipe]
Alien::Build::CommandSequence> + pkg-config --static --cflags sqlite3
Alien::Build::CommandSequence> [output consumed by Alien::Build recipe]
Alien::Build::CommandSequence> + pkg-config --static --libs sqlite3
Alien::Build::CommandSequence> [output consumed by Alien::Build recipe]
Alien::Build::Plugin::Core::Legacy> adding legacy hash to config
Alien::Build::Plugin::Core::Gather> mkdir -p /Users/aj/.cpanm/work/1623426933.35436/Alien-sqlite-1.06/blib/lib/auto/share/dist/Alien-sqlite/_alien
Manifying 1 pod document
"/Users/aj/.perl5/perlbrew/perls/perl-5.34.0/bin/perl" -MAlien::Build::MM=cmd -e test
Alien::Build::Plugin::PkgConfig::Negotiate> Using PkgConfig plugin: PkgConfig::CommandLine
Downloaded version is 3.28.0
PERL_DL_NONLAZY=1 "/Users/aj/.perl5/perlbrew/perls/perl-5.34.0/bin/perl" "-MExtUtils::Command::MM" "-MTest::Harness" "-e" "undef *Test::Harness::Switches; test_harness(0, 'blib/lib', 'blib/arch')" t/*.t
# Testing Alien::sqlite 1.06, Perl 5.034000, /Users/aj/.perl5/perlbrew/perls/perl-5.34.0/bin/perl
t/00-load.t .... ok
# NAME=sqlite3
# VERSION=3.28.0
# CFLAGS:
t/01-config.t .. ok
# libs: -lsqlite3
# cflags:
# Dynamic libs: /usr/lib/libsqlite3.dylib
# bin dir:
no proj bin dir found via bin_dir method
t/02-use.t ..... ok
# bin dir:
# sqlite3 exited with value 0
# sqlite3 -version: 3.28.0 2019-04-15 14:49:49 378230ae7f4b721c8b8d83c8ceb891449685cd23b1702a57841f1be40b5daapl
t/03-run.t ..... ok
All tests successful.
Test Summary Report
-------------------
t/02-use.t (Wstat: 0 Tests: 3 Failed: 0)
TODO passed: 3
Files=4, Tests=9, 0 wallclock secs ( 0.02 usr 0.01 sys + 0.44 cusr 0.09 csys = 0.56 CPU)
Result: PASS
------------------------------
PREREQUISITES
------------------------------
Prerequisite modules loaded:
No requirements found
------------------------------
ENVIRONMENT AND OTHER CONTEXT
------------------------------
Environment variables:
LC_CTYPE = UTF-8
PATH = /Users/aj/.perl5/perlbrew/bin:/Users/aj/.perl5/perlbrew/perls/perl-5.34.0/bin:/usr/local/bin:/usr/bin:/bin:/usr/sbin:/sbin
PERLBREW_HOME = /Users/aj/.perlbrew
PERLBREW_MANPATH = /Users/aj/.perl5/perlbrew/perls/perl-5.34.0/man
PERLBREW_PATH = /Users/aj/.perl5/perlbrew/bin:/Users/aj/.perl5/perlbrew/perls/perl-5.34.0/bin
PERLBREW_PERL = perl-5.34.0
PERLBREW_ROOT = /Users/aj/.perl5/perlbrew
PERLBREW_SHELLRC_VERSION = 0.92
PERLBREW_VERSION = 0.92
SHELL = /bin/zsh
TERM = xterm-256color
TMPDIR = /var/folders/br/tpjmg6md1w7_9qlxgq4w07h40000gn/T/
Perl special variables (and OS-specific diagnostics, for MSWin32):
EGID = 20 20 12 61 79 80 81 98 702 33 100 204 250 395 398 399 400
EUID = 501
EXECUTABLE_NAME = /Users/aj/.perl5/perlbrew/perls/perl-5.34.0/bin/perl
GID = 20 20 12 61 79 80 81 98 702 33 100 204 250 395 398 399 400
UID = 501
Perl module toolchain versions installed:
Module Have
------------------- --------
CPAN 2.28
CPAN::Meta 2.150010
Cwd 3.80
ExtUtils::CBuilder 0.280236
ExtUtils::Command 7.62
ExtUtils::Install 2.20
ExtUtils::MakeMaker 7.62
ExtUtils::Manifest 1.73
ExtUtils::ParseXS 3.43
File::Spec 3.80
JSON 4.03
JSON::PP 4.06
Module::Build 0.4231
Module::Signature n/a
Parse::CPAN::Meta 2.150010
Test::Harness 3.43
Test::More 1.302185
YAML n/a
YAML::Syck n/a
version 0.9929
--
Summary of my perl5 (revision 5 version 34 subversion 0) configuration:
Platform:
osname=darwin
osvers=19.6.0
archname=darwin-2level
uname='darwin solway.local 19.6.0 darwin kernel version 19.6.0: mon apr 12 20:57:45 pdt 2021; root:xnu-6153.141.28.1~1release_x86_64 x86_64 '
config_args='-de -Dprefix=/Users/aj/.perl5/perlbrew/perls/perl-5.34.0 -Aeval:scriptdir=/Users/aj/.perl5/perlbrew/perls/perl-5.34.0/bin'
hint=recommended
useposix=true
d_sigaction=define
useithreads=undef
usemultiplicity=undef
use64bitint=define
use64bitall=define
uselongdouble=undef
usemymalloc=n
default_inc_excludes_dot=define
Compiler:
cc='cc'
ccflags ='-fno-common -DPERL_DARWIN -mmacosx-version-min=10.15 -fno-strict-aliasing -pipe -fstack-protector-strong -I/usr/local/include -DPERL_USE_SAFE_PUTENV'
optimize='-O3'
cppflags='-fno-common -DPERL_DARWIN -mmacosx-version-min=10.15 -fno-strict-aliasing -pipe -fstack-protector-strong -I/usr/local/include'
ccversion=''
gccversion='Apple LLVM 12.0.0 (clang-1200.0.32.27)'
gccosandvers=''
intsize=4
longsize=8
ptrsize=8
doublesize=8
byteorder=12345678
doublekind=3
d_longlong=define
longlongsize=8
d_longdbl=define
longdblsize=16
longdblkind=3
ivtype='long'
ivsize=8
nvtype='double'
nvsize=8
Off_t='off_t'
lseeksize=8
alignbytes=8
prototype=define
Linker and Libraries:
ld='cc'
ldflags =' -mmacosx-version-min=10.15 -fstack-protector-strong -L/usr/local/lib'
libpth=/usr/local/lib /Library/Developer/CommandLineTools/usr/lib/clang/12.0.0/lib /Library/Developer/CommandLineTools/SDKs/MacOSX10.15.sdk/usr/lib /Library/Developer/CommandLineTools/usr/lib /usr/lib
libs=-lpthread -lgdbm -ldbm -ldl -lm -lutil -lc
perllibs=-lpthread -ldl -lm -lutil -lc
libc=
so=dylib
useshrplib=false
libperl=libperl.a
gnulibc_version=''
Dynamic Linking:
dlsrc=dl_dlopen.xs
dlext=bundle
d_dlsymun=undef
ccdlflags=' '
cccdlflags=' '
lddlflags=' -mmacosx-version-min=10.15 -bundle -undefined dynamic_lookup -L/usr/local/lib -fstack-protector-strong'
Characteristics of this binary (from libperl):
Compile-time options:
HAS_TIMES
PERLIO_LAYERS
PERL_COPY_ON_WRITE
PERL_DONT_CREATE_GVSV
PERL_MALLOC_WRAP
PERL_OP_PARENT
PERL_PRESERVE_IVUV
PERL_USE_SAFE_PUTENV
USE_64_BIT_ALL
USE_64_BIT_INT
USE_LARGE_FILES
USE_LOCALE
USE_LOCALE_COLLATE
USE_LOCALE_CTYPE
USE_LOCALE_NUMERIC
USE_LOCALE_TIME
USE_PERLIO
USE_PERL_ATOF
Built under darwin
Compiled at Jun 11 2021 16:01:39
%ENV:
PERLBREW_HOME="/Users/aj/.perlbrew"
PERLBREW_MANPATH="/Users/aj/.perl5/perlbrew/perls/perl-5.34.0/man"
PERLBREW_PATH="/Users/aj/.perl5/perlbrew/bin:/Users/aj/.perl5/perlbrew/perls/perl-5.34.0/bin"
PERLBREW_PERL="perl-5.34.0"
PERLBREW_ROOT="/Users/aj/.perl5/perlbrew"
PERLBREW_SHELLRC_VERSION="0.92"
PERLBREW_VERSION="0.92"
@INC:
/Users/aj/.perl5/perlbrew/perls/perl-5.34.0/lib/site_perl/5.34.0/darwin-2level
/Users/aj/.perl5/perlbrew/perls/perl-5.34.0/lib/site_perl/5.34.0
/Users/aj/.perl5/perlbrew/perls/perl-5.34.0/lib/5.34.0/darwin-2level
/Users/aj/.perl5/perlbrew/perls/perl-5.34.0/lib/5.34.0