Color-Calc v1.061 Perl 5 v5.13.5 x86_64-linux-thread-multi-ld

Status
Pass
From
brian greenfield
Dist
Color-Calc v1.061
Platform
Perl 5 v5.13.5 x86_64-linux-thread-multi-ld
Date
2010-09-24 18:46:12
ID
00dba21c-c80c-11df-8c33-431506264d1f
This distribution has been tested as part of the CPAN Testers
project, supporting the Perl programming language.  See
http://wiki.cpantesters.org/ for more information or email
questions to cpan-testers-discuss@perl.org


--
Dear Claus Faerber,

This is a computer-generated report for Color-Calc-1.061
on perl 5.13.5, created by CPAN-Reporter-1.1801.

Thank you for uploading your work to CPAN.  Congratulations!
All tests were successful.

Sections of this report:

    * Tester comments
    * Program output
    * Prerequisites
    * Environment and other context

------------------------------
TESTER COMMENTS
------------------------------

Additional comments from tester:

this report is from an automated smoke testing program
and was not reviewed by a human for accuracy

------------------------------
PROGRAM OUTPUT
------------------------------

Output from './Build test':

t/00basic.t ........................ ok
t/10pod.t .......................... skipped: Test::Pod 1.00 required for testing POD
t/11pod_cover.t .................... skipped: Test::Pod::Coverage required for testing POD coverage
t/DEPRECATED_import_MODEval.t ...... ok
t/DEPRECATED_import_suffix.t ....... ok
t/DEPRECATED_non-import_MODEval.t .. ok
t/DEPRECATED_non-import_suffix.t ... ok
t/import_MODEval.t ................. ok
t/import_WWW.t ..................... ok
t/import_hex.t ..................... ok
t/import_html.t .................... ok
t/import_object.t .................. ok
t/import_tuple.t ................... ok
t/input_import.t ................... ok
t/input_oo.t ....................... ok
t/object-orientated.t .............. ok
t/schemes_import_HTML.t ............ ok
t/schemes_import_X.t ............... ok
t/schemes_oo.t ..................... ok
All tests successful.
Files=19, Tests=405,  2 wallclock secs ( 0.09 usr  0.04 sys +  1.17 cusr  0.26 csys =  1.56 CPU)
Result: PASS

------------------------------
PREREQUISITES
------------------------------

Prerequisite modules loaded:

requires:

    Module                     Need Have   
    -------------------------- ---- -------
    Graphics::ColorNames       2.1  2.11   
    Graphics::ColorNames::HTML 0    2.11   
    Graphics::ColorNames::WWW  0.01 1.13   
    Params::Validate           0.75 0.95   

build_requires:

    Module                     Need Have   
    -------------------------- ---- -------
    Test::More                 0    0.97_01
    Test::NoWarnings           0    1.02   

configure_requires:

    Module                     Need Have   
    -------------------------- ---- -------
    Module::Build              0.36 0.3607 


------------------------------
ENVIRONMENT AND OTHER CONTEXT
------------------------------

Environment variables:

    AUTOMATED_TESTING = 1
    LANG = C
    LC_ALL = C
    PATH = /home/test/perl/bin:~/bin:/usr/bin:/bin
    PERL5LIB = /home/test/.cpan/build/Graphics-ColorNames-WWW-1.13-iF0BWQ/blib/arch:/home/test/.cpan/build/Graphics-ColorNames-WWW-1.13-iF0BWQ/blib/lib:/home/test/.cpan/build/Graphics-ColorNames-2.11-SIegru/blib/arch:/home/test/.cpan/build/Graphics-ColorNames-2.11-SIegru/blib/lib:/home/test/.cpan/build/Params-Validate-0.95-4UAVr0/blib/arch:/home/test/.cpan/build/Params-Validate-0.95-4UAVr0/blib/lib
    PERL5OPT = 
    PERL5_CPANPLUS_IS_RUNNING = 6482
    PERL5_CPAN_IS_RUNNING = 6482
    PERL5_CPAN_IS_RUNNING_IN_RECURSION = 15305,6482
    PERL_CR_SMOKER_CURRENT = Color-Calc-1.061
    PERL_EXTUTILS_AUTOINSTALL = --defaultdeps
    PERL_MM_USE_DEFAULT = 1
    SHELL = /bin/bash
    TERM = linux

Perl special variables (and OS-specific diagnostics, for MSWin32):

    $^X = /home/test/perl/bin/perl5.13.5
    $UID/$EUID = 1001 / 1001
    $GID = 1001 1001
    $EGID = 1001 1001

Perl module toolchain versions installed:

    Module              Have   
    ------------------- -------
    CPAN                1.94_57
    Cwd                 3.31   
    ExtUtils::CBuilder  0.2703 
    ExtUtils::Command   1.16   
    ExtUtils::Install   1.55   
    ExtUtils::MakeMaker 6.57_05
    ExtUtils::Manifest  1.58   
    ExtUtils::ParseXS   2.2207 
    File::Spec          3.31_01
    Module::Build       0.3607 
    Module::Signature   n/a    
    Test::Harness       3.22   
    Test::More          0.97_01
    YAML                n/a    
    YAML::Syck          1.14   
    version             0.82   


--

Summary of my perl5 (revision 5 version 13 subversion 5) configuration:
   
  Platform:
    osname=linux, osvers=2.6.26-2-amd64, archname=x86_64-linux-thread-multi-ld
    uname='linux zippy 2.6.26-2-amd64 #1 smp tue jan 12 22:12:20 utc 2010 x86_64 gnulinux '
    config_args='-des -Dusedevel -des -Duselongdouble -Duse64bitall -Dusethreads -Dprefix=~/perl'
    hint=recommended, useposix=true, d_sigaction=define
    useithreads=define, usemultiplicity=define
    useperlio=define, d_sfio=undef, uselargefiles=define, usesocks=undef
    use64bitint=define, use64bitall=define, uselongdouble=define
    usemymalloc=n, bincompat5005=undef
  Compiler:
    cc='cc', ccflags ='-D_REENTRANT -D_GNU_SOURCE -fno-strict-aliasing -pipe -fstack-protector -I/usr/local/include -D_LARGEFILE_SOURCE -D_FILE_OFFSET_BITS=64',
    optimize='-O2',
    cppflags='-D_REENTRANT -D_GNU_SOURCE -fno-strict-aliasing -pipe -fstack-protector -I/usr/local/include'
    ccversion='', gccversion='4.4.5 20100728 (prerelease)', gccosandvers=''
    intsize=4, longsize=8, ptrsize=8, doublesize=8, byteorder=12345678
    d_longlong=define, longlongsize=8, d_longdbl=define, longdblsize=16
    ivtype='long', ivsize=8, nvtype='long double', nvsize=16, Off_t='off_t', lseeksize=8
    alignbytes=16, prototype=define
  Linker and Libraries:
    ld='cc', ldflags =' -fstack-protector -L/usr/local/lib'
    libpth=/usr/local/lib /lib /usr/lib /lib64 /usr/lib64
    libs=-lnsl -ldb -ldl -lm -lcrypt -lutil -lpthread -lc
    perllibs=-lnsl -ldl -lm -lcrypt -lutil -lpthread -lc
    libc=/lib/libc-2.11.2.so, so=so, useshrplib=false, libperl=libperl.a
    gnulibc_version='2.11.2'
  Dynamic Linking:
    dlsrc=dl_dlopen.xs, dlext=so, d_dlsymun=undef, ccdlflags='-Wl,-E'
    cccdlflags='-fPIC', lddlflags='-shared -O2 -L/usr/local/lib -fstack-protector'


Characteristics of this binary (from libperl): 
  Compile-time options: MULTIPLICITY PERL_DONT_CREATE_GVSV
                        PERL_IMPLICIT_CONTEXT PERL_MALLOC_WRAP PERL_USE_DEVEL
                        USE_64_BIT_ALL USE_64_BIT_INT USE_ITHREADS
                        USE_LARGE_FILES USE_LONG_DOUBLE USE_PERLIO
                        USE_PERL_ATOF USE_REENTRANT_API
  Built under linux
  Compiled at Sep 19 2010 22:55:13
  %ENV:
    PERL5LIB="/home/test/.cpan/build/Graphics-ColorNames-WWW-1.13-iF0BWQ/blib/arch:/home/test/.cpan/build/Graphics-ColorNames-WWW-1.13-iF0BWQ/blib/lib:/home/test/.cpan/build/Graphics-ColorNames-2.11-SIegru/blib/arch:/home/test/.cpan/build/Graphics-ColorNames-2.11-SIegru/blib/lib:/home/test/.cpan/build/Params-Validate-0.95-4UAVr0/blib/arch:/home/test/.cpan/build/Params-Validate-0.95-4UAVr0/blib/lib"
    PERL5OPT=""
    PERL5_CPANPLUS_IS_RUNNING="6482"
    PERL5_CPAN_IS_RUNNING="6482"
    PERL5_CPAN_IS_RUNNING_IN_RECURSION="15305,6482"
    PERL_CR_SMOKER_CURRENT="Color-Calc-1.061"
    PERL_EXTUTILS_AUTOINSTALL="--defaultdeps"
    PERL_MM_USE_DEFAULT="1"
  @INC:
    /home/test/.cpan/build/Graphics-ColorNames-WWW-1.13-iF0BWQ/blib/arch
    /home/test/.cpan/build/Graphics-ColorNames-WWW-1.13-iF0BWQ/blib/lib
    /home/test/.cpan/build/Graphics-ColorNames-2.11-SIegru/blib/arch
    /home/test/.cpan/build/Graphics-ColorNames-2.11-SIegru/blib/lib
    /home/test/.cpan/build/Params-Validate-0.95-4UAVr0/blib/arch
    /home/test/.cpan/build/Params-Validate-0.95-4UAVr0/blib/lib
    /home/test/perl/lib/site_perl/5.13.5/x86_64-linux-thread-multi-ld
    /home/test/perl/lib/site_perl/5.13.5
    /home/test/perl/lib/5.13.5/x86_64-linux-thread-multi-ld
    /home/test/perl/lib/5.13.5
    /home/test/perl/lib/site_perl
    .