Plack-Middleware-SSI v0.14 Perl 5 v5.8.3 x86_64-linux-thread-multi-ld
- Status
- Pass
- From
- Andreas J. König (ANDK)
- Dist
-
Plack-Middleware-SSI v0.14
- Platform
- Perl 5 v5.8.3 x86_64-linux-thread-multi-ld
- Date
- 2016-03-15 09:26:31
- ID
- 00f05228-ea90-11e5-a9b8-e1bc864cb8f0
This distribution has been tested as part of the CPAN Testers
project, supporting the Perl programming language. See
http://wiki.cpantesters.org/ for more information or email
questions to cpan-testers-discuss@perl.org
--
Dear Kieren Diment,
This is a computer-generated report for Plack-Middleware-SSI-0.14
on perl 5.8.3, created by CPAN-Reporter-1.2015.
Thank you for uploading your work to CPAN. Congratulations!
All tests were successful.
Sections of this report:
* Tester comments
* Program output
* Prerequisites
* Environment and other context
------------------------------
TESTER COMMENTS
------------------------------
Additional comments from tester:
this report is from an automated smoke testing program
and was not reviewed by a human for accuracy
------------------------------
PROGRAM OUTPUT
------------------------------
Output from '/usr/bin/make test':
PERL_DL_NONLAZY=1 "/home/sand/src/perl/repoperls/installed-perls/perl/perl-5.8.3/109d/bin/perl" "-MExtUtils::Command::MM" "-MTest::Harness" "-e" "undef *Test::Harness::Switches; test_harness(0, 'inc', 'blib/lib', 'blib/arch')" t/00-load.t t/00-pod-coverage.t t/00-pod.t t/10-ssi.t
t/00-load.t .......... skipped: Test::Compile required
t/00-pod-coverage.t .. skipped: Test::Pod::Coverage required
t/00-pod.t ........... skipped: Test::Pod required
Useless use of a constant in void context at /home/sand/src/perl/repoperls/installed-perls/perl/perl-5.8.3/109d/lib/site_perl/5.8.3/Plack/App/URLMap.pm line 55.
Useless use of a constant in void context at /home/sand/src/perl/repoperls/installed-perls/perl/perl-5.8.3/109d/lib/site_perl/5.8.3/Plack/App/URLMap.pm line 61.
Useless use of a constant in void context at /home/sand/src/perl/repoperls/installed-perls/perl/perl-5.8.3/109d/lib/site_perl/5.8.3/Plack/App/URLMap.pm line 74.
t/10-ssi.t ........... ok
All tests successful.
Files=4, Tests=32, 1 wallclock secs ( 0.03 usr 0.02 sys + 0.23 cusr 0.06 csys = 0.34 CPU)
Result: PASS
------------------------------
PREREQUISITES
------------------------------
Prerequisite modules loaded:
requires:
Module Need Have
------------------- ----- --------
base 2.1 2.23
File::Basename 2.7 2.72
HTTP::Date 5.831 6.02
HTTP::Message 5.82 6.11
HTTP::Request 5.82 6.11
HTTP::Response 5.82 6.11
Plack 0.98 1.0039
! POSIX 1.1 1.07
Test::More 0.98 1.001014
build_requires:
Module Need Have
------------------- ----- --------
ExtUtils::MakeMaker 6.36 7.10
Test::More 0.98 1.001014
configure_requires:
Module Need Have
------------------- ----- --------
ExtUtils::MakeMaker 6.36 7.10
------------------------------
ENVIRONMENT AND OTHER CONTEXT
------------------------------
Environment variables:
AUTOMATED_TESTING = 1
LANG = en_US.UTF-8
LANGUAGE = en_US:en
PATH = /usr/lib/ccache:/home/sand/bin:/usr/local/bin:/usr/lib/ccache:/usr/bin:/bin:/usr/games:/usr/local/perl/bin:/usr/X11/bin:/sbin:/usr/sbin
PERL5LIB =
PERL5OPT =
PERL5_CPANPLUS_IS_RUNNING = 32310
PERL5_CPAN_IS_RUNNING = 32310
PERL_MM_USE_DEFAULT = 1
SHELL = /usr/bin/zsh
TERM = screen
Perl special variables (and OS-specific diagnostics, for MSWin32):
$^X = /home/sand/src/perl/repoperls/installed-perls/perl/perl-5.8.3/109d/bin/perl
$UID/$EUID = 1005 / 1005
$GID = 1005 1005
$EGID = 1005 1005
Perl module toolchain versions installed:
Module Have
------------------- --------
CPAN 2.12
CPAN::Meta 2.150005
Cwd 3.62
ExtUtils::CBuilder 0.280224
ExtUtils::Command 7.10
ExtUtils::Install 1.54
ExtUtils::MakeMaker 7.10
ExtUtils::Manifest 1.65
ExtUtils::ParseXS 3.30
File::Spec 3.62
JSON 2.90
JSON::PP 2.27300
Module::Build 0.4216
Module::Signature 0.79
Parse::CPAN::Meta 1.4417
Test::Harness 3.36
Test::More 1.001014
YAML 1.15
YAML::Syck 1.29
version 0.9914
--
Summary of my perl5 (revision 5.0 version 8 subversion 3) configuration:
Platform:
osname=linux, osvers=4.3.0-1-amd64, archname=x86_64-linux-thread-multi-ld
uname='linux k83 4.3.0-1-amd64 #1 smp debian 4.3.3-7 (2016-01-19) x86_64 gnulinux '
config_args='-Dprefix=/home/sand/src/perl/repoperls/installed-perls/perl/perl-5.8.3/109d -Dmyhostname=k83 -Dinstallusrbinperl=n -Uversiononly -Dusedevel -des -Ui_db -Dlibswanted=cl pthread socket inet nsl gdbm dbm malloc dl ld sun m crypt sec util c cposix posix ucb BSD gdbm_compat -Duseithreads -Duselongdouble -DDEBUGGING=-g'
hint=recommended, useposix=true, d_sigaction=define
usethreads=define use5005threads=undef useithreads=define usemultiplicity=define
useperlio=define d_sfio=undef uselargefiles=define usesocks=undef
use64bitint=define use64bitall=define uselongdouble=define
usemymalloc=n, bincompat5005=undef
Compiler:
cc='cc', ccflags ='-D_REENTRANT -D_GNU_SOURCE -fno-strict-aliasing -I/usr/local/include -D_LARGEFILE_SOURCE -D_FILE_OFFSET_BITS=64',
optimize='-O2',
cppflags='-D_REENTRANT -D_GNU_SOURCE -fno-strict-aliasing -I/usr/local/include'
ccversion='', gccversion='5.3.1 20160121', gccosandvers=''
intsize=4, longsize=8, ptrsize=8, doublesize=8, byteorder=12345678
d_longlong=define, longlongsize=8, d_longdbl=define, longdblsize=16
ivtype='long', ivsize=8, nvtype='long double', nvsize=16, Off_t='off_t', lseeksize=8
alignbytes=16, prototype=define
Linker and Libraries:
ld='cc', ldflags =' -L/usr/local/lib'
libpth=/usr/local/lib /lib/x86_64-linux-gnu /lib/../lib /usr/lib/x86_64-linux-gnu /usr/lib/../lib /lib /usr/lib
libs=-lpthread -lnsl -lgdbm -ldl -lm -lcrypt -lutil -lc -lgdbm_compat
perllibs=-lpthread -lnsl -ldl -lm -lcrypt -lutil -lc -lgdbm_compat
libc=libc-2.21.so, so=so, useshrplib=false, libperl=libperl.a
gnulibc_version='2.21'
Dynamic Linking:
dlsrc=dl_dlopen.xs, dlext=so, d_dlsymun=undef, ccdlflags='-rdynamic'
cccdlflags='-fpic', lddlflags='-shared -L/usr/local/lib'
Characteristics of this binary (from libperl):
Compile-time options: MULTIPLICITY USE_ITHREADS USE_64_BIT_INT USE_64_BIT_ALL USE_LONG_DOUBLE USE_LARGE_FILES PERL_IMPLICIT_CONTEXT
Locally applied patches:
Devel::PatchPerl 1.40
Built under linux
Compiled at Feb 27 2016 09:24:41
%ENV:
PERL5LIB=""
PERL5OPT=""
PERL5_CPANPLUS_IS_RUNNING="32310"
PERL5_CPAN_IS_RUNNING="32310"
PERL_MM_USE_DEFAULT="1"
@INC:
/home/sand/src/perl/repoperls/installed-perls/perl/perl-5.8.3/109d/lib/5.8.3/x86_64-linux-thread-multi-ld
/home/sand/src/perl/repoperls/installed-perls/perl/perl-5.8.3/109d/lib/5.8.3
/home/sand/src/perl/repoperls/installed-perls/perl/perl-5.8.3/109d/lib/site_perl/5.8.3/x86_64-linux-thread-multi-ld
/home/sand/src/perl/repoperls/installed-perls/perl/perl-5.8.3/109d/lib/site_perl/5.8.3
/home/sand/src/perl/repoperls/installed-perls/perl/perl-5.8.3/109d/lib/site_perl
.