Crypt-OpenSSL-PKCS10 v0.34 Perl 5 v5.20.2 amd64-freebsd

Status
Pass
From
David Cantrell (DCANTRELL)
Dist
Crypt-OpenSSL-PKCS10 v0.34
Platform
Perl 5 v5.20.2 amd64-freebsd
Date
2025-01-25 23:49:23
ID
00fe42fc-db77-11ef-9c7e-02642a10d54f
This distribution has been tested as part of the CPAN Testers
project, supporting the Perl programming language.  See
http://wiki.cpantesters.org/ for more information or email
questions to cpan-testers-discuss@perl.org


--
Dear Timothy Legge,

This is a computer-generated report for Crypt-OpenSSL-PKCS10-0.34
on perl 5.20.2, created by CPAN-Reporter-1.2018.

Thank you for uploading your work to CPAN.  Congratulations!
All tests were successful.

Sections of this report:

    * Tester comments
    * Program output
    * Prerequisites
    * Environment and other context

------------------------------
TESTER COMMENTS
------------------------------

Additional comments from tester:

this report is from an automated smoke testing program
and was not reviewed by a human for accuracy

------------------------------
PROGRAM OUTPUT
------------------------------

Output from '/usr/bin/make test':

"/usr/home/david/cpantesting/perl-5.20.2/bin/perl" -MExtUtils::Command::MM -e 'cp_nonempty' -- PKCS10.bs blib/arch/auto/Crypt/OpenSSL/PKCS10/PKCS10.bs 644
PERL_DL_NONLAZY=1 "/usr/home/david/cpantesting/perl-5.20.2/bin/perl" "-MExtUtils::Command::MM" "-MTest::Harness" "-e" "undef *Test::Harness::Switches; test_harness(0, 'blib/lib', 'blib/arch')" t/*.t
# OpenSSL 3.0.15 3 Sep 2024 (Library: OpenSSL 3.0.15 3 Sep 2024)
t/00-openssl-version.t .. ok
t/10-rsa-keys.t ......... ok
t/20-ec.t ............... ok
t/30-ec-keys.t .......... ok
t/author-pod-spell.t .... skipped: these tests are for testing by the author
t/author-pod-syntax.t ... skipped: these tests are for testing by the author
-----BEGIN CERTIFICATE REQUEST-----
MIIBPzCBqQIBADAAMIGfMA0GCSqGSIb3DQEBAQUAA4GNADCBiQKBgQDWpkvczuRD
TMSlCSvqOnE5FBCQBvOnfubX6OedOld5quYt5DTXSR1k04FsZTMGsQZlRqgA8Oqn
BuAa9snalIckkKgAkrNgasYRfC8+43R2tvOGNo2LBPdOx/Nun3dPEGpLaxdXyA/q
IYoK1ybU4fUdesjUtiG6S0QTzk3bHwXCNwIDAQABoAAwDQYJKoZIhvcNAQELBQAD
gYEACpDcS6DNWcMA9GyoVWc5QSZ4SQHBCwMoyl9apjiSbrpKhTWhip9HwKbfy66L
1ukbN9sky8paL+LIDe0Z/yep3uUO5AOJd0tmWqeFNsgiQ5u3MDgPI/qTpoXEiKSj
65M8jfuQuD0np2fANttHxEHcs+lMMjJ2dPXSj1OPcdwbC/0=
-----END CERTIFICATE REQUEST-----
-----BEGIN PRIVATE KEY-----
MIICdwIBADANBgkqhkiG9w0BAQEFAASCAmEwggJdAgEAAoGBANamS9zO5ENMxKUJ
K+o6cTkUEJAG86d+5tfo5506V3mq5i3kNNdJHWTTgWxlMwaxBmVGqADw6qcG4Br2
ydqUhySQqACSs2BqxhF8Lz7jdHa284Y2jYsE907H826fd08QaktrF1fID+ohigrX
JtTh9R16yNS2IbpLRBPOTdsfBcI3AgMBAAECgYEAijLpdxIRry73ENbV2mmkSj6b
509Cgt3WnL6MmRNeDKy2pGdgihe+ABOZKYQClVVWq9ARDQIP4lgv48xu6/djBj6E
aQOGGz7/uqBjDktjKo1YQiB4gcJIOKB5VKGUFsOQSkO9uVs99B0vllUXT3IIc9bV
HWUzIEk6nPPl2yK52pECQQD3AJMgsvBmM15afxo2ms0O91mZ8uPZXwT9bM06KSLc
g04QgGDlFmivXJcEw5rM4z7dTsOeWJJOL9bGJCvmSEcfAkEA3ngEJteVVGdYwwsw
CT+5LDMlJqBIJ7rzMQ22jucjvcUi7uABWLEtjkgy8UoTXDTxsDM4YBJdVYy3mIFx
xVUZ6QJAeRZPCjiuoWuNVc/5ictZu3yG8HGiQW3ThGlSMrD35iJ4op5M4gGaUF2T
q0I5IThGGTgDrhy9nJbXM0uIOdw1AQJAGkYaV2wGmt1Jwl9D4RPBjtLLhHBRlT+j
ERwJf38U3Yi2w3d5MTxboP4t5glVmAI4uRKTieUhWMUxubUv9ppCYQJBAKiL6vw1
g2GzY8dwCt1Iu8IY7ZYCb+iO+UWeiKOjqokNfrirLm2gD3rw91eg7cNzH8Zrsp6P
4tFYc3ra1MEJMhY=
-----END PRIVATE KEY-----


Public-Key: (1024 bit)
Modulus:
    00:d6:a6:4b:dc:ce:e4:43:4c:c4:a5:09:2b:ea:3a:
    71:39:14:10:90:06:f3:a7:7e:e6:d7:e8:e7:9d:3a:
    57:79:aa:e6:2d:e4:34:d7:49:1d:64:d3:81:6c:65:
    33:06:b1:06:65:46:a8:00:f0:ea:a7:06:e0:1a:f6:
    c9:da:94:87:24:90:a8:00:92:b3:60:6a:c6:11:7c:
    2f:3e:e3:74:76:b6:f3:86:36:8d:8b:04:f7:4e:c7:
    f3:6e:9f:77:4f:10:6a:4b:6b:17:57:c8:0f:ea:21:
    8a:0a:d7:26:d4:e1:f5:1d:7a:c8:d4:b6:21:ba:4b:
    44:13:ce:4d:db:1f:05:c2:37
Exponent: 65537 (0x10001)

-----BEGIN CERTIFICATE REQUEST-----
MIIBPzCBqQIBADAAMIGfMA0GCSqGSIb3DQEBAQUAA4GNADCBiQKBgQCaz4gObTfm
6oD+kumL3R0dG+ppWGWXOy57pbuMCQhx8xVRPM91Lb4Wiyd84duVx0rIefZZdmfR
r/jf/NaTYUAouI4h1I4qkVoPiU9ZjHfKCZUddxnvkEFrCUQYNR20alDl4rpfKBal
Noz3CBNdcCDqn5T+G3guv33CAHslZgZuLwIDAQABoAAwDQYJKoZIhvcNAQELBQAD
gYEAMSag1wYHnB4+vfqtJZKyUiHGRrzAhsyu2cfuCqS1oyLhmuIpkRsn3W55drav
V639XPV0/CSteZ5WYyoWYkIhbSmlsAZkmZhgwDXjH8XkkbWrdJjipSCoLVK+w0DK
pxrqeGESdbuinLFMkufGk3AgSp9HtPlILUTHLL8lVhZIR0Q=
-----END CERTIFICATE REQUEST-----

Public-Key: (1024 bit)
Modulus:
    00:9a:cf:88:0e:6d:37:e6:ea:80:fe:92:e9:8b:dd:
    1d:1d:1b:ea:69:58:65:97:3b:2e:7b:a5:bb:8c:09:
    08:71:f3:15:51:3c:cf:75:2d:be:16:8b:27:7c:e1:
    db:95:c7:4a:c8:79:f6:59:76:67:d1:af:f8:df:fc:
    d6:93:61:40:28:b8:8e:21:d4:8e:2a:91:5a:0f:89:
    4f:59:8c:77:ca:09:95:1d:77:19:ef:90:41:6b:09:
    44:18:35:1d:b4:6a:50:e5:e2:ba:5f:28:16:a5:36:
    8c:f7:08:13:5d:70:20:ea:9f:94:fe:1b:78:2e:bf:
    7d:c2:00:7b:25:66:06:6e:2f
Exponent: 65537 (0x10001)

rsa
-----BEGIN PUBLIC KEY-----
MIGfMA0GCSqGSIb3DQEBAQUAA4GNADCBiQKBgQCaz4gObTfm6oD+kumL3R0dG+pp
WGWXOy57pbuMCQhx8xVRPM91Lb4Wiyd84duVx0rIefZZdmfRr/jf/NaTYUAouI4h
1I4qkVoPiU9ZjHfKCZUddxnvkEFrCUQYNR20alDl4rpfKBalNoz3CBNdcCDqn5T+
G3guv33CAHslZgZuLwIDAQAB
-----END PUBLIC KEY-----

-----BEGIN CERTIFICATE REQUEST-----
MIIBPzCBqQIBADAAMIGfMA0GCSqGSIb3DQEBAQUAA4GNADCBiQKBgQCatGvuGiiK
Rzob+pre0SzmXuqjstRR3Qe0dBh8rdunE0DMlzI0MjIKo9K5XWCQDgGRZG7zP3M9
ZHpyPmxUuMmxh2JXPFxBgCFcoExhhSzGjshTPnZSiOHaYhhP8UywiU5vtLOIEAJO
WQDWA1kVb1sC3pnemewH2PY1/enER7tIoQIDAQABoAAwDQYJKoZIhvcNAQEMBQAD
gYEABdWUvQ3eZsVpLYsqGCXGEl+bmPAnxhkdPswcxwEOIyAYNMGbfmhpOTm/01Jx
YcIv4qYSUrCoareO/a5S0wzKth1pd1u0EOoBh/8NQELdmzvnVoXbb6PWZZNN/qQy
r9S3YGPA1tBvpXqZBtQuj+CGnSFeMJyi+32+REn6MCGqJvA=
-----END CERTIFICATE REQUEST-----

Public-Key: (1024 bit)
Modulus:
    00:9a:b4:6b:ee:1a:28:8a:47:3a:1b:fa:9a:de:d1:
    2c:e6:5e:ea:a3:b2:d4:51:dd:07:b4:74:18:7c:ad:
    db:a7:13:40:cc:97:32:34:32:32:0a:a3:d2:b9:5d:
    60:90:0e:01:91:64:6e:f3:3f:73:3d:64:7a:72:3e:
    6c:54:b8:c9:b1:87:62:57:3c:5c:41:80:21:5c:a0:
    4c:61:85:2c:c6:8e:c8:53:3e:76:52:88:e1:da:62:
    18:4f:f1:4c:b0:89:4e:6f:b4:b3:88:10:02:4e:59:
    00:d6:03:59:15:6f:5b:02:de:99:de:99:ec:07:d8:
    f6:35:fd:e9:c4:47:bb:48:a1
Exponent: 65537 (0x10001)

rsa
-----BEGIN PUBLIC KEY-----
MIGfMA0GCSqGSIb3DQEBAQUAA4GNADCBiQKBgQCatGvuGiiKRzob+pre0SzmXuqj
stRR3Qe0dBh8rdunE0DMlzI0MjIKo9K5XWCQDgGRZG7zP3M9ZHpyPmxUuMmxh2JX
PFxBgCFcoExhhSzGjshTPnZSiOHaYhhP8UywiU5vtLOIEAJOWQDWA1kVb1sC3pne
mewH2PY1/enER7tIoQIDAQAB
-----END PUBLIC KEY-----

-----BEGIN CERTIFICATE REQUEST-----
MIICJzCCAZACAQAwKTELMAkGA1UEBhMCUk8xDDAKBgNVBAoMA1VUSTEMMAoGA1UE
CwwDc3NpMIGfMA0GCSqGSIb3DQEBAQUAA4GNADCBiQKBgQDOuN5EoIEa5D6WXpgH
wTrF3VDzX7VbwmfUAWKo2NoLlNqqKvPWLRMKNKJ+QdGnr5sVaJYUsgszZsgvY9y0
oAScAzNqBx4Hlvc3zuZJqcPl0Cckw9AZV4oQl6Ktj+sNXA+3Nciw5CfDd6Ie39iz
LYN2Cw6w01YFAe8J9NyZ8rtUmQIDAQABoIG9MIG6BgkqhkiG9w0BCQ4xgawwgakw
DgYDVR0PAQH/BAQDAgWgMC4GA1UdJQQnMCUGCCsGAQUFBwMBBglghkgBhvhCBAEG
CisGAQQBgjcKAwMGAisEMBwGA1UdEQQVMBOBEXN0ZXZlQG9wZW5zc2wub3JnMB0G
A1UdDgQWBBQsiarIYGoJHplyOOwjnVXyJ4L+KDAZBgMqAwMEEhYQTXkgbmV3IGV4
dGVuc2lvbjAPBgMqAwQECB4GAGEAYgBjMA0GCSqGSIb3DQEBCwUAA4GBADxWD/3G
I18CDOJsYd8BYCYilTXKGjxhHWIMnCs2Caw+VKAO4pSZDVswbaK1JY07VnqPbE4a
CxTxHqE851z7XAEkGxx1+zgZeZJJoGc16mXtYZ0UAzIk6ZDGNnrohjaYnB0YCYju
sd86y/Kq8R143kkAjhrhClB68doEPRsjLxkS
-----END CERTIFICATE REQUEST-----
Public-Key: (1024 bit)
Modulus:
    00:ce:b8:de:44:a0:81:1a:e4:3e:96:5e:98:07:c1:
    3a:c5:dd:50:f3:5f:b5:5b:c2:67:d4:01:62:a8:d8:
    da:0b:94:da:aa:2a:f3:d6:2d:13:0a:34:a2:7e:41:
    d1:a7:af:9b:15:68:96:14:b2:0b:33:66:c8:2f:63:
    dc:b4:a0:04:9c:03:33:6a:07:1e:07:96:f7:37:ce:
    e6:49:a9:c3:e5:d0:27:24:c3:d0:19:57:8a:10:97:
    a2:ad:8f:eb:0d:5c:0f:b7:35:c8:b0:e4:27:c3:77:
    a2:1e:df:d8:b3:2d:83:76:0b:0e:b0:d3:56:05:01:
    ef:09:f4:dc:99:f2:bb:54:99
Exponent: 65537 (0x10001)

-----BEGIN PUBLIC KEY-----
MIGfMA0GCSqGSIb3DQEBAQUAA4GNADCBiQKBgQDOuN5EoIEa5D6WXpgHwTrF3VDz
X7VbwmfUAWKo2NoLlNqqKvPWLRMKNKJ+QdGnr5sVaJYUsgszZsgvY9y0oAScAzNq
Bx4Hlvc3zuZJqcPl0Cckw9AZV4oQl6Ktj+sNXA+3Nciw5CfDd6Ie39izLYN2Cw6w
01YFAe8J9NyZ8rtUmQIDAQAB
-----END PUBLIC KEY-----

t/Mytest.t .............. ok
t/release-kwalitee.t .... skipped: these tests are for release candidate testing
t/release-meta-json.t ... skipped: these tests are for release candidate testing
All tests successful.
Files=9, Tests=102, 73 wallclock secs ( 0.09 usr  0.02 sys + 16.55 cusr  0.48 csys = 17.12 CPU)
Result: PASS

------------------------------
PREREQUISITES
------------------------------

Prerequisite modules loaded:

requires:

    Module                Need  Have    
    --------------------- ----- --------
    Crypt::OpenSSL::RSA   0     0.33    
    Exporter              0     5.78    
    perl                  5.008 5.020002
    XSLoader              0     0.24    

build_requires:

    Module                Need  Have    
    --------------------- ----- --------
    Crypt::OpenSSL::Guess 0.11  0.15    
    Crypt::OpenSSL::RSA   0     0.33    
    File::Slurper         0     0.014   
    File::Spec::Functions 0     3.75    
    File::Temp            0     0.2311  
    Import::Into          0     1.002005
    Test::Lib             0     0.003   
    Test::More            0     1.302207

configure_requires:

    Module                Need  Have    
    --------------------- ----- --------
    Crypt::OpenSSL::Guess 0.11  0.15    
    ExtUtils::MakeMaker   0     7.70    


------------------------------
ENVIRONMENT AND OTHER CONTEXT
------------------------------

Environment variables:

    AUTOMATED_TESTING = 1
    LANG = en_GB.UTF-8
    NONINTERACTIVE_TESTING = 1
    PATH = /home/david/perl5/perlbrew/bin:/home/david/perl5/perlbrew/perls/perl-5.30.2/bin:/home/david/.cargo/bin:/sbin:/bin:/usr/sbin:/usr/bin:/usr/local/sbin:/usr/local/bin:/home/david/bin
    PERL = 5.20.2
    PERL5LIB = 
    PERL5OPT = 
    PERL5_CPANPLUS_IS_RUNNING = 40530
    PERL5_CPAN_IS_RUNNING = 40530
    PERLBREW_HOME = /home/david/.perlbrew
    PERLBREW_MANPATH = /home/david/perl5/perlbrew/perls/perl-5.30.2/man
    PERLBREW_PATH = /home/david/perl5/perlbrew/bin:/home/david/perl5/perlbrew/perls/perl-5.30.2/bin
    PERLBREW_PERL = perl-5.30.2
    PERLBREW_ROOT = /home/david/perl5/perlbrew
    PERLBREW_SHELLRC_VERSION = 0.89
    PERLBREW_VERSION = 0.89
    PERLVER = 5.20.2
    PERL_INLINE_DIRECTORY = /home/david/.Inline-5.20.2
    PERL_MM_USE_DEFAULT = 1
    PERL_USE_UNSAFE_INC = 0
    SHELL = /usr/local/bin/bash
    TERM = screen

Perl special variables (and OS-specific diagnostics, for MSWin32):

    $^X = /usr/home/david/cpantesting/perl-5.20.2/bin/perl
    $UID/$EUID = 1001 / 1001
    $GID = 1001 1001 0
    $EGID = 1001 1001 0

Perl module toolchain versions installed:

    Module              Have    
    ------------------- --------
    CPAN                2.05    
    CPAN::Meta          2.150010
    Cwd                 3.75    
    ExtUtils::CBuilder  0.280236
    ExtUtils::Command   7.70    
    ExtUtils::Install   2.22    
    ExtUtils::MakeMaker 7.70    
    ExtUtils::Manifest  1.75    
    ExtUtils::ParseXS   3.51    
    File::Spec          3.75    
    JSON                4.10    
    JSON::PP            4.16    
    Module::Build       0.4234  
    Module::Signature   n/a     
    Parse::CPAN::Meta   2.150010
    Test::Harness       3.50    
    Test::More          1.302207
    YAML                1.31    
    YAML::Syck          n/a     
    version             0.9933  


--

Summary of my perl5 (revision 5 version 20 subversion 2) configuration:
   
  Platform:
    osname=freebsd, osvers=13.0-release-p7, archname=amd64-freebsd
    uname='freebsd cpantesting-freebsd-utm.local 13.0-release-p7 freebsd 13.0-release-p7 #0: mon jan 31 18:24:03 utc 2022 root@amd64-builder.daemonology.net:usrobjusrsrcamd64.amd64sysgeneric amd64 '
    config_args='-de -Dprefix=/home/david/cpantesting/perl-5.20.2'
    hint=recommended, useposix=true, d_sigaction=define
    useithreads=undef, usemultiplicity=undef
    use64bitint=define, use64bitall=define, uselongdouble=undef
    usemymalloc=n, bincompat5005=undef
  Compiler:
    cc='cc', ccflags ='-DHAS_FPSETMASK -DHAS_FLOATINGPOINT_H -fno-strict-aliasing -pipe -fstack-protector -I/usr/local/include',
    optimize='-O2',
    cppflags='-DHAS_FPSETMASK -DHAS_FLOATINGPOINT_H -fno-strict-aliasing -pipe -fstack-protector -I/usr/local/include'
    ccversion='', gccversion='FreeBSD Clang 11.0.1 (git@github.com:llvm/llvm-project.git llvmorg-11.0.1-0-g43ff75f2c3fe)', gccosandvers=''
    intsize=4, longsize=8, ptrsize=8, doublesize=8, byteorder=12345678
    d_longlong=define, longlongsize=8, d_longdbl=define, longdblsize=16
    ivtype='long', ivsize=8, nvtype='double', nvsize=8, Off_t='off_t', lseeksize=8
    alignbytes=8, prototype=define
  Linker and Libraries:
    ld='cc', ldflags ='-Wl,-E  -fstack-protector -L/usr/local/lib'
    libpth=/usr/lib /usr/local/lib /usr/lib/clang/11.0.1/lib /usr/lib
    libs=-lgdbm -ldl -lm -lcrypt -lutil -lc
    perllibs=-ldl -lm -lcrypt -lutil -lc
    libc=, so=so, useshrplib=false, libperl=libperl.a
    gnulibc_version=''
  Dynamic Linking:
    dlsrc=dl_dlopen.xs, dlext=so, d_dlsymun=undef, ccdlflags=' '
    cccdlflags='-DPIC -fPIC', lddlflags='-shared  -L/usr/local/lib -fstack-protector'


Characteristics of this binary (from libperl): 
  Compile-time options: HAS_TIMES PERLIO_LAYERS PERL_DONT_CREATE_GVSV
                        PERL_HASH_FUNC_ONE_AT_A_TIME_HARD PERL_MALLOC_WRAP
                        PERL_NEW_COPY_ON_WRITE PERL_PRESERVE_IVUV
                        USE_64_BIT_ALL USE_64_BIT_INT USE_LARGE_FILES
                        USE_LOCALE USE_LOCALE_COLLATE USE_LOCALE_CTYPE
                        USE_LOCALE_NUMERIC USE_PERLIO USE_PERL_ATOF
  Locally applied patches:
	Devel::PatchPerl 2.08
  Built under freebsd
  Compiled at Feb  3 2022 13:12:54
  %ENV:
    PERL="5.20.2"
    PERL5LIB=""
    PERL5OPT=""
    PERL5_CPANPLUS_IS_RUNNING="40530"
    PERL5_CPAN_IS_RUNNING="40530"
    PERLBREW_HOME="/home/david/.perlbrew"
    PERLBREW_MANPATH="/home/david/perl5/perlbrew/perls/perl-5.30.2/man"
    PERLBREW_PATH="/home/david/perl5/perlbrew/bin:/home/david/perl5/perlbrew/perls/perl-5.30.2/bin"
    PERLBREW_PERL="perl-5.30.2"
    PERLBREW_ROOT="/home/david/perl5/perlbrew"
    PERLBREW_SHELLRC_VERSION="0.89"
    PERLBREW_VERSION="0.89"
    PERLVER="5.20.2"
    PERL_INLINE_DIRECTORY="/home/david/.Inline-5.20.2"
    PERL_MM_USE_DEFAULT="1"
    PERL_USE_UNSAFE_INC="0"
  @INC:
    /home/david/cpantesting/perl-5.20.2/lib/site_perl/5.20.2/amd64-freebsd
    /home/david/cpantesting/perl-5.20.2/lib/site_perl/5.20.2
    /home/david/cpantesting/perl-5.20.2/lib/5.20.2/amd64-freebsd
    /home/david/cpantesting/perl-5.20.2/lib/5.20.2
    .