Capture-Tiny-Extended v0.114 Perl 5 v5.43.3 amd64-midnightbsd-thread-multi

Status
Pass
From
Carlos Guevara
Dist
Capture-Tiny-Extended v0.114
Platform
Perl 5 v5.43.3 amd64-midnightbsd-thread-multi
Date
2025-09-11 12:36:56
ID
01019de6-8f0c-11f0-bbad-93c8918e44b5
This distribution has been tested as part of the CPAN Testers
project, supporting the Perl programming language.  See
http://wiki.cpantesters.org/ for more information or email
questions to cpan-testers-discuss@perl.org


--
Dear Christian Walde,

This is a computer-generated report for Capture-Tiny-Extended-0.114
on perl 5.43.3, created by CPAN-Reporter-1.2020.

Thank you for uploading your work to CPAN.  Congratulations!
All tests were successful.

Sections of this report:

    * Tester comments
    * Program output
    * Prerequisites
    * Environment and other context

------------------------------
TESTER COMMENTS
------------------------------

Additional comments from tester:

this report is from an automated smoke testing program
and was not reviewed by a human for accuracy

------------------------------
PROGRAM OUTPUT
------------------------------

Output from '/usr/bin/make test':

PERL_DL_NONLAZY=1 "/usr/home/cpan/bin/perl/bin/perl5.43.3" "-MExtUtils::Command::MM" "-MTest::Harness" "-e" "undef *Test::Harness::Switches; test_harness(0, 'blib/lib', 'blib/arch')" t/*.t
t/00-compile.t ............. ok
t/01-Capture-Tiny.t ........ ok
t/02-capture.t ............. ok
t/03-tee.t ................. ok
t/06-stdout-closed.t ....... ok
t/07-stderr-closed.t ....... ok
t/08-stdin-closed.t ........ ok
t/09-preserve-exit-code.t .. ok
t/10-stdout-string.t ....... ok
t/11-stderr-string.t ....... ok
t/12-stdin-string.t ........ ok
t/13-stdout-tied.t ......... ok
t/14-stderr-tied.t ......... ok
t/15-stdin-tied.t .......... ok
t/16-catch-errors.t ........ ok
All tests successful.

Test Summary Report
-------------------
t/13-stdout-tied.t       (Wstat: 0 Tests: 489 Failed: 0)
  TODO passed:   5-7, 15-16, 24-25, 32-34, 42-43, 51-52
                57, 66, 77, 79, 88, 96-97, 104, 106, 115
                123-124, 134-139, 154-156, 172-174, 188-193
                208-210, 226-228, 240-243, 254, 266, 276-279
                290, 302, 318, 320, 322-324, 326-327, 352-353
                356-357, 379, 381-383, 385-387, 408, 410
                412-414, 416-417, 442-443, 446-447, 469
                471-473, 475-477
t/14-stderr-tied.t       (Wstat: 0 Tests: 489 Failed: 0)
  TODO passed:   2, 4, 11-13, 20, 22, 29, 31, 38-40, 47
                49, 56, 59, 62, 65, 68, 71, 74-76, 83-85
                92-94, 101-103, 110-112, 119-121, 128-129
                132, 146-151, 164-165, 168, 182-183, 186
                200-205, 218-219, 222, 236-237, 239, 248-251
                260-261, 263, 272-273, 275, 284-287, 296-297
                299, 308-317, 338-347, 368-377, 398-407
                428-437, 458-467
Files=15, Tests=4904, 65 wallclock secs ( 0.36 usr  0.08 sys + 12.43 cusr 51.23 csys = 64.10 CPU)
Result: PASS

------------------------------
PREREQUISITES
------------------------------

Prerequisite modules loaded:

requires:

    Module              Need Have    
    ------------------- ---- --------
    Carp                0    1.54    
    Exporter            0    5.79    
    File::Spec          0    3.94    
    File::Temp          0    0.2312  
    IO::Handle          0    1.55    

build_requires:

    Module              Need Have    
    ------------------- ---- --------
    File::Find          0    1.44    
    Test::More          0.62 1.302214

configure_requires:

    Module              Need Have    
    ------------------- ---- --------
    ExtUtils::MakeMaker 6.30 7.76    


------------------------------
ENVIRONMENT AND OTHER CONTEXT
------------------------------

Environment variables:

    AUTOMATED_TESTING = 1
    DATE_MANIP_TEST_DM5 = 1
    LC_ALL = C
    NONINTERACTIVE_TESTING = 1
    NO_NETWORK_TESTING = 1
    PATH = /home/cpan/bin/perl/bin:/home/cpan/bin:/sbin:/bin:/usr/sbin:/usr/bin:/usr/games:/usr/local/sbin:/usr/local/bin:/home/cpan/bin
    PERL5LIB = 
    PERL5OPT = 
    PERL5_CPANPLUS_IS_RUNNING = 9961
    PERL5_CPAN_IS_RUNNING = 9961
    PERL_MM_USE_DEFAULT = 1
    PERL_PERTURB_KEYS = 0
    PERL_USE_UNSAFE_INC = 1
    SHELL = /usr/local/bin/bash
    TERM = screen
    TMPDIR = /home/cpan/tmp

Perl special variables (and OS-specific diagnostics, for MSWin32):

    $^X = /usr/home/cpan/bin/perl/bin/perl5.43.3
    $UID/$EUID = 1002 / 1002
    $GID = 1002 1002
    $EGID = 1002 1002

Perl module toolchain versions installed:

    Module              Have    
    ------------------- --------
    CPAN                2.38    
    CPAN::Meta          2.150010
    Cwd                 3.94    
    ExtUtils::CBuilder  0.280242
    ExtUtils::Command   7.76    
    ExtUtils::Install   2.22    
    ExtUtils::MakeMaker 7.76    
    ExtUtils::Manifest  1.75    
    ExtUtils::ParseXS   3.60    
    File::Spec          3.94    
    JSON                4.10    
    JSON::PP            4.16    
    Module::Build       0.4234  
    Module::Signature   n/a     
    Parse::CPAN::Meta   2.150010
    Test2               1.302214
    Test::Harness       3.52    
    Test::More          1.302214
    YAML                1.31    
    YAML::Syck          1.34    
    version             0.9933  


--

Summary of my perl5 (revision 5 version 43 subversion 3) configuration:
  Commit id: 505e049e46a4f820493a559fcd488c8ec766b9d2
  Platform:
    osname=midnightbsd
    osvers=3.2.1
    archname=amd64-midnightbsd-thread-multi
    uname='midnightbsd cjg-midnightbsd3 3.2.1 midnightbsd 3.2.1 #15n13132-0869ed7092(stable3.2)-dirty: wed nov 6 12:53:25 est 2024 root@m3264:usrobjusrsrcamd64.amd64sysgeneric amd64 '
    config_args='-des -Dprefix=/home/cpan/bin/perl -Dscriptdir=/home/cpan/bin/perl/bin -Dusedevel -Duse64bitall -Duseithreads'
    hint=recommended
    useposix=true
    d_sigaction=define
    useithreads=define
    usemultiplicity=define
    use64bitint=define
    use64bitall=define
    uselongdouble=undef
    usemymalloc=n
    default_inc_excludes_dot=define
  Compiler:
    cc='cc'
    ccflags ='-DHAS_FPSETMASK -DHAS_FLOATINGPOINT_H -fno-strict-aliasing -pipe -fstack-protector-strong -I/usr/local/include'
    optimize='-O'
    cppflags='-DHAS_FPSETMASK -DHAS_FLOATINGPOINT_H -fno-strict-aliasing -pipe -fstack-protector-strong -I/usr/local/include'
    ccversion=''
    gccversion='MidnightBSD Clang 13.0.0 (git@github.com:llvm/llvm-project.git llvmorg-13.0.0-0-gd7b669b3a303)'
    gccosandvers=''
    intsize=4
    longsize=8
    ptrsize=8
    doublesize=8
    byteorder=12345678
    doublekind=3
    d_longlong=define
    longlongsize=8
    d_longdbl=define
    longdblsize=16
    longdblkind=3
    ivtype='long'
    ivsize=8
    nvtype='double'
    nvsize=8
    Off_t='off_t'
    lseeksize=8
    alignbytes=8
    prototype=define
  Linker and Libraries:
    ld='cc'
    ldflags ='-pthread -Wl,-E  -fstack-protector-strong -L/usr/local/lib'
    libpth=/usr/lib /usr/local/lib /usr/lib/clang/13.0.0/lib
    libs=-lpthread -lgdbm -ldl -lm -lcrypt
    perllibs=-lpthread -ldl -lm -lcrypt
    libc=
    so=so
    useshrplib=false
    libperl=libperl.a
    gnulibc_version=''
  Dynamic Linking:
    dlsrc=dl_dlopen.xs
    dlext=so
    d_dlsymun=undef
    ccdlflags=' '
    cccdlflags='-DPIC -fPIC'
    lddlflags='-shared  -L/usr/local/lib -fstack-protector-strong'


Characteristics of this binary (from libperl): 
  Compile-time options:
    HAS_LONG_DOUBLE
    HAS_STRTOLD
    HAS_TIMES
    MULTIPLICITY
    PERLIO_LAYERS
    PERL_COPY_ON_WRITE
    PERL_DONT_CREATE_GVSV
    PERL_HASH_FUNC_SIPHASH13
    PERL_HASH_USE_SBOX32
    PERL_MALLOC_WRAP
    PERL_OP_PARENT
    PERL_PRESERVE_IVUV
    PERL_USE_DEVEL
    PERL_USE_SAFE_PUTENV
    USE_64_BIT_ALL
    USE_64_BIT_INT
    USE_ITHREADS
    USE_LARGE_FILES
    USE_LOCALE
    USE_LOCALE_COLLATE
    USE_LOCALE_CTYPE
    USE_LOCALE_NUMERIC
    USE_LOCALE_TIME
    USE_PERLIO
    USE_PERL_ATOF
    USE_REENTRANT_API
    USE_THREAD_SAFE_LOCALE
  Built under midnightbsd
  Compiled at Sep 10 2025 00:21:44
  %ENV:
    PERL5LIB=""
    PERL5OPT=""
    PERL5_CPANPLUS_IS_RUNNING="9961"
    PERL5_CPAN_IS_RUNNING="9961"
    PERL_MM_USE_DEFAULT="1"
    PERL_PERTURB_KEYS="0"
    PERL_USE_UNSAFE_INC="1"
  @INC:
    /home/cpan/bin/perl/lib/site_perl/5.43.3/amd64-midnightbsd-thread-multi
    /home/cpan/bin/perl/lib/site_perl/5.43.3
    /home/cpan/bin/perl/lib/5.43.3/amd64-midnightbsd-thread-multi
    /home/cpan/bin/perl/lib/5.43.3
    .