Data-DPath v0.59 Perl 5 v5.32.0 armv7l-linux

Status
Pass
From
Nigel Horne
Dist
Data-DPath v0.59
Platform
Perl 5 v5.32.0 armv7l-linux
Date
2024-05-07 09:55:58
ID
0103f826-0c58-11ef-b94b-bdc13385efa5
This distribution has been tested as part of the CPAN Testers
project, supporting the Perl programming language.  See
http://wiki.cpantesters.org/ for more information or email
questions to cpan-testers-discuss@perl.org


--
Dear Steffen Schwigon,

This is a computer-generated report for Data-DPath-0.59
on perl 5.32.0, created by CPAN-Reporter-1.2018.

Thank you for uploading your work to CPAN.  Congratulations!
All tests were successful.

Sections of this report:

    * Tester comments
    * Program output
    * Prerequisites
    * Environment and other context

------------------------------
TESTER COMMENTS
------------------------------

Additional comments from tester:

this report is from an automated smoke testing program
and was not reviewed by a human for accuracy

------------------------------
PROGRAM OUTPUT
------------------------------

Output from '/usr/bin/make test':

PERL_DL_NONLAZY=1 "/home/smoker/perl5/perlbrew/perls/perl-5.32.0-ld/bin/perl5.32.0" "-MExtUtils::Command::MM" "-MTest::Harness" "-e" "undef *Test::Harness::Switches; test_harness(0, 'blib/lib', 'blib/arch')" t/*.t
t/author-no-tabs.t ............ skipped: these tests are for testing by the author
t/author-eol.t ................ skipped: these tests are for testing by the author
t/author-pod-syntax.t ......... skipped: these tests are for testing by the author
t/00-load.t ................... ok
t/cyclic_structures.t ......... ok
t/data_dpath_path_unescape.t .. ok
t/00-compile.t ................ ok
t/basics_without_overload.t ... ok
t/data_dpath.t ................ ok
t/matchr.t .................... ok
t/iterator.t .................. ok
t/optimization.t .............. ok
t/parallel.t .................. ok
t/release-pod-coverage.t ...... skipped: these tests are for release candidate testing
t/path.t ...................... ok
t/references.t ................ ok
t/zeros.t ..................... ok
t/regressions.t ............... ok
All tests successful.
Files=18, Tests=530, 11 wallclock secs ( 0.38 usr  0.18 sys +  9.37 cusr  3.30 csys = 13.23 CPU)
Result: PASS

------------------------------
PREREQUISITES
------------------------------

Prerequisite modules loaded:

requires:

    Module                   Need  Have    
    ------------------------ ----- --------
    aliased                  0.33  0.34    
    Class::XSAccessor        0     1.19    
    Class::XSAccessor::Array 0     1.19    
    constant                 0     1.33    
    Data::Dumper             0     2.174   
    if                       0     0.0608  
    Iterator::Util           0     0.02    
    List::Util               1.45  1.55    
    perl                     5.008 5.032000
    POSIX                    0     1.94    
    Safe                     2.30  2.41    
    Scalar::Util             0     1.55    
    strict                   0     1.11    
    Sub::Exporter            0     0.991   
    Text::Balanced           2.02  2.03    
    warnings                 0     1.47    

build_requires:

    Module                   Need  Have    
    ------------------------ ----- --------
    blib                     1.01  1.07    
    ExtUtils::MakeMaker      0     7.46    
    File::Spec               0     3.78    
    IO::Handle               0     1.42    
    IPC::Open3               0     1.21    
    Test::Deep               0     1.130   
    Test::More               0.88  1.302175
    utf8                     0     1.22    

configure_requires:

    Module                   Need  Have    
    ------------------------ ----- --------
    ExtUtils::MakeMaker      0     7.46    


------------------------------
ENVIRONMENT AND OTHER CONTEXT
------------------------------

Environment variables:

    AUTOMATED_TESTING = 1
    HARNESS_OPTIONS = j4
    NONINTERACTIVE_TESTING = 1
    PATH = /home/smoker/perl5/perlbrew/bin:/home/smoker/perl5/perlbrew/perls/perl-5.32.0-ld/bin:/usr/local/sbin:/usr/local/bin:/usr/sbin:/usr/bin:/sbin:/bin
    PERL5LIB = /tmp/build/aliased-0.34-0/blib/arch:/tmp/build/aliased-0.34-0/blib/lib:/tmp/build/Sub-Exporter-0.991-0/blib/arch:/tmp/build/Sub-Exporter-0.991-0/blib/lib:/tmp/build/Data-OptList-0.114-0/blib/arch:/tmp/build/Data-OptList-0.114-0/blib/lib:/tmp/build/Sub-Install-0.929-0/blib/arch:/tmp/build/Sub-Install-0.929-0/blib/lib:/tmp/build/Params-Util-1.102-0/blib/arch:/tmp/build/Params-Util-1.102-0/blib/lib:/tmp/build/Test-LeakTrace-0.17-0/blib/arch:/tmp/build/Test-LeakTrace-0.17-0/blib/lib:/tmp/build/Iterator-Util-0.02-0/blib/arch:/tmp/build/Iterator-Util-0.02-0/blib/lib:/tmp/build/Iterator-0.03-0/blib/arch:/tmp/build/Iterator-0.03-0/blib/lib:/tmp/build/Exception-Class-1.45-0/blib/arch:/tmp/build/Exception-Class-1.45-0/blib/lib:/tmp/build/Devel-StackTrace-2.05-0/blib/arch:/tmp/build/Devel-StackTrace-2.05-0/blib/lib:/tmp/build/Class-Data-Inheritable-0.09-0/blib/arch:/tmp/build/Class-Data-Inheritable-0.09-0/blib/lib:/tmp/build/Class-XSAccessor-1.19-0/blib/arch:/tmp/build/Class-XSAccessor-1.19-0/blib/lib
    PERL5OPT = 
    PERL5_CPANPLUS_IS_RUNNING = 835
    PERL5_CPAN_IS_RUNNING = 835
    PERLBREW_HOME = /home/smoker/.perlbrew
    PERLBREW_MANPATH = /home/smoker/perl5/perlbrew/perls/perl-5.32.0-ld/man
    PERLBREW_PATH = /home/smoker/perl5/perlbrew/bin:/home/smoker/perl5/perlbrew/perls/perl-5.32.0-ld/bin
    PERLBREW_PERL = perl-5.32.0-ld
    PERLBREW_ROOT = /home/smoker/perl5/perlbrew
    PERLBREW_SHELLRC_VERSION = 0.88
    PERLBREW_VERSION = 0.88
    PERL_MM_USE_DEFAULT = 1
    PERL_USE_UNSAFE_INC = 1
    SHELL = /bin/bash
    TERM = xterm
    TMPDIR = /tmp/testwrapper.821

Perl special variables (and OS-specific diagnostics, for MSWin32):

    $^X = /home/smoker/perl5/perlbrew/perls/perl-5.32.0-ld/bin/perl5.32.0
    $UID/$EUID = 1000 / 1000
    $GID = 1000 1000
    $EGID = 1000 1000

Perl module toolchain versions installed:

    Module              Have    
    ------------------- --------
    CPAN                2.28    
    CPAN::Meta          2.150010
    Cwd                 3.78    
    ExtUtils::CBuilder  0.280234
    ExtUtils::Command   7.46    
    ExtUtils::Install   2.14    
    ExtUtils::MakeMaker 7.46    
    ExtUtils::Manifest  1.72    
    ExtUtils::ParseXS   3.40    
    File::Spec          3.78    
    JSON                4.02    
    JSON::PP            4.04    
    Module::Build       0.4231  
    Module::Signature   n/a     
    Parse::CPAN::Meta   2.150010
    Test::Harness       3.42    
    Test::More          1.302175
    YAML                1.30    
    YAML::Syck          1.32    
    version             0.9924  


--

Summary of my perl5 (revision 5 version 32 subversion 0) configuration:
   
  Platform:
    osname=linux
    osvers=5.4.51-v7l+
    archname=armv7l-linux
    uname='linux d35c2ce1b4b1 5.4.51-v7l+ #1327 smp thu jul 23 11:04:39 bst 2020 armv7l gnulinux '
    config_args='-de -Dprefix=/home/smoker/perl5/perlbrew/perls/perl-5.32.0-ld -Dusedevel -Duselongdouble -Accflags=-O2 -pipe -Wall -Wextra -mtune=native -march=native -Aeval:scriptdir=/home/smoker/perl5/perlbrew/perls/perl-5.32.0-ld/bin'
    hint=recommended
    useposix=true
    d_sigaction=define
    useithreads=undef
    usemultiplicity=undef
    use64bitint=undef
    use64bitall=undef
    uselongdouble=define
    usemymalloc=n
    default_inc_excludes_dot=define
    bincompat5005=undef
  Compiler:
    cc='cc'
    ccflags ='-O2 -pipe -Wall -Wextra -mtune=native -march=native -fwrapv -fno-strict-aliasing -fstack-protector-strong -I/usr/local/include -D_LARGEFILE_SOURCE -D_FILE_OFFSET_BITS=64 -D_FORTIFY_SOURCE=2'
    optimize='-O2'
    cppflags='-O2 -pipe -Wall -Wextra -mtune=native -march=native -fwrapv -fno-strict-aliasing -fstack-protector-strong -I/usr/local/include'
    ccversion=''
    gccversion='8.3.0'
    gccosandvers=''
    intsize=4
    longsize=4
    ptrsize=4
    doublesize=8
    byteorder=1234
    doublekind=3
    d_longlong=define
    longlongsize=8
    d_longdbl=define
    longdblsize=8
    longdblkind=0
    ivtype='long'
    ivsize=4
    nvtype='long double'
    nvsize=8
    Off_t='off_t'
    lseeksize=8
    alignbytes=8
    prototype=define
  Linker and Libraries:
    ld='cc'
    ldflags =' -fstack-protector-strong -L/usr/local/lib'
    libpth=/usr/local/lib /usr/lib/gcc/arm-linux-gnueabihf/8/include-fixed /usr/include/arm-linux-gnueabihf /usr/lib /lib/arm-linux-gnueabihf /lib /usr/lib/arm-linux-gnueabihf
    libs=-lpthread -lnsl -ldl -lm -lcrypt -lutil -lc
    perllibs=-lpthread -lnsl -ldl -lm -lcrypt -lutil -lc
    libc=libc-2.28.so
    so=so
    useshrplib=false
    libperl=libperl.a
    gnulibc_version='2.28'
  Dynamic Linking:
    dlsrc=dl_dlopen.xs
    dlext=so
    d_dlsymun=undef
    ccdlflags='-Wl,-E'
    cccdlflags='-fPIC'
    lddlflags='-shared -O2 -L/usr/local/lib -fstack-protector-strong'


Characteristics of this binary (from libperl): 
  Compile-time options:
    HAS_TIMES
    PERLIO_LAYERS
    PERL_COPY_ON_WRITE
    PERL_DONT_CREATE_GVSV
    PERL_MALLOC_WRAP
    PERL_OP_PARENT
    PERL_PRESERVE_IVUV
    PERL_USE_DEVEL
    USE_LARGE_FILES
    USE_LOCALE
    USE_LOCALE_COLLATE
    USE_LOCALE_CTYPE
    USE_LOCALE_NUMERIC
    USE_LOCALE_TIME
    USE_PERLIO
    USE_PERL_ATOF
  Built under linux
  Compiled at Sep 29 2020 14:12:27
  %ENV:
    PERL5LIB="/tmp/build/aliased-0.34-0/blib/arch:/tmp/build/aliased-0.34-0/blib/lib:/tmp/build/Sub-Exporter-0.991-0/blib/arch:/tmp/build/Sub-Exporter-0.991-0/blib/lib:/tmp/build/Data-OptList-0.114-0/blib/arch:/tmp/build/Data-OptList-0.114-0/blib/lib:/tmp/build/Sub-Install-0.929-0/blib/arch:/tmp/build/Sub-Install-0.929-0/blib/lib:/tmp/build/Params-Util-1.102-0/blib/arch:/tmp/build/Params-Util-1.102-0/blib/lib:/tmp/build/Test-LeakTrace-0.17-0/blib/arch:/tmp/build/Test-LeakTrace-0.17-0/blib/lib:/tmp/build/Iterator-Util-0.02-0/blib/arch:/tmp/build/Iterator-Util-0.02-0/blib/lib:/tmp/build/Iterator-0.03-0/blib/arch:/tmp/build/Iterator-0.03-0/blib/lib:/tmp/build/Exception-Class-1.45-0/blib/arch:/tmp/build/Exception-Class-1.45-0/blib/lib:/tmp/build/Devel-StackTrace-2.05-0/blib/arch:/tmp/build/Devel-StackTrace-2.05-0/blib/lib:/tmp/build/Class-Data-Inheritable-0.09-0/blib/arch:/tmp/build/Class-Data-Inheritable-0.09-0/blib/lib:/tmp/build/Class-XSAccessor-1.19-0/blib/arch:/tmp/build/Class-XSAccessor-1.19-0/blib/lib"
    PERL5OPT=""
    PERL5_CPANPLUS_IS_RUNNING="835"
    PERL5_CPAN_IS_RUNNING="835"
    PERLBREW_HOME="/home/smoker/.perlbrew"
    PERLBREW_MANPATH="/home/smoker/perl5/perlbrew/perls/perl-5.32.0-ld/man"
    PERLBREW_PATH="/home/smoker/perl5/perlbrew/bin:/home/smoker/perl5/perlbrew/perls/perl-5.32.0-ld/bin"
    PERLBREW_PERL="perl-5.32.0-ld"
    PERLBREW_ROOT="/home/smoker/perl5/perlbrew"
    PERLBREW_SHELLRC_VERSION="0.88"
    PERLBREW_VERSION="0.88"
    PERL_MM_USE_DEFAULT="1"
    PERL_USE_UNSAFE_INC="1"
  @INC:
    /tmp/build/aliased-0.34-0/blib/arch
    /tmp/build/aliased-0.34-0/blib/lib
    /tmp/build/Sub-Exporter-0.991-0/blib/arch
    /tmp/build/Sub-Exporter-0.991-0/blib/lib
    /tmp/build/Data-OptList-0.114-0/blib/arch
    /tmp/build/Data-OptList-0.114-0/blib/lib
    /tmp/build/Sub-Install-0.929-0/blib/arch
    /tmp/build/Sub-Install-0.929-0/blib/lib
    /tmp/build/Params-Util-1.102-0/blib/arch
    /tmp/build/Params-Util-1.102-0/blib/lib
    /tmp/build/Test-LeakTrace-0.17-0/blib/arch
    /tmp/build/Test-LeakTrace-0.17-0/blib/lib
    /tmp/build/Iterator-Util-0.02-0/blib/arch
    /tmp/build/Iterator-Util-0.02-0/blib/lib
    /tmp/build/Iterator-0.03-0/blib/arch
    /tmp/build/Iterator-0.03-0/blib/lib
    /tmp/build/Exception-Class-1.45-0/blib/arch
    /tmp/build/Exception-Class-1.45-0/blib/lib
    /tmp/build/Devel-StackTrace-2.05-0/blib/arch
    /tmp/build/Devel-StackTrace-2.05-0/blib/lib
    /tmp/build/Class-Data-Inheritable-0.09-0/blib/arch
    /tmp/build/Class-Data-Inheritable-0.09-0/blib/lib
    /tmp/build/Class-XSAccessor-1.19-0/blib/arch
    /tmp/build/Class-XSAccessor-1.19-0/blib/lib
    /home/smoker/perl5/perlbrew/perls/perl-5.32.0-ld/lib/site_perl/5.32.0/armv7l-linux
    /home/smoker/perl5/perlbrew/perls/perl-5.32.0-ld/lib/site_perl/5.32.0
    /home/smoker/perl5/perlbrew/perls/perl-5.32.0-ld/lib/5.32.0/armv7l-linux
    /home/smoker/perl5/perlbrew/perls/perl-5.32.0-ld/lib/5.32.0
    .