RT-Client-REST v0.43 Perl 5 v5.10.1 i86pc-solaris-64int

Status
Pass
From
Jost Krieger
Dist
RT-Client-REST v0.43
Platform
Perl 5 v5.10.1 i86pc-solaris-64int
Date
2012-01-10 14:33:03
ID
010fae3a-3b98-11e1-86e3-b9c94d35b10c
This distribution has been tested as part of the CPAN Testers
project, supporting the Perl programming language.  See
http://wiki.cpantesters.org/ for more information or email
questions to cpan-testers-discuss@perl.org


--
Dear Jose Luis Martinez Torres,

This is a computer-generated report for RT-Client-REST-0.43
on perl 5.10.1, created by CPAN-Reporter-1.2003.

Thank you for uploading your work to CPAN.  Congratulations!
All tests were successful.

Sections of this report:

    * Tester comments
    * Program output
    * Prerequisites
    * Environment and other context

------------------------------
TESTER COMMENTS
------------------------------

Additional comments from tester:

this report is from an automated smoke testing program
and was not reviewed by a human for accuracy

------------------------------
PROGRAM OUTPUT
------------------------------

Output from '/usr/local/bin/make test':

PERL_DL_NONLAZY=1 /export/home/cpantest/perl5/bin/perl "-MExtUtils::Command::MM" "-e" "test_harness(0, 'inc', 'blib/lib', 'blib/arch')" t/*.t
t/01-use.t ........... ok
t/026-group.t ........ ok
t/10-core.t .......... ok
t/20-object.t ........ ok
t/21-user.t .......... ok
t/22-ticket.t ........ ok
t/23-attachment.t .... ok
t/24-transaction.t ... ok
t/25-queue.t ......... ok
t/35-db.t ............ ok
t/40-search.t ........ ok
t/80-timeout.t ....... ok
t/81-submit.t ........ ok
t/90-pod.t ........... ok
t/91-pod-coverage.t .. ok
t/99-kwalitee.t ...... ok
All tests successful.
Files=16, Tests=354, 27 wallclock secs ( 0.08 usr  0.04 sys +  2.44 cusr  0.40 csys =  2.96 CPU)
Result: PASS

------------------------------
PREREQUISITES
------------------------------

Prerequisite modules loaded:

requires:

    Module                Need Have   
    --------------------- ---- -------
    Encode                0    2.44   
    Error                 0    0.17016
    Exception::Class      0    1.32   
    HTTP::Cookies         0    6.00   
    HTTP::Request::Common 0    6.00   
    LWP                   0    6.03   
    Params::Validate      0    1.00   

build_requires:

    Module                Need Have   
    --------------------- ---- -------
    ExtUtils::MakeMaker   6.42 6.62   
    Test::Exception       0    0.31   
    Test::More            0    0.98   

configure_requires:

    Module                Need Have   
    --------------------- ---- -------
    ExtUtils::MakeMaker   6.42 6.62   


------------------------------
ENVIRONMENT AND OTHER CONTEXT
------------------------------

Environment variables:

    AUTOMATED_TESTING = 1
    LANG = C
    LD_LIBRARY_PATH = /usr/local/lib:
    PATH = /export/home/cpantest/perl5/bin:/usr/local/bin:/usr/bin
    PERL5LIB = /export/home/cpantest/.cpan/build/Test-File-1.29-FwIlBw/blib/arch:/export/home/cpantest/.cpan/build/Test-File-1.29-FwIlBw/blib/lib:/export/home/cpantest/.cpan/build/Test-Trap-v0.2.1-4ku1Bg/blib/arch:/export/home/cpantest/.cpan/build/Test-Trap-v0.2.1-4ku1Bg/blib/lib:/export/home/cpantest/.cpan/build/Text-Table-1.124-Bmr7W0/blib/arch:/export/home/cpantest/.cpan/build/Text-Table-1.124-Bmr7W0/blib/lib:/export/home/cpantest/.cpan/build/Text-Aligner-0.07-pUjeTv/blib/arch:/export/home/cpantest/.cpan/build/Text-Aligner-0.07-pUjeTv/blib/lib:/export/home/cpantest/.cpan/build/Path-Class-Iterator-0.05-by1dTw/blib/arch:/export/home/cpantest/.cpan/build/Path-Class-Iterator-0.05-by1dTw/blib/lib:/export/home/cpantest/.cpan/build/Iterator-0.03-lepB_H/blib/arch:/export/home/cpantest/.cpan/build/Iterator-0.03-lepB_H/blib/lib
    PERL5OPT = 
    PERL5_CPANPLUS_IS_RUNNING = 22263
    PERL5_CPAN_IS_RUNNING = 22263
    PERL5_CPAN_IS_RUNNING_IN_RECURSION = 1313,22263
    PERL_CR_SMOKER_CURRENT = App-TimeTracker-2.015
    PERL_EXTUTILS_AUTOINSTALL = --defaultdeps
    PERL_MM_USE_DEFAULT = 1
    SHELL = /usr/bin/bash
    TERM = xterm

Perl special variables (and OS-specific diagnostics, for MSWin32):

    $^X = /export/home/cpantest/perl5/bin/perl
    $UID/$EUID = 100 / 100
    $GID = 1 1
    $EGID = 1 1

Perl module toolchain versions installed:

    Module              Have    
    ------------------- --------
    CPAN                1.9800  
    CPAN::Meta          2.113640
    Cwd                 3.33    
    ExtUtils::CBuilder  0.280202
    ExtUtils::Command   1.17    
    ExtUtils::Install   1.54    
    ExtUtils::MakeMaker 6.62    
    ExtUtils::Manifest  1.60    
    ExtUtils::ParseXS   3.11    
    File::Spec          3.33    
    JSON                2.53    
    JSON::PP            2.27200 
    Module::Build       0.3800  
    Module::Signature   n/a     
    Parse::CPAN::Meta   1.4401  
    Test::Harness       3.23    
    Test::More          0.98    
    YAML                0.78    
    YAML::Syck          1.19    
    version             0.95    


--

Summary of my perl5 (revision 5 version 10 subversion 1) configuration:
   
  Platform:
    osname=solaris, osvers=2.10, archname=i86pc-solaris-64int
    uname='sunos vmrz0046 5.10 generic_141445-09 i86pc i386 i86pc '
    config_args='-Dcc=gcc -Dprefix=~/perl5 -Duse64bitint -d'
    hint=recommended, useposix=true, d_sigaction=define
    useithreads=undef, usemultiplicity=undef
    useperlio=define, d_sfio=undef, uselargefiles=define, usesocks=undef
    use64bitint=define, use64bitall=undef, uselongdouble=undef
    usemymalloc=n, bincompat5005=undef
  Compiler:
    cc='gcc', ccflags ='-DPTR_IS_LONG -fno-strict-aliasing -pipe -I/usr/local/include -D_LARGEFILE_SOURCE -D_FILE_OFFSET_BITS=64 -DPERL_USE_SAFE_PUTENV -DPERL_USE_SAFE_PUTENV',
    optimize='-O',
    cppflags='-DPTR_IS_LONG -fno-strict-aliasing -pipe -I/usr/local/include'
    ccversion='', gccversion='3.4.6', gccosandvers='solaris2.10'
    intsize=4, longsize=4, ptrsize=4, doublesize=8, byteorder=12345678
    d_longlong=define, longlongsize=8, d_longdbl=define, longdblsize=12
    ivtype='long long', ivsize=8, nvtype='double', nvsize=8, Off_t='off_t', lseeksize=8
    alignbytes=4, prototype=define
  Linker and Libraries:
    ld='gcc', ldflags =' -L/usr/local/lib '
    libpth=/usr/local/lib /usr/lib /usr/ccs/lib
    libs=-lsocket -lnsl -ldl -lm -lc
    perllibs=-lsocket -lnsl -ldl -lm -lc
    libc=/lib/libc.so, so=so, useshrplib=false, libperl=libperl.a
    gnulibc_version=''
  Dynamic Linking:
    dlsrc=dl_dlopen.xs, dlext=so, d_dlsymun=undef, ccdlflags=' '
    cccdlflags='-fPIC', lddlflags='-G -L/usr/local/lib'


Characteristics of this binary (from libperl): 
  Compile-time options: PERL_DONT_CREATE_GVSV PERL_MALLOC_WRAP
                        PERL_USE_SAFE_PUTENV USE_64_BIT_INT USE_LARGE_FILES
                        USE_PERLIO
  Built under solaris
  Compiled at Mar  1 2011 16:15:56
  %ENV:
    PERL5LIB="/export/home/cpantest/.cpan/build/Test-File-1.29-FwIlBw/blib/arch:/export/home/cpantest/.cpan/build/Test-File-1.29-FwIlBw/blib/lib:/export/home/cpantest/.cpan/build/Test-Trap-v0.2.1-4ku1Bg/blib/arch:/export/home/cpantest/.cpan/build/Test-Trap-v0.2.1-4ku1Bg/blib/lib:/export/home/cpantest/.cpan/build/Text-Table-1.124-Bmr7W0/blib/arch:/export/home/cpantest/.cpan/build/Text-Table-1.124-Bmr7W0/blib/lib:/export/home/cpantest/.cpan/build/Text-Aligner-0.07-pUjeTv/blib/arch:/export/home/cpantest/.cpan/build/Text-Aligner-0.07-pUjeTv/blib/lib:/export/home/cpantest/.cpan/build/Path-Class-Iterator-0.05-by1dTw/blib/arch:/export/home/cpantest/.cpan/build/Path-Class-Iterator-0.05-by1dTw/blib/lib:/export/home/cpantest/.cpan/build/Iterator-0.03-lepB_H/blib/arch:/export/home/cpantest/.cpan/build/Iterator-0.03-lepB_H/blib/lib"
    PERL5OPT=""
    PERL5_CPANPLUS_IS_RUNNING="22263"
    PERL5_CPAN_IS_RUNNING="22263"
    PERL5_CPAN_IS_RUNNING_IN_RECURSION="1313,22263"
    PERL_CR_SMOKER_CURRENT="App-TimeTracker-2.015"
    PERL_EXTUTILS_AUTOINSTALL="--defaultdeps"
    PERL_MM_USE_DEFAULT="1"
  @INC:
    /export/home/cpantest/.cpan/build/Test-File-1.29-FwIlBw/blib/arch
    /export/home/cpantest/.cpan/build/Test-File-1.29-FwIlBw/blib/lib
    /export/home/cpantest/.cpan/build/Test-Trap-v0.2.1-4ku1Bg/blib/arch
    /export/home/cpantest/.cpan/build/Test-Trap-v0.2.1-4ku1Bg/blib/lib
    /export/home/cpantest/.cpan/build/Text-Table-1.124-Bmr7W0/blib/arch
    /export/home/cpantest/.cpan/build/Text-Table-1.124-Bmr7W0/blib/lib
    /export/home/cpantest/.cpan/build/Text-Aligner-0.07-pUjeTv/blib/arch
    /export/home/cpantest/.cpan/build/Text-Aligner-0.07-pUjeTv/blib/lib
    /export/home/cpantest/.cpan/build/Path-Class-Iterator-0.05-by1dTw/blib/arch
    /export/home/cpantest/.cpan/build/Path-Class-Iterator-0.05-by1dTw/blib/lib
    /export/home/cpantest/.cpan/build/Iterator-0.03-lepB_H/blib/arch
    /export/home/cpantest/.cpan/build/Iterator-0.03-lepB_H/blib/lib
    /export/home/cpantest/perl5/lib/5.10.1/i86pc-solaris-64int
    /export/home/cpantest/perl5/lib/5.10.1
    /export/home/cpantest/perl5/lib/site_perl/5.10.1/i86pc-solaris-64int
    /export/home/cpantest/perl5/lib/site_perl/5.10.1
    /export/home/cpantest/perl5/lib/site_perl/5.10.0/i86pc-solaris-64int
    /export/home/cpantest/perl5/lib/site_perl/5.10.0
    /export/home/cpantest/perl5/lib/site_perl
    .