Test-Without-Module v0.23 Perl 5 v5.40.3 x86_64-cygwin-threads-multi
- Status
- Pass
- From
- Peter John Acklam (PJACKLAM)
- Dist
-
Test-Without-Module v0.23
- Platform
- Perl 5 v5.40.3 x86_64-cygwin-threads-multi
- Date
- 2025-10-05 16:21:09
- ID
- 0111766d-799c-1014-a472-a0d5b35cba62
This distribution has been tested as part of the CPAN Testers
project, supporting the Perl programming language. See
http://wiki.cpantesters.org/ for more information or email
questions to cpan-testers-discuss@perl.org
--
Dear Max Maischein,
This is a computer-generated report for Test-Without-Module-0.23
on perl 5.40.3, created by CPAN-Reporter-1.2020.
Thank you for uploading your work to CPAN. Congratulations!
All tests were successful.
Sections of this report:
* Tester comments
* Program output
* Prerequisites
* Environment and other context
------------------------------
TESTER COMMENTS
------------------------------
Additional comments from tester:
none provided
------------------------------
PROGRAM OUTPUT
------------------------------
Output from '/bin/make test':
PERL_DL_NONLAZY=1 "/usr/bin/perl.exe" "-MExtUtils::Command::MM" "-MTest::Harness" "-e" "undef *Test::Harness::Switches; test_harness(0, 'blib/lib', 'blib/arch')" t/00-load.t t/01-api.t t/02-block-use-module.t t/03-block-require-module.t t/04-import-export.t t/05-redefine.t t/06-missing-hidden-modules.t t/embedded-Test-Without-Module.t t/rt122551.t
# Testing Test::Without::Module 0.23, Perl 5.040003
# Carp 1.54
# Config 5.040003
# Cwd 3.91
# Encode 3.21
# Encode::Alias 2.25
# Encode::Config 2.05
# Encode::Encoding 2.08
# Encode::MIME::Name 1.03
# Exporter 5.78
# Exporter::Heavy 5.78
# ExtUtils::Liblist 7.70
# ExtUtils::Liblist::Kid 7.70
# ExtUtils::MM 7.70
# ExtUtils::MM_Any 7.70
# ExtUtils::MM_Cygwin 7.7001
# ExtUtils::MM_Unix 7.70
# ExtUtils::MM_Win32 7.70
# ExtUtils::MY 7.70
# ExtUtils::MakeMaker 7.70
# ExtUtils::MakeMaker::Config 7.70
# ExtUtils::MakeMaker::Locale 7.70
# ExtUtils::MakeMaker::version 7.70
# Fcntl 1.18
# File::Basename 2.86
# File::Glob 1.42
# File::Path 2.18
# File::Spec 3.91
# File::Spec::Cygwin 3.91
# File::Spec::Unix 3.91
# I18N::Langinfo 0.24
# List::Util 1.70
# Scalar::Util 1.70
# Storable 3.32
# Test::Builder 1.302214
# Test::Builder::Formatter 1.302214
# Test::Builder::Module 1.302214
# Test::Builder::TodoDiag 1.302214
# Test::More 1.302214
# Test::Without::Module 0.23
# Test2::API 1.302214
# Test2::API::Context 1.302214
# Test2::API::Instance 1.302214
# Test2::API::Stack 1.302214
# Test2::Event 1.302214
# Test2::Event::Bail 1.302214
# Test2::Event::Diag 1.302214
# Test2::Event::Exception 1.302214
# Test2::Event::Fail 1.302214
# Test2::Event::Note 1.302214
# Test2::Event::Ok 1.302214
# Test2::Event::Pass 1.302214
# Test2::Event::Plan 1.302214
# Test2::Event::Skip 1.302214
# Test2::Event::Subtest 1.302214
# Test2::Event::V2 1.302214
# Test2::Event::Waiting 1.302214
# Test2::EventFacet 1.302214
# Test2::EventFacet::About 1.302214
# Test2::EventFacet::Amnesty 1.302214
# Test2::EventFacet::Assert 1.302214
# Test2::EventFacet::Control 1.302214
# Test2::EventFacet::Error 1.302214
# Test2::EventFacet::Hub 1.302214
# Test2::EventFacet::Info 1.302214
# Test2::EventFacet::Meta 1.302214
# Test2::EventFacet::Parent 1.302214
# Test2::EventFacet::Plan 1.302214
# Test2::EventFacet::Trace 1.302214
# Test2::Formatter 1.302214
# Test2::Formatter::TAP 1.302214
# Test2::Hub 1.302214
# Test2::Hub::Interceptor 1.302214
# Test2::Hub::Interceptor::Terminator 1.302214
# Test2::Hub::Subtest 1.302214
# Test2::Util 1.302214
# Test2::Util::ExternalMeta 1.302214
# Test2::Util::Facets2Legacy 1.302214
# Test2::Util::HashBase 1.302214
# Test2::Util::Trace 1.302214
# Time::HiRes 1.9777
# XSLoader 0.32
# base 2.27
# bytes 1.09
# constant 1.33
# mro 1.29
# overloading 0.02
# parent 0.244
# strict 1.13
# vars 1.05
# version 0.9930
# version::regex 0.9930
# warnings 1.70
# warnings::register 1.06
t/00-load.t ....................... ok
t/01-api.t ........................ ok
t/02-block-use-module.t ........... ok
t/03-block-require-module.t ....... ok
t/04-import-export.t .............. ok
t/05-redefine.t ................... ok
t/06-missing-hidden-modules.t ..... ok
t/embedded-Test-Without-Module.t .. ok
t/rt122551.t ...................... ok
All tests successful.
Test Summary Report
-------------------
t/rt122551.t (Wstat: 0 Tests: 2 Failed: 0)
TODO passed: 2
Files=9, Tests=24, 9 wallclock secs ( 0.05 usr 0.47 sys + 1.45 cusr 7.74 csys = 9.71 CPU)
Result: PASS
------------------------------
PREREQUISITES
------------------------------
Prerequisite modules loaded:
requires:
Module Need Have
------------------- ----- --------
Carp 0 1.54
perl 5.006 5.040003
build_requires:
Module Need Have
------------------- ----- --------
ExtUtils::MakeMaker 0 7.70
File::Find 0 1.44
File::Spec 0 3.91
Test::More 0 1.302214
configure_requires:
Module Need Have
------------------- ----- --------
ExtUtils::MakeMaker 0 7.70
------------------------------
ENVIRONMENT AND OTHER CONTEXT
------------------------------
Environment variables:
COMSPEC = C:\WINDOWS\system32\cmd.exe
LDFLAGS = -Wl,-rpath,/usr/local/lib -L/usr/local/lib
NUMBER_OF_PROCESSORS = 8
PATH = /usr/bin:/usr/lib/lapack:/usr/bin:/bin:/usr/local/bin
PERL5LIB = /usr/local/lib/perl5/site_perl/5.40:/usr/local/lib/perl5/site_perl/5.40/x86_64-cygwin-threads-multi:/usr/local/lib/perl5/site_perl:/usr/local/lib/perl5/vendor_perl/5.40:/usr/local/lib/perl5/vendor_perl/5.40/x86_64-cygwin-threads-multi:/usr/local/lib/perl5/vendor_perl:/usr/local/lib/perl5/5.40:/usr/local/lib/perl5/5.40/x86_64-cygwin-threads-multi:/usr/local/lib/perl5:/usr/local/share/perl5/site_perl/5.40:/usr/local/share/perl5/site_perl/5.40/x86_64-cygwin-threads-multi:/usr/local/share/perl5/site_perl:/usr/local/share/perl5/vendor_perl/5.40:/usr/local/share/perl5/vendor_perl/5.40/x86_64-cygwin-threads-multi:/usr/local/share/perl5/vendor_perl:/usr/local/share/perl5/5.40:/usr/local/share/perl5/5.40/x86_64-cygwin-threads-multi:/usr/local/share/perl5
PERL5OPT =
PERL5_CPANPLUS_IS_RUNNING = 162616
PERL5_CPAN_IS_RUNNING = 162616
PERL_CANARY_STABILITY_NOPROMPT = 1
PERL_CPAN_REPORTER_CONFIG = /cygdrive/d/home/peter/.cpanreporter/config-cygwin-rigel.ini
PERL_USE_UNSAFE_INC =
PROCESSOR_IDENTIFIER = Intel64 Family 6 Model 42 Stepping 7, GenuineIntel
SHELL = /bin/bash
TEMP = /tmp
TERM = xterm
Perl special variables (and OS-specific diagnostics, for MSWin32):
$^X = /usr/bin/perl
$UID/$EUID = 197609 / 197609
$GID = 197609 401408 545 4 66049 11 15 68380 113 4095 66048 262180
$EGID = 197609 401408 545 4 66049 11 15 68380 113 4095 66048 262180
Perl module toolchain versions installed:
Module Have
------------------- --------
CPAN 2.38
CPAN::Meta 2.150010
Cwd 3.91
ExtUtils::CBuilder 0.280240
ExtUtils::Command 7.70
ExtUtils::Install 2.22
ExtUtils::MakeMaker 7.70
ExtUtils::Manifest 1.75
ExtUtils::ParseXS 3.51
File::Spec 3.91
JSON 4.10
JSON::PP 4.16
Module::Build 0.4234
Module::Signature n/a
Parse::CPAN::Meta 2.150010
Test2 1.302214
Test::Harness 3.48
Test::More 1.302214
YAML 1.31
YAML::Syck n/a
version 0.9930
--
Summary of my perl5 (revision 5 version 40 subversion 3) configuration:
Platform:
osname=cygwin
osvers=3.6.4-1.x86_64
archname=x86_64-cygwin-threads-multi
uname='cygwin_nt-10.0-26100 walter 3.6.4-1.x86_64 2025-07-15 07:55 utc x86_64 cygwin '
config_args='-des -Dprefix=/usr -Dmksymlinks -Darchname=x86_64-cygwin-threads -Dlibperl=cygperl5_40.dll -Dcc=gcc -Dld=g++ -Accflags=-ggdb -O2 -pipe -Wall -Werror=format-security -D_FORTIFY_SOURCE=3 -fstack-protector-strong --param=ssp-buffer-size=4 -ffile-prefix-map=/mnt/share/cygpkgs/perl/perl.x86_64/build=/usr/src/debug/perl-5.40.3-1 -ffile-prefix-map=/mnt/share/cygpkgs/perl/perl.x86_64/src/perl-5.40.3=/usr/src/debug/perl-5.40.3-1 -fwrapv'
hint=recommended
useposix=true
d_sigaction=define
useithreads=define
usemultiplicity=define
use64bitint=define
use64bitall=define
uselongdouble=undef
usemymalloc=n
default_inc_excludes_dot=define
Compiler:
cc='gcc'
ccflags ='-U__STRICT_ANSI__ -D_GNU_SOURCE -ggdb -O2 -pipe -Wall -Werror=format-security -D_FORTIFY_SOURCE=3 -fstack-protector-strong --param=ssp-buffer-size=4 -ffile-prefix-map=/mnt/share/cygpkgs/perl/perl.x86_64/build=/usr/src/debug/perl-5.40.3-1 -ffile-prefix-map=/mnt/share/cygpkgs/perl/perl.x86_64/src/perl-5.40.3=/usr/src/debug/perl-5.40.3-1 -fwrapv -fno-strict-aliasing'
optimize='-O3'
cppflags='-U__STRICT_ANSI__ -D_GNU_SOURCE -ggdb -O2 -pipe -Wall -Werror=format-security -D_FORTIFY_SOURCE=3 -fstack-protector-strong --param=ssp-buffer-size=4 -ffile-prefix-map=/mnt/share/cygpkgs/perl/perl.x86_64/build=/usr/src/debug/perl-5.40.3-1 -ffile-prefix-map=/mnt/share/cygpkgs/perl/perl.x86_64/src/perl-5.40.3=/usr/src/debug/perl-5.40.3-1 -fwrapv -fno-strict-aliasing'
ccversion=''
gccversion='13.4.0'
gccosandvers=''
intsize=4
longsize=8
ptrsize=8
doublesize=8
byteorder=12345678
doublekind=3
d_longlong=define
longlongsize=8
d_longdbl=define
longdblsize=16
longdblkind=3
ivtype='long'
ivsize=8
nvtype='double'
nvsize=8
Off_t='off_t'
lseeksize=8
alignbytes=8
prototype=define
Linker and Libraries:
ld='g++'
ldflags =' -Wl,--enable-auto-import -Wl,--export-all-symbols -Wl,--enable-auto-image-base -fstack-protector-strong'
libpth=/usr/lib
libs=-lpthread -lgdbm -ldb -ldl -lcrypt -lgdbm_compat
perllibs=-lpthread -ldl -lcrypt
libc=/usr/lib/libcygwin.a
so=dll
useshrplib=true
libperl=cygperl5_40.dll
gnulibc_version=''
Dynamic Linking:
dlsrc=dl_dlopen.xs
dlext=dll
d_dlsymun=undef
ccdlflags=' '
cccdlflags=' '
lddlflags=' --shared -Wl,--enable-auto-import -Wl,--export-all-symbols -Wl,--enable-auto-image-base -fstack-protector-strong'
Characteristics of this binary (from libperl):
Compile-time options:
HAS_LONG_DOUBLE
HAS_STRTOLD
HAS_TIMES
MULTIPLICITY
PERLIO_LAYERS
PERL_COPY_ON_WRITE
PERL_DONT_CREATE_GVSV
PERL_HASH_FUNC_SIPHASH13
PERL_HASH_USE_SBOX32
PERL_OP_PARENT
PERL_PRESERVE_IVUV
PERL_USE_SAFE_PUTENV
USE_64_BIT_ALL
USE_64_BIT_INT
USE_ITHREADS
USE_LARGE_FILES
USE_LOCALE
USE_LOCALE_COLLATE
USE_LOCALE_CTYPE
USE_LOCALE_NUMERIC
USE_LOCALE_TIME
USE_PERLIO
USE_PERL_ATOF
USE_REENTRANT_API
USE_THREAD_SAFE_LOCALE
Locally applied patches:
Cygwin: README
Cygwin: modify hints
Cygwin: Win32 correct UTF8 handling for tests
Built under cygwin
Compiled at Aug 3 2025 15:18:07
%ENV:
PERL5LIB="/usr/local/lib/perl5/site_perl/5.40:/usr/local/lib/perl5/site_perl/5.40/x86_64-cygwin-threads-multi:/usr/local/lib/perl5/site_perl:/usr/local/lib/perl5/vendor_perl/5.40:/usr/local/lib/perl5/vendor_perl/5.40/x86_64-cygwin-threads-multi:/usr/local/lib/perl5/vendor_perl:/usr/local/lib/perl5/5.40:/usr/local/lib/perl5/5.40/x86_64-cygwin-threads-multi:/usr/local/lib/perl5:/usr/local/share/perl5/site_perl/5.40:/usr/local/share/perl5/site_perl/5.40/x86_64-cygwin-threads-multi:/usr/local/share/perl5/site_perl:/usr/local/share/perl5/vendor_perl/5.40:/usr/local/share/perl5/vendor_perl/5.40/x86_64-cygwin-threads-multi:/usr/local/share/perl5/vendor_perl:/usr/local/share/perl5/5.40:/usr/local/share/perl5/5.40/x86_64-cygwin-threads-multi:/usr/local/share/perl5"
PERL5OPT=""
PERL5_CPANPLUS_IS_RUNNING="162616"
PERL5_CPAN_IS_RUNNING="162616"
PERL_CANARY_STABILITY_NOPROMPT="1"
PERL_CPAN_REPORTER_CONFIG="/cygdrive/d/home/peter/.cpanreporter/config-cygwin-rigel.ini"
PERL_USE_UNSAFE_INC=""
@INC:
/usr/local/lib/perl5/site_perl/5.40
/usr/local/lib/perl5/site_perl/5.40/x86_64-cygwin-threads-multi
/usr/local/lib/perl5/site_perl
/usr/local/lib/perl5/vendor_perl/5.40
/usr/local/lib/perl5/vendor_perl/5.40/x86_64-cygwin-threads-multi
/usr/local/lib/perl5/vendor_perl
/usr/local/lib/perl5/5.40
/usr/local/lib/perl5/5.40/x86_64-cygwin-threads-multi
/usr/local/lib/perl5/x86_64-cygwin-threads-multi
/usr/local/lib/perl5
/usr/local/share/perl5/site_perl/5.40
/usr/local/share/perl5/site_perl/5.40/x86_64-cygwin-threads-multi
/usr/local/share/perl5/site_perl
/usr/local/share/perl5/vendor_perl/5.40
/usr/local/share/perl5/vendor_perl/5.40/x86_64-cygwin-threads-multi
/usr/local/share/perl5/vendor_perl
/usr/local/share/perl5/5.40
/usr/local/share/perl5/5.40/x86_64-cygwin-threads-multi
/usr/local/share/perl5
/usr/local/lib/perl5/site_perl/5.40/x86_64-cygwin-threads
/usr/local/share/perl5/site_perl/5.40
/usr/lib/perl5/vendor_perl/5.40/x86_64-cygwin-threads
/usr/share/perl5/vendor_perl/5.40
/usr/lib/perl5/5.40/x86_64-cygwin-threads
/usr/share/perl5/5.40