Capture-Tiny-Extended v0.114 Perl 5 v5.41.2 x86_64-linux-thread-multi-ld

Status
Pass
From
Andreas J. König (ANDK)
Dist
Capture-Tiny-Extended v0.114
Platform
Perl 5 v5.41.2 x86_64-linux-thread-multi-ld
Date
2024-08-15 21:54:54
ID
0114435a-5b51-11ef-9bf4-7b66a9a0091c
This distribution has been tested as part of the CPAN Testers
project, supporting the Perl programming language.  See
http://wiki.cpantesters.org/ for more information or email
questions to cpan-testers-discuss@perl.org


--
Dear Christian Walde,

This is a computer-generated report for Capture-Tiny-Extended-0.114
on perl 5.41.2, created by CPAN-Reporter-1.2019.

Thank you for uploading your work to CPAN.  Congratulations!
All tests were successful.

Sections of this report:

    * Tester comments
    * Program output
    * Prerequisites
    * Environment and other context

------------------------------
TESTER COMMENTS
------------------------------

Additional comments from tester:

this report is from an automated smoke testing program
and was not reviewed by a human for accuracy

------------------------------
PROGRAM OUTPUT
------------------------------

Output from '/usr/bin/make test':

PERL_DL_NONLAZY=1 "/tmp/basesmoker-reloperl-Omon/bin/perl" "-MExtUtils::Command::MM" "-MTest::Harness" "-e" "undef *Test::Harness::Switches; test_harness(0, 'blib/lib', 'blib/arch')" t/*.t
t/00-compile.t ............. ok
t/01-Capture-Tiny.t ........ ok
t/02-capture.t ............. ok
t/03-tee.t ................. ok
t/06-stdout-closed.t ....... ok
t/07-stderr-closed.t ....... ok
t/08-stdin-closed.t ........ ok
t/09-preserve-exit-code.t .. ok
t/10-stdout-string.t ....... ok
t/11-stderr-string.t ....... ok
t/12-stdin-string.t ........ ok
t/13-stdout-tied.t ......... ok
t/14-stderr-tied.t ......... ok
t/15-stdin-tied.t .......... ok
t/16-catch-errors.t ........ ok
All tests successful.

Test Summary Report
-------------------
t/13-stdout-tied.t       (Wstat: 0 Tests: 489 Failed: 0)
  TODO passed:   5-7, 15-16, 24-25, 32-34, 42-43, 51-52
                57, 66, 77, 79, 88, 96-97, 104, 106, 115
                123-124, 134-139, 154-156, 172-174, 188-193
                208-210, 226-228, 240-243, 254, 266, 276-279
                290, 302, 318, 320, 322-324, 326-327, 352-353
                356-357, 379, 381-383, 385-387, 408, 410
                412-414, 416-417, 442-443, 446-447, 469
                471-473, 475-477
t/14-stderr-tied.t       (Wstat: 0 Tests: 489 Failed: 0)
  TODO passed:   8, 10, 17-19, 26, 28, 35, 37, 44-46, 53
                55, 58, 61, 64, 67, 70, 73, 80-82, 89-91
                98-100, 107-109, 116-118, 125-127, 140-141
                144, 158-163, 176-177, 180, 194-195, 198
                212-217, 230-231, 234, 244-245, 247, 256-259
                268-269, 271, 280-281, 283, 292-295, 304-305
                307, 328-337, 358-367, 388-397, 418-427
                448-457, 478-487
Files=15, Tests=4904, 10 wallclock secs ( 0.63 usr  0.16 sys +  7.83 cusr  5.29 csys = 13.91 CPU)
Result: PASS

------------------------------
PREREQUISITES
------------------------------

Prerequisite modules loaded:

requires:

    Module              Need Have    
    ------------------- ---- --------
    Carp                0    1.54    
    Exporter            0    5.78    
    File::Spec          0    3.92    
    File::Temp          0    0.2311  
    IO::Handle          0    1.55    

build_requires:

    Module              Need Have    
    ------------------- ---- --------
    File::Find          0    1.44    
    Test::More          0.62 1.302199

configure_requires:

    Module              Need Have    
    ------------------- ---- --------
    ExtUtils::MakeMaker 6.30 7.70    


------------------------------
ENVIRONMENT AND OTHER CONTEXT
------------------------------

Environment variables:

    AUTOMATED_TESTING = 1
    LANG = en_US.UTF-8
    PATH = /home/sand/bin:/usr/local/bin:/usr/local/sbin:/usr/sbin:/usr/bin:/sbin:/bin:/usr/games:/usr/local/games:/snap/bin:/usr/local/perl/bin:/usr/X11/bin
    PERL = /tmp/basesmoker-reloperl-Omon/bin/perl
    PERL5LIB = /tmp/loop_over_bdir-3010698-lbFv2V/Business-Shipping-DataFiles-1.02-0/blib/arch:/tmp/loop_over_bdir-3010698-lbFv2V/Business-Shipping-DataFiles-1.02-0/blib/lib:/tmp/loop_over_bdir-3010698-lbFv2V/LCFG-Build-Tools-0.9.30-0/blib/arch:/tmp/loop_over_bdir-3010698-lbFv2V/LCFG-Build-Tools-0.9.30-0/blib/lib:/tmp/loop_over_bdir-3010698-lbFv2V/Lemonldap-NG-Cli-0.2-0/blib/arch:/tmp/loop_over_bdir-3010698-lbFv2V/Lemonldap-NG-Cli-0.2-0/blib/lib:/tmp/loop_over_bdir-3010698-lbFv2V/makepp-1.19-0/blib/arch:/tmp/loop_over_bdir-3010698-lbFv2V/makepp-1.19-0/blib/lib:/tmp/loop_over_bdir-3010698-lbFv2V/LCFG-Build-Skeleton-0.5.0-0/blib/arch:/tmp/loop_over_bdir-3010698-lbFv2V/LCFG-Build-Skeleton-0.5.0-0/blib/lib:/tmp/loop_over_bdir-3010698-lbFv2V/App-rmcd-0.280-0/blib/arch:/tmp/loop_over_bdir-3010698-lbFv2V/App-rmcd-0.280-0/blib/lib:/tmp/loop_over_bdir-3010698-lbFv2V/Lingua-YaTeA-0.626-0/blib/arch:/tmp/loop_over_bdir-3010698-lbFv2V/Lingua-YaTeA-0.626-0/blib/lib:/tmp/loop_over_bdir-3010698-lbFv2V/LiquidWeb-Storm-CLI-1.03-0/blib/arch:/tmp/loop_over_bdir-3010698-lbFv2V/LiquidWeb-Storm-CLI-1.03-0/blib/lib:/tmp/loop_over_bdir-3010698-lbFv2V/Devel-Required-0.16-0/blib/arch:/tmp/loop_over_bdir-3010698-lbFv2V/Devel-Required-0.16-0/blib/lib
    PERL5OPT = 
    PERL5_CPANPLUS_IS_RUNNING = 3010707
    PERL5_CPAN_IS_RUNNING = 3010707
    PERL_CANARY_STABILITY_NOPROMPT = 1
    PERL_MM_USE_DEFAULT = 1
    PERL_USE_UNSAFE_INC = 1
    SHELL = /usr/bin/zsh
    TERM = screen

Perl special variables (and OS-specific diagnostics, for MSWin32):

    $^X = /tmp/basesmoker-reloperl-Omon/bin/perl
    $UID/$EUID = 1005 / 1005
    $GID = 1005 1005
    $EGID = 1005 1005

Perl module toolchain versions installed:

    Module              Have    
    ------------------- --------
    CPAN                2.36    
    CPAN::Meta          2.150010
    Cwd                 3.92    
    ExtUtils::CBuilder  0.280240
    ExtUtils::Command   7.70    
    ExtUtils::Install   2.22    
    ExtUtils::MakeMaker 7.70    
    ExtUtils::Manifest  1.75    
    ExtUtils::ParseXS   3.52    
    File::Spec          3.92    
    JSON                4.10    
    JSON::PP            4.16    
    Module::Build       0.4234  
    Module::Signature   0.88    
    Parse::CPAN::Meta   2.150010
    Test2               1.302199
    Test::Harness       3.48    
    Test::More          1.302199
    YAML                1.31    
    YAML::Syck          1.34    
    version             0.9932  


--

Summary of my perl5 (revision 5 version 41 subversion 2) configuration:
  Commit id: bcb5884b9b0ae1345ac74420bacb865ba11baab3
  Platform:
    osname=linux
    osvers=5.4.0-187-generic
    archname=x86_64-linux-thread-multi-ld
    uname='linux k93focal 5.4.0-187-generic #207-ubuntu smp mon jun 10 08:16:10 utc 2024 x86_64 x86_64 x86_64 gnulinux '
    config_args='-Dprefix=/home/sand/src/perl/repoperls/installed-perls/host/k93focal/v5.41.2/e463 -Dmyhostname=k93focal -Dinstallusrbinperl=n -Uversiononly -Dusedevel -des -Ui_db -Dlibswanted=cl pthread socket inet nsl gdbm dbm malloc dl ld sun m crypt sec util c cposix posix ucb BSD gdbm_compat -Duseithreads -Duselongdouble -DEBUGGING=both'
    hint=recommended
    useposix=true
    d_sigaction=define
    useithreads=define
    usemultiplicity=define
    use64bitint=define
    use64bitall=define
    uselongdouble=define
    usemymalloc=n
    default_inc_excludes_dot=define
  Compiler:
    cc='cc'
    ccflags ='-D_REENTRANT -D_GNU_SOURCE -fwrapv -DDEBUGGING -fno-strict-aliasing -pipe -fstack-protector-strong -I/usr/local/include -D_LARGEFILE_SOURCE -D_FILE_OFFSET_BITS=64'
    optimize='-O2 -g'
    cppflags='-D_REENTRANT -D_GNU_SOURCE -fwrapv -DDEBUGGING -fno-strict-aliasing -pipe -fstack-protector-strong -I/usr/local/include'
    ccversion=''
    gccversion='9.4.0'
    gccosandvers=''
    intsize=4
    longsize=8
    ptrsize=8
    doublesize=8
    byteorder=12345678
    doublekind=3
    d_longlong=define
    longlongsize=8
    d_longdbl=define
    longdblsize=16
    longdblkind=3
    ivtype='long'
    ivsize=8
    nvtype='long double'
    nvsize=16
    Off_t='off_t'
    lseeksize=8
    alignbytes=16
    prototype=define
  Linker and Libraries:
    ld='cc'
    ldflags =' -fstack-protector-strong -L/usr/local/lib'
    libpth=/usr/local/lib /usr/lib/x86_64-linux-gnu /usr/lib /usr/lib64
    libs=-lpthread -lnsl -ldl -lm -lcrypt -lutil -lc
    perllibs=-lpthread -lnsl -ldl -lm -lcrypt -lutil -lc
    libc=libc-2.31.so
    so=so
    useshrplib=false
    libperl=libperl.a
    gnulibc_version='2.31'
  Dynamic Linking:
    dlsrc=dl_dlopen.xs
    dlext=so
    d_dlsymun=undef
    ccdlflags='-Wl,-E'
    cccdlflags='-fPIC'
    lddlflags='-shared -O2 -g -L/usr/local/lib -fstack-protector-strong'


Characteristics of this binary (from libperl): 
  Compile-time options:
    DEBUGGING
    HAS_LONG_DOUBLE
    HAS_STRTOLD
    HAS_TIMES
    MULTIPLICITY
    PERLIO_LAYERS
    PERL_COPY_ON_WRITE
    PERL_DONT_CREATE_GVSV
    PERL_HASH_FUNC_SIPHASH13
    PERL_HASH_USE_SBOX32
    PERL_MALLOC_WRAP
    PERL_OP_PARENT
    PERL_PRESERVE_IVUV
    PERL_TRACK_MEMPOOL
    PERL_USE_DEVEL
    PERL_USE_SAFE_PUTENV
    USE_64_BIT_ALL
    USE_64_BIT_INT
    USE_ITHREADS
    USE_LARGE_FILES
    USE_LOCALE
    USE_LOCALE_COLLATE
    USE_LOCALE_CTYPE
    USE_LOCALE_NUMERIC
    USE_LOCALE_TIME
    USE_LONG_DOUBLE
    USE_PERLIO
    USE_PERL_ATOF
    USE_REENTRANT_API
    USE_THREAD_SAFE_LOCALE
  Built under linux
  Compiled at Jul 22 2024 12:48:12
  %ENV:
    PERL="/tmp/basesmoker-reloperl-Omon/bin/perl"
    PERL5LIB="/tmp/loop_over_bdir-3010698-lbFv2V/Business-Shipping-DataFiles-1.02-0/blib/arch:/tmp/loop_over_bdir-3010698-lbFv2V/Business-Shipping-DataFiles-1.02-0/blib/lib:/tmp/loop_over_bdir-3010698-lbFv2V/LCFG-Build-Tools-0.9.30-0/blib/arch:/tmp/loop_over_bdir-3010698-lbFv2V/LCFG-Build-Tools-0.9.30-0/blib/lib:/tmp/loop_over_bdir-3010698-lbFv2V/Lemonldap-NG-Cli-0.2-0/blib/arch:/tmp/loop_over_bdir-3010698-lbFv2V/Lemonldap-NG-Cli-0.2-0/blib/lib:/tmp/loop_over_bdir-3010698-lbFv2V/makepp-1.19-0/blib/arch:/tmp/loop_over_bdir-3010698-lbFv2V/makepp-1.19-0/blib/lib:/tmp/loop_over_bdir-3010698-lbFv2V/LCFG-Build-Skeleton-0.5.0-0/blib/arch:/tmp/loop_over_bdir-3010698-lbFv2V/LCFG-Build-Skeleton-0.5.0-0/blib/lib:/tmp/loop_over_bdir-3010698-lbFv2V/App-rmcd-0.280-0/blib/arch:/tmp/loop_over_bdir-3010698-lbFv2V/App-rmcd-0.280-0/blib/lib:/tmp/loop_over_bdir-3010698-lbFv2V/Lingua-YaTeA-0.626-0/blib/arch:/tmp/loop_over_bdir-3010698-lbFv2V/Lingua-YaTeA-0.626-0/blib/lib:/tmp/loop_over_bdir-3010698-lbFv2V/LiquidWeb-Storm-CLI-1.03-0/blib/arch:/tmp/loop_over_bdir-3010698-lbFv2V/LiquidWeb-Storm-CLI-1.03-0/blib/lib:/tmp/loop_over_bdir-3010698-lbFv2V/Devel-Required-0.16-0/blib/arch:/tmp/loop_over_bdir-3010698-lbFv2V/Devel-Required-0.16-0/blib/lib"
    PERL5OPT=""
    PERL5_CPANPLUS_IS_RUNNING="3010707"
    PERL5_CPAN_IS_RUNNING="3010707"
    PERL_CANARY_STABILITY_NOPROMPT="1"
    PERL_MM_USE_DEFAULT="1"
    PERL_USE_UNSAFE_INC="1"
  @INC:
    /tmp/loop_over_bdir-3010698-lbFv2V/Business-Shipping-DataFiles-1.02-0/blib/arch
    /tmp/loop_over_bdir-3010698-lbFv2V/Business-Shipping-DataFiles-1.02-0/blib/lib
    /tmp/loop_over_bdir-3010698-lbFv2V/LCFG-Build-Tools-0.9.30-0/blib/arch
    /tmp/loop_over_bdir-3010698-lbFv2V/LCFG-Build-Tools-0.9.30-0/blib/lib
    /tmp/loop_over_bdir-3010698-lbFv2V/Lemonldap-NG-Cli-0.2-0/blib/arch
    /tmp/loop_over_bdir-3010698-lbFv2V/Lemonldap-NG-Cli-0.2-0/blib/lib
    /tmp/loop_over_bdir-3010698-lbFv2V/makepp-1.19-0/blib/arch
    /tmp/loop_over_bdir-3010698-lbFv2V/makepp-1.19-0/blib/lib
    /tmp/loop_over_bdir-3010698-lbFv2V/LCFG-Build-Skeleton-0.5.0-0/blib/arch
    /tmp/loop_over_bdir-3010698-lbFv2V/LCFG-Build-Skeleton-0.5.0-0/blib/lib
    /tmp/loop_over_bdir-3010698-lbFv2V/App-rmcd-0.280-0/blib/arch
    /tmp/loop_over_bdir-3010698-lbFv2V/App-rmcd-0.280-0/blib/lib
    /tmp/loop_over_bdir-3010698-lbFv2V/Lingua-YaTeA-0.626-0/blib/arch
    /tmp/loop_over_bdir-3010698-lbFv2V/Lingua-YaTeA-0.626-0/blib/lib
    /tmp/loop_over_bdir-3010698-lbFv2V/LiquidWeb-Storm-CLI-1.03-0/blib/arch
    /tmp/loop_over_bdir-3010698-lbFv2V/LiquidWeb-Storm-CLI-1.03-0/blib/lib
    /tmp/loop_over_bdir-3010698-lbFv2V/Devel-Required-0.16-0/blib/arch
    /tmp/loop_over_bdir-3010698-lbFv2V/Devel-Required-0.16-0/blib/lib
    /home/sand/src/perl/repoperls/installed-perls/host/k93focal/v5.41.2/e463/lib/site_perl/5.41.2/x86_64-linux-thread-multi-ld
    /home/sand/src/perl/repoperls/installed-perls/host/k93focal/v5.41.2/e463/lib/site_perl/5.41.2
    /home/sand/src/perl/repoperls/installed-perls/host/k93focal/v5.41.2/e463/lib/5.41.2/x86_64-linux-thread-multi-ld
    /home/sand/src/perl/repoperls/installed-perls/host/k93focal/v5.41.2/e463/lib/5.41.2
    .