CGI-Application-Plugin-Authentication v0.20 Perl 5 v5.15.0 x86_64-linux-ld

Status
Pass
From
Andreas J. König (ANDK)
Dist
CGI-Application-Plugin-Authentication v0.20
Platform
Perl 5 v5.15.0 x86_64-linux-ld
Date
2011-06-12 19:41:45
ID
014bf6dc-952c-11e0-8063-1dd1bd5b0f7c
This distribution has been tested as part of the CPAN Testers
project, supporting the Perl programming language.  See
http://wiki.cpantesters.org/ for more information or email
questions to cpan-testers-discuss@perl.org


--
Dear Nicholas Bamber,

This is a computer-generated report for CGI-Application-Plugin-Authentication-0.20
on perl 5.15.0, created by CPAN-Reporter-1.1902.

Thank you for uploading your work to CPAN.  Congratulations!
All tests were successful.

Sections of this report:

    * Tester comments
    * Program output
    * Prerequisites
    * Environment and other context

------------------------------
TESTER COMMENTS
------------------------------

Additional comments from tester:

none provided

------------------------------
PROGRAM OUTPUT
------------------------------

Output from './Build test':

t/01_basic.t ........................ ok
t/02_config.t ....................... ok
Use of qw(...) as parentheses is deprecated at /home/src/perl/repoperls/installed-perls/perl/v5.14.0-549-g464a08e/2a56/lib/site_perl/5.15.0/CGI/Session.pm line 804.
t/03_authenticate.t ................. ok
authen config warning:  parameter POST_LOGIN_URL ignored since we already have POST_LOGIN_RUNMODE at t/03_destination.t line 43
t/03_destination.t .................. ok
t/03_login_box.t .................... ok
t/03_login_box_basic.t .............. ok
t/03_login_box_other.t .............. ok
t/03_missing_color.t ................ ok
t/04_attributes.t ................... ok
t/05_autorunmode.t .................. ok
# The following tests have some small time delays
t/06_timeout.t ...................... ok
t/07_protected_runmodes.t ........... ok
Use of uninitialized value in lc at /home/sand/.cpan/build/CGI-Application-Plugin-Authentication-0.20-otSRt8/blib/lib/CGI/Application/Plugin/Authentication/Driver/Filter/crypt.pm line 18.
Use of uninitialized value in lc at /home/sand/.cpan/build/CGI-Application-Plugin-Authentication-0.20-otSRt8/blib/lib/CGI/Application/Plugin/Authentication/Driver/Filter/crypt.pm line 18.
Use of uninitialized value in lc at /home/sand/.cpan/build/CGI-Application-Plugin-Authentication-0.20-otSRt8/blib/lib/CGI/Application/Plugin/Authentication/Driver/Filter/crypt.pm line 18.
t/40_encoder_crypt.t ................ ok
t/40_encoder_lc.t ................... ok
Use of uninitialized value in lc at /home/sand/.cpan/build/CGI-Application-Plugin-Authentication-0.20-otSRt8/blib/lib/CGI/Application/Plugin/Authentication/Driver/Filter/md5.pm line 28.
Use of uninitialized value in lc at /home/sand/.cpan/build/CGI-Application-Plugin-Authentication-0.20-otSRt8/blib/lib/CGI/Application/Plugin/Authentication/Driver/Filter/md5.pm line 28.
Use of uninitialized value in lc at /home/sand/.cpan/build/CGI-Application-Plugin-Authentication-0.20-otSRt8/blib/lib/CGI/Application/Plugin/Authentication/Driver/Filter/md5.pm line 28.
t/40_encoder_md5.t .................. ok
Use of uninitialized value in lc at /home/sand/.cpan/build/CGI-Application-Plugin-Authentication-0.20-otSRt8/blib/lib/CGI/Application/Plugin/Authentication/Driver/Filter/sha1.pm line 28.
Use of uninitialized value in lc at /home/sand/.cpan/build/CGI-Application-Plugin-Authentication-0.20-otSRt8/blib/lib/CGI/Application/Plugin/Authentication/Driver/Filter/sha1.pm line 28.
Use of uninitialized value in lc at /home/sand/.cpan/build/CGI-Application-Plugin-Authentication-0.20-otSRt8/blib/lib/CGI/Application/Plugin/Authentication/Driver/Filter/sha1.pm line 28.
t/40_encoder_sha1.t ................. ok
t/40_encoder_strip.t ................ ok
t/40_encoder_uc.t ................... ok
Use of uninitialized value in lc at /home/sand/.cpan/build/CGI-Application-Plugin-Authentication-0.20-otSRt8/blib/lib/CGI/Application/Plugin/Authentication/Driver/Filter/md5.pm line 28.
Use of uninitialized value in lc at /home/sand/.cpan/build/CGI-Application-Plugin-Authentication-0.20-otSRt8/blib/lib/CGI/Application/Plugin/Authentication/Driver/Filter/sha1.pm line 28.
t/50_driver_missing_modules.t ....... ok
t/50_driver_undefined.t ............. ok
t/51_driver_dummy.t ................. ok
t/52_driver_generic.t ............... ok
Use of uninitialized value in lc at /home/sand/.cpan/build/CGI-Application-Plugin-Authentication-0.20-otSRt8/blib/lib/CGI/Application/Plugin/Authentication/Driver/Filter/crypt.pm line 18.
Use of uninitialized value in lc at /home/sand/.cpan/build/CGI-Application-Plugin-Authentication-0.20-otSRt8/blib/lib/CGI/Application/Plugin/Authentication/Driver/Filter/crypt.pm line 18.
Use of uninitialized value in lc at /home/sand/.cpan/build/CGI-Application-Plugin-Authentication-0.20-otSRt8/blib/lib/CGI/Application/Plugin/Authentication/Driver/Filter/md5.pm line 28.
Use of uninitialized value in lc at /home/sand/.cpan/build/CGI-Application-Plugin-Authentication-0.20-otSRt8/blib/lib/CGI/Application/Plugin/Authentication/Driver/Filter/crypt.pm line 18.
Use of uninitialized value in lc at /home/sand/.cpan/build/CGI-Application-Plugin-Authentication-0.20-otSRt8/blib/lib/CGI/Application/Plugin/Authentication/Driver/Filter/md5.pm line 28.
Use of uninitialized value in lc at /home/sand/.cpan/build/CGI-Application-Plugin-Authentication-0.20-otSRt8/blib/lib/CGI/Application/Plugin/Authentication/Driver/Filter/md5.pm line 28.
Use of uninitialized value in lc at /home/sand/.cpan/build/CGI-Application-Plugin-Authentication-0.20-otSRt8/blib/lib/CGI/Application/Plugin/Authentication/Driver/Filter/crypt.pm line 18.
Use of uninitialized value in lc at /home/sand/.cpan/build/CGI-Application-Plugin-Authentication-0.20-otSRt8/blib/lib/CGI/Application/Plugin/Authentication/Driver/Filter/crypt.pm line 18.
t/53_driver_dbi.t ................... ok
t/53_driver_dbi_bad.t ............... ok
t/53_driver_dbi_die.t ............... ok
t/53_driver_dbi_syntax.t ............ ok
t/54_driver_htpasswd.t .............. ok
t/55_driver_authensimple.t .......... skipped: Authen::Simple required for this test
t/55_driver_authensimple_die.t ...... ok
t/55_driver_missing_authensimple.t .. ok
Use of qw(...) as parentheses is deprecated at /home/src/perl/repoperls/installed-perls/perl/v5.14.0-549-g464a08e/2a56/lib/site_perl/5.15.0/CGI/Session.pm line 804.
t/60_parsimony.t .................... ok
t/60_store.t ........................ ok
t/60_store_cookie.t ................. ok
Use of qw(...) as parentheses is deprecated at /home/src/perl/repoperls/installed-perls/perl/v5.14.0-549-g464a08e/2a56/lib/site_perl/5.15.0/CGI/Session.pm line 804.
t/60_store_session.t ................ ok
t/61_cookie_badargs.t ............... ok
t/61_store_cookie_noexpiry.t ........ ok
t/61_store_cookie_other.t ........... ok
t/70_action_dispatch.t .............. skipped: CGI::Application::Plugin::ActionDispatch required
t/80_devpopup.t ..................... ok
t/98_pod.t .......................... skipped: Author test.  Set $ENV{TEST_AUTHOR} to a true value to run.
t/99_pod_coverage.t ................. skipped: Author test.  Set $ENV{TEST_AUTHOR} to a true value to run.
t/changes.t ......................... skipped: Author test.  Set $ENV{TEST_AUTHOR} to a true value to run.
t/manifest.t ........................ skipped: Author test.  Set $ENV{TEST_AUTHOR} to a true value to run.
t/podspell.t ........................ skipped: Author test.  Set $ENV{TEST_AUTHOR} to a true value to run.
t/prereq.t .......................... skipped: Author test.  Set $ENV{TEST_PREREQ} to a true value to run.
All tests successful.
Files=45, Tests=571, 13 wallclock secs ( 0.25 usr  0.05 sys +  4.19 cusr  0.58 csys =  5.07 CPU)
Result: PASS

------------------------------
PREREQUISITES
------------------------------

Prerequisite modules loaded:

requires:

    Module                Need  Have      
    --------------------- ----- ----------
    Attribute::Handlers   0     0.91      
    CGI                   3.16  3.55      
    CGI::Application      4     4.31      
    Class::ISA            0     0.36      
    Digest::SHA           0     5.62      
    MIME::Base64          0     3.13      
    perl                  5.006 5.015000  
    Scalar::Util          0     1.23      
    UNIVERSAL::require    0     0.13      

build_requires:

    Module                Need  Have      
    --------------------- ----- ----------
    Readonly              0     1.03      
    Test::Exception       0     0.31      
    Test::MockObject      0     1.20110606
    Test::More            0.93  0.98      
    Test::NoWarnings      0     1.02      
    Test::Regression      0     0.06      
    Test::Taint           0     1.04      
    Test::Warn            0.11  0.23      
    Test::Without::Module 0     0.17      

configure_requires:

    Module                Need  Have      
    --------------------- ----- ----------
    Module::Build         0.38  0.3800    


------------------------------
ENVIRONMENT AND OTHER CONTEXT
------------------------------

Environment variables:

    LANG = en_US.UTF-8
    LANGUAGE = en_US:en
    PATH = /usr/lib/ccache:/home/sand/bin:/usr/local/bin:/usr/bin:/bin:/usr/bin/X11:/usr/games:/usr/local/perl/bin:/usr/X11/bin:/sbin:/usr/sbin
    PERL5LIB = /home/sand/.cpan/build/ProjectBuilder-0.11.3-aBxeP9/blib/arch:/home/sand/.cpan/build/ProjectBuilder-0.11.3-aBxeP9/blib/lib:/home/sand/.cpan/build/Mail-SpamAssassin-2.43-DlTWrL/blib/arch:/home/sand/.cpan/build/Mail-SpamAssassin-2.43-DlTWrL/blib/lib
    PERL5OPT = 
    PERL5_CPANPLUS_IS_RUNNING = 30398
    PERL5_CPAN_IS_RUNNING = 30398
    SHELL = /usr/bin/zsh
    TERM = screen

Perl special variables (and OS-specific diagnostics, for MSWin32):

    $^X = /home/sand/src/perl/repoperls/installed-perls/perl/v5.14.0-549-g464a08e/2a56/bin/perl
    $UID/$EUID = 1001 / 1001
    $GID = 1001 1001
    $EGID = 1001 1001

Perl module toolchain versions installed:

    Module              Have    
    ------------------- --------
    CPAN                1.9600  
    Cwd                 3.36    
    ExtUtils::CBuilder  0.280204
    ExtUtils::Command   1.17    
    ExtUtils::Install   1.56    
    ExtUtils::MakeMaker 6.57_05 
    ExtUtils::Manifest  1.58    
    ExtUtils::ParseXS   2.2210  
    File::Spec          3.33    
    Module::Build       0.3800  
    Module::Signature   0.68    
    Test::Harness       3.23    
    Test::More          0.98    
    YAML                0.73    
    YAML::Syck          1.17    
    version             0.91    


--

Summary of my perl5 (revision 5 version 15 subversion 0) configuration:
  Commit id: 464a08e7ffded0873dfb1539fceae173c22a1090
  Platform:
    osname=linux, osvers=2.6.38-2-amd64, archname=x86_64-linux-thread-multi-ld
    uname='linux k81 2.6.38-2-amd64 #1 smp sun may 8 13:51:57 utc 2011 x86_64 gnulinux '
    config_args='-Dprefix=/home/src/perl/repoperls/installed-perls/perl/v5.14.0-549-g464a08e/2a56 -Dinstallusrbinperl=n -Uversiononly -Dusedevel -des -Ui_db -Duseithreads -Duselongdouble -DDEBUGGING=-g'
    hint=recommended, useposix=true, d_sigaction=define
    useithreads=define, usemultiplicity=define
    useperlio=define, d_sfio=undef, uselargefiles=define, usesocks=undef
    use64bitint=define, use64bitall=define, uselongdouble=define
    usemymalloc=n, bincompat5005=undef
  Compiler:
    cc='cc', ccflags ='-D_REENTRANT -D_GNU_SOURCE -fno-strict-aliasing -pipe -fstack-protector -I/usr/local/include -D_LARGEFILE_SOURCE -D_FILE_OFFSET_BITS=64',
    optimize='-O2 -g',
    cppflags='-D_REENTRANT -D_GNU_SOURCE -fno-strict-aliasing -pipe -fstack-protector -I/usr/local/include'
    ccversion='', gccversion='4.6.1 20110526 (prerelease)', gccosandvers=''
    intsize=4, longsize=8, ptrsize=8, doublesize=8, byteorder=12345678
    d_longlong=define, longlongsize=8, d_longdbl=define, longdblsize=16
    ivtype='long', ivsize=8, nvtype='long double', nvsize=16, Off_t='off_t', lseeksize=8
    alignbytes=16, prototype=define
  Linker and Libraries:
    ld='cc', ldflags =' -fstack-protector -L/usr/local/lib'
    libpth=/usr/local/lib /lib/../lib /usr/lib/../lib /lib /usr/lib /usr/lib/x86_64-linux-gnu /lib64 /usr/lib64
    libs=-lnsl -ldb -ldl -lm -lcrypt -lutil -lpthread -lc
    perllibs=-lnsl -ldl -lm -lcrypt -lutil -lpthread -lc
    libc=/lib/libc-2.13.so, so=so, useshrplib=false, libperl=libperl.a
    gnulibc_version='2.13'
  Dynamic Linking:
    dlsrc=dl_dlopen.xs, dlext=so, d_dlsymun=undef, ccdlflags='-Wl,-E'
    cccdlflags='-fPIC', lddlflags='-shared -O2 -g -L/usr/local/lib -fstack-protector'


Characteristics of this binary (from libperl): 
  Compile-time options: MULTIPLICITY PERL_DONT_CREATE_GVSV
                        PERL_IMPLICIT_CONTEXT PERL_MALLOC_WRAP
                        PERL_PRESERVE_IVUV PERL_USE_DEVEL USE_64_BIT_ALL
                        USE_64_BIT_INT USE_ITHREADS USE_LARGE_FILES
                        USE_LOCALE USE_LOCALE_COLLATE USE_LOCALE_CTYPE
                        USE_LOCALE_NUMERIC USE_LONG_DOUBLE USE_PERLIO
                        USE_PERL_ATOF USE_REENTRANT_API
  Built under linux
  Compiled at Jun 12 2011 10:01:33
  %ENV:
    PERL5LIB="/home/sand/.cpan/build/ProjectBuilder-0.11.3-aBxeP9/blib/arch:/home/sand/.cpan/build/ProjectBuilder-0.11.3-aBxeP9/blib/lib:/home/sand/.cpan/build/Mail-SpamAssassin-2.43-DlTWrL/blib/arch:/home/sand/.cpan/build/Mail-SpamAssassin-2.43-DlTWrL/blib/lib"
    PERL5OPT=""
    PERL5_CPANPLUS_IS_RUNNING="30398"
    PERL5_CPAN_IS_RUNNING="30398"
  @INC:
    /home/sand/.cpan/build/ProjectBuilder-0.11.3-aBxeP9/blib/arch
    /home/sand/.cpan/build/ProjectBuilder-0.11.3-aBxeP9/blib/lib
    /home/sand/.cpan/build/Mail-SpamAssassin-2.43-DlTWrL/blib/arch
    /home/sand/.cpan/build/Mail-SpamAssassin-2.43-DlTWrL/blib/lib
    /home/src/perl/repoperls/installed-perls/perl/v5.14.0-549-g464a08e/2a56/lib/site_perl/5.15.0/x86_64-linux-thread-multi-ld
    /home/src/perl/repoperls/installed-perls/perl/v5.14.0-549-g464a08e/2a56/lib/site_perl/5.15.0
    /home/src/perl/repoperls/installed-perls/perl/v5.14.0-549-g464a08e/2a56/lib/5.15.0/x86_64-linux-thread-multi-ld
    /home/src/perl/repoperls/installed-perls/perl/v5.14.0-549-g464a08e/2a56/lib/5.15.0
    .