Crypt-OpenSSL-DSA v0.18 Perl 5 v5.20.0 i686-linux
- Status
- Pass
- From
- NONAME
- Dist
-
Crypt-OpenSSL-DSA v0.18
- Platform
- Perl 5 v5.20.0 i686-linux
- Date
- 2017-01-13 06:53:36
- ID
- 0185a078-d95d-11e6-a47e-30a0143a38fe
This distribution has been tested as part of the CPAN Testers
project, supporting the Perl programming language. See
http://wiki.cpantesters.org/ for more information or email
questions to cpan-testers-discuss@perl.org
--
Dear kmx,
This is a computer-generated report for Crypt-OpenSSL-DSA-0.18
on perl 5.20.0, created by CPAN-Reporter-1.2018.
Thank you for uploading your work to CPAN. Congratulations!
All tests were successful.
Sections of this report:
* Tester comments
* Program output
* Prerequisites
* Environment and other context
------------------------------
TESTER COMMENTS
------------------------------
Additional comments from tester:
none provided
------------------------------
PROGRAM OUTPUT
------------------------------
Output from '/usr/bin/make test':
"/usr/bin/perl" -MExtUtils::Command::MM -e 'cp_nonempty' -- DSA.bs blib/arch/auto/Crypt/OpenSSL/DSA/DSA.bs 644
PERL_DL_NONLAZY=1 "/usr/bin/perl" "-MExtUtils::Command::MM" "-MTest::Harness" "-e" "undef *Test::Harness::Switches; test_harness(0, 'blib/lib', 'blib/arch')" t/*.t
t/00-use.t ............. ok
t/10-selftest.t ........ ok
t/90-openssl-compat.t .. ok
All tests successful.
Files=3, Tests=121, 1 wallclock secs ( 0.09 usr 0.01 sys + 0.90 cusr 0.07 csys = 1.07 CPU)
Result: PASS
------------------------------
PREREQUISITES
------------------------------
Prerequisite modules loaded:
requires:
Module Need Have
------------------- ----- --------
perl 5.006 5.020000
build_requires:
Module Need Have
------------------- ----- --------
ExtUtils::MakeMaker 0 7.24
configure_requires:
Module Need Have
------------------- ----- --------
ExtUtils::MakeMaker 0 7.24
------------------------------
ENVIRONMENT AND OTHER CONTEXT
------------------------------
Environment variables:
LANG = ru_RU.UTF-8
LD_LIBRARY_PATH = /opt/gtk/lib
NONINTERACTIVE_TESTING = 1
PATH = /root/.opam/system/bin:/root/bin:/usr/local/sbin:/usr/local/bin:/bin:/usr/bin:/sbin:/usr/sbin:/opt/fop:/opt/Xapian/bin:/opt/blender/bin:/opt/dia/bin:/opt/texlive/2014/bin:/opt/texlive/2014/bin/i386-linux:/usr/local/mnogosearch/bin:/usr/local/firebird/bin:/opt/kde/bin:/opt/netpbm/bin:/opt/netpbm/sbin:/opt/jdk/bin:/opt/ant/bin:/opt/qt4/bin:/opt/wxWidgets/bin:/usr/X11R6/bin
PERL5LIB = /root/.opam/system/lib/perl5:
PERL5OPT =
PERL5_CPANPLUS_IS_RUNNING = 2716
PERL5_CPAN_IS_RUNNING = 2716
PERL_MM_USE_DEFAULT = 1
SHELL = /bin/bash
TERM = linux
Perl special variables (and OS-specific diagnostics, for MSWin32):
$^X = /usr/bin/perl
$UID/$EUID = 0 / 0
$GID = 0 0 70 1002
$EGID = 0 0 70 1002
Perl module toolchain versions installed:
Module Have
------------------- --------
CPAN 2.14
CPAN::Meta 2.150010
Cwd 3.62
ExtUtils::CBuilder 0.280224
ExtUtils::Command 7.24
ExtUtils::Install 2.04
ExtUtils::MakeMaker 7.24
ExtUtils::Manifest 1.70
ExtUtils::ParseXS 3.30
File::Spec 3.62
JSON 2.90
JSON::PP 2.27400
Module::Build 0.4220
Module::Signature n/a
Parse::CPAN::Meta 2.150010
Test::Harness 3.36
Test::More 1.302062
YAML 1.18
YAML::Syck n/a
version 0.9917
--
Summary of my perl5 (revision 5 version 20 subversion 0) configuration:
Platform:
osname=linux, osvers=2.6.32.8.00, archname=i686-linux
uname='linux lfs6 2.6.32.8.00 #1 smp fri jan 24 11:04:49 msk 2014 i686 gnulinux '
config_args='-des -Dprefix=/usr -Dvendorprefix=/usr -Dman1dir=/usr/share/man/man1 -Dman3dir=/usr/share/man/man3 -Dpager=/usr/bin/less -isR -Duseshrplib'
hint=recommended, useposix=true, d_sigaction=define
useithreads=undef, usemultiplicity=undef
use64bitint=undef, use64bitall=undef, uselongdouble=undef
usemymalloc=n, bincompat5005=undef
Compiler:
cc='cc', ccflags ='-fwrapv -fno-strict-aliasing -pipe -fstack-protector -I/usr/local/include -D_LARGEFILE_SOURCE -D_FILE_OFFSET_BITS=64',
optimize='-O2',
cppflags='-fwrapv -fno-strict-aliasing -pipe -fstack-protector -I/usr/local/include'
ccversion='', gccversion='4.9.1', gccosandvers=''
intsize=4, longsize=4, ptrsize=4, doublesize=8, byteorder=1234
d_longlong=define, longlongsize=8, d_longdbl=define, longdblsize=12
ivtype='long', ivsize=4, nvtype='double', nvsize=8, Off_t='off_t', lseeksize=8
alignbytes=4, prototype=define
Linker and Libraries:
ld='cc', ldflags =' -fstack-protector -L/usr/local/lib'
libpth=/usr/local/lib /usr/lib/gcc/i686-pc-linux-gnu/4.9.1/include-fixed /usr/lib /lib
libs=-lnsl -lgdbm -ldl -lm -lcrypt -lutil -lc -lgdbm_compat
perllibs=-lnsl -ldl -lm -lcrypt -lutil -lc
libc=libc-2.20.so, so=so, useshrplib=true, libperl=libperl.so
gnulibc_version='2.20'
Dynamic Linking:
dlsrc=dl_dlopen.xs, dlext=so, d_dlsymun=undef, ccdlflags='-Wl,-E -Wl,-rpath,/usr/lib/perl5/5.20.0/i686-linux/CORE'
cccdlflags='-fPIC', lddlflags='-shared -O2 -L/usr/local/lib -fstack-protector'
Characteristics of this binary (from libperl):
Compile-time options: HAS_TIMES PERLIO_LAYERS PERL_DONT_CREATE_GVSV
PERL_HASH_FUNC_ONE_AT_A_TIME_HARD PERL_MALLOC_WRAP
PERL_NEW_COPY_ON_WRITE PERL_PRESERVE_IVUV
USE_LARGE_FILES USE_LOCALE USE_LOCALE_COLLATE
USE_LOCALE_CTYPE USE_LOCALE_NUMERIC USE_PERLIO
USE_PERL_ATOF
Built under linux
Compiled at Oct 24 2014 07:15:21
%ENV:
PERL5LIB="/root/.opam/system/lib/perl5:"
PERL5OPT=""
PERL5_CPANPLUS_IS_RUNNING="2716"
PERL5_CPAN_IS_RUNNING="2716"
PERL_MM_USE_DEFAULT="1"
@INC:
/root/.opam/system/lib/perl5
/usr/lib/perl5/site_perl/5.20.0/i686-linux
/usr/lib/perl5/site_perl/5.20.0
/usr/lib/perl5/vendor_perl/5.20.0/i686-linux
/usr/lib/perl5/vendor_perl/5.20.0
/usr/lib/perl5/5.20.0/i686-linux
/usr/lib/perl5/5.20.0
.