TAP-Harness-JUnit v0.37 Perl 5 v5.17.3 x86_64-linux-ld
- Status
- Pass
- From
- Andreas J. König (ANDK)
- Dist
-
TAP-Harness-JUnit v0.37
- Platform
- Perl 5 v5.17.3 x86_64-linux-ld
- Date
- 2012-08-05 23:26:39
- ID
- 01a07864-df55-11e1-8174-143885400d13
This distribution has been tested as part of the CPAN Testers
project, supporting the Perl programming language. See
http://wiki.cpantesters.org/ for more information or email
questions to cpan-testers-discuss@perl.org
--
Dear Jeff Lavallee,
This is a computer-generated report for TAP-Harness-JUnit-0.37
on perl 5.17.3, created by CPAN-Reporter-1.2006.
Thank you for uploading your work to CPAN. Congratulations!
All tests were successful.
Sections of this report:
* Tester comments
* Program output
* Prerequisites
* Environment and other context
------------------------------
TESTER COMMENTS
------------------------------
Additional comments from tester:
this report is from an automated smoke testing program
and was not reviewed by a human for accuracy
------------------------------
PROGRAM OUTPUT
------------------------------
Output from './Build test':
Unescaped left brace in regex is deprecated, passed through in regex; marked by <-- HERE in m/\${ <-- HERE ([\w.]+)}/ at /home/src/perl/repoperls/installed-perls/perl/v5.17.2-200-gbdf6ae4/9980/lib/site_perl/5.17.3/XML/Simple.pm line 1013.
Unescaped left brace in regex is deprecated, passed through in regex; marked by <-- HERE in m/\${ <-- HERE (\w+)}/ at /home/src/perl/repoperls/installed-perls/perl/v5.17.2-200-gbdf6ae4/9980/lib/site_perl/5.17.3/XML/Simple.pm line 1050.
t/large_suite.t ........ ok
Unescaped left brace in regex is deprecated, passed through in regex; marked by <-- HERE in m/\${ <-- HERE ([\w.]+)}/ at /home/src/perl/repoperls/installed-perls/perl/v5.17.2-200-gbdf6ae4/9980/lib/site_perl/5.17.3/XML/Simple.pm line 1013.
Unescaped left brace in regex is deprecated, passed through in regex; marked by <-- HERE in m/\${ <-- HERE (\w+)}/ at /home/src/perl/repoperls/installed-perls/perl/v5.17.2-200-gbdf6ae4/9980/lib/site_perl/5.17.3/XML/Simple.pm line 1050.
t/outputs.t ............ ok
Unescaped left brace in regex is deprecated, passed through in regex; marked by <-- HERE in m/\${ <-- HERE ([\w.]+)}/ at /home/src/perl/repoperls/installed-perls/perl/v5.17.2-200-gbdf6ae4/9980/lib/site_perl/5.17.3/XML/Simple.pm line 1013.
Unescaped left brace in regex is deprecated, passed through in regex; marked by <-- HERE in m/\${ <-- HERE (\w+)}/ at /home/src/perl/repoperls/installed-perls/perl/v5.17.2-200-gbdf6ae4/9980/lib/site_perl/5.17.3/XML/Simple.pm line 1050.
t/outputs_with_time.t .. ok
Unescaped left brace in regex is deprecated, passed through in regex; marked by <-- HERE in m/\${ <-- HERE ([\w.]+)}/ at /home/src/perl/repoperls/installed-perls/perl/v5.17.2-200-gbdf6ae4/9980/lib/site_perl/5.17.3/XML/Simple.pm line 1013.
Unescaped left brace in regex is deprecated, passed through in regex; marked by <-- HERE in m/\${ <-- HERE (\w+)}/ at /home/src/perl/repoperls/installed-perls/perl/v5.17.2-200-gbdf6ae4/9980/lib/site_perl/5.17.3/XML/Simple.pm line 1050.
t/package.t ............ ok
Unescaped left brace in regex is deprecated, passed through in regex; marked by <-- HERE in m/\${ <-- HERE ([\w.]+)}/ at /home/src/perl/repoperls/installed-perls/perl/v5.17.2-200-gbdf6ae4/9980/lib/site_perl/5.17.3/XML/Simple.pm line 1013.
Unescaped left brace in regex is deprecated, passed through in regex; marked by <-- HERE in m/\${ <-- HERE (\w+)}/ at /home/src/perl/repoperls/installed-perls/perl/v5.17.2-200-gbdf6ae4/9980/lib/site_perl/5.17.3/XML/Simple.pm line 1050.
t/use.t ................ ok
Unescaped left brace in regex is deprecated, passed through in regex; marked by <-- HERE in m/\${ <-- HERE ([\w.]+)}/ at /home/src/perl/repoperls/installed-perls/perl/v5.17.2-200-gbdf6ae4/9980/lib/site_perl/5.17.3/XML/Simple.pm line 1013.
Unescaped left brace in regex is deprecated, passed through in regex; marked by <-- HERE in m/\${ <-- HERE (\w+)}/ at /home/src/perl/repoperls/installed-perls/perl/v5.17.2-200-gbdf6ae4/9980/lib/site_perl/5.17.3/XML/Simple.pm line 1050.
t/xmlfile_default.t .... ok
All tests successful.
Files=6, Tests=35, 3 wallclock secs ( 0.04 usr 0.02 sys + 1.97 cusr 0.23 csys = 2.26 CPU)
Result: PASS
------------------------------
PREREQUISITES
------------------------------
Prerequisite modules loaded:
requires:
Module Need Have
------------- ---- -------
Encode 0 2.45
File::Temp 0 0.22
Scalar::Util 0 1.25
TAP::Harness 3.05 3.25_01
TAP::Parser 0 3.25_01
Test::More 0 0.98
XML::Simple 0 2.20
build_requires:
Module Need Have
------------- ---- -------
Test::Deep 0 0.110
configure_requires:
Module Need Have
------------- ---- -------
Module::Build 0.36 0.4002
------------------------------
ENVIRONMENT AND OTHER CONTEXT
------------------------------
Environment variables:
AUTOMATED_TESTING = 1
LANG = en_US.UTF-8
LANGUAGE = en_US:en
PATH = /home/sand/bin:/usr/local/bin:/usr/bin:/bin:/usr/bin/X11:/usr/games:/usr/local/perl/bin:/usr/X11/bin:/sbin:/usr/sbin
PERL5LIB =
PERL5OPT =
PERL5_CPANPLUS_IS_RUNNING = 4430
PERL5_CPAN_IS_RUNNING = 4430
PERL_MM_USE_DEFAULT = 1
SHELL = /usr/bin/zsh
TERM = screen
Perl special variables (and OS-specific diagnostics, for MSWin32):
$^X = /mnt/k75/homesand/src/perl/repoperls/installed-perls/perl/v5.17.2-200-gbdf6ae4/9980/bin/perl
$UID/$EUID = 1005 / 1005
$GID = 1005 1005
$EGID = 1005 1005
Perl module toolchain versions installed:
Module Have
------------------- --------
CPAN 1.9800
CPAN::Meta 2.120921
Cwd 3.39_02
ExtUtils::CBuilder 0.280208
ExtUtils::Command 1.17
ExtUtils::Install 1.58
ExtUtils::MakeMaker 6.63_02
ExtUtils::Manifest 1.61
ExtUtils::ParseXS 3.17
File::Spec 3.39_02
JSON 2.53
JSON::PP 2.27200
Module::Build 0.4002
Module::Signature 0.68
Parse::CPAN::Meta 1.4404
Test::Harness 3.25_01
Test::More 0.98
YAML 0.84
YAML::Syck 1.20
version 0.99
--
Summary of my perl5 (revision 5 version 17 subversion 3) configuration:
Commit id: bdf6ae426d6ae070fc7ae8b962dfd48388954b16
Platform:
osname=linux, osvers=3.2.0-3-amd64, archname=x86_64-linux-thread-multi
uname='linux k83 3.2.0-3-amd64 #1 smp mon jul 23 02:45:17 utc 2012 x86_64 gnulinux '
config_args='-Dprefix=/home/src/perl/repoperls/installed-perls/perl/v5.17.2-200-gbdf6ae4/9980 -Dmyhostname=k83 -Dinstallusrbinperl=n -Uversiononly -Dusedevel -des -Ui_db -Duseithreads -Uuselongdouble -DDEBUGGING=-g'
hint=recommended, useposix=true, d_sigaction=define
useithreads=define, usemultiplicity=define
useperlio=define, d_sfio=undef, uselargefiles=define, usesocks=undef
use64bitint=define, use64bitall=define, uselongdouble=undef
usemymalloc=n, bincompat5005=undef
Compiler:
cc='cc', ccflags ='-D_REENTRANT -D_GNU_SOURCE -fno-strict-aliasing -pipe -fstack-protector -I/usr/local/include -D_LARGEFILE_SOURCE -D_FILE_OFFSET_BITS=64',
optimize='-O2 -g',
cppflags='-D_REENTRANT -D_GNU_SOURCE -fno-strict-aliasing -pipe -fstack-protector -I/usr/local/include'
ccversion='', gccversion='4.7.1', gccosandvers=''
intsize=4, longsize=8, ptrsize=8, doublesize=8, byteorder=12345678
d_longlong=define, longlongsize=8, d_longdbl=define, longdblsize=16
ivtype='long', ivsize=8, nvtype='double', nvsize=8, Off_t='off_t', lseeksize=8
alignbytes=8, prototype=define
Linker and Libraries:
ld='cc', ldflags =' -fstack-protector -L/usr/local/lib'
libpth=/usr/local/lib /lib/x86_64-linux-gnu /lib/../lib /usr/lib/x86_64-linux-gnu /usr/lib/../lib /lib /usr/lib
libs=-lnsl -ldb -ldl -lm -lcrypt -lutil -lpthread -lc
perllibs=-lnsl -ldl -lm -lcrypt -lutil -lpthread -lc
libc=, so=so, useshrplib=false, libperl=libperl.a
gnulibc_version='2.13'
Dynamic Linking:
dlsrc=dl_dlopen.xs, dlext=so, d_dlsymun=undef, ccdlflags='-Wl,-E'
cccdlflags='-fPIC', lddlflags='-shared -O2 -g -L/usr/local/lib -fstack-protector'
Characteristics of this binary (from libperl):
Compile-time options: HAS_TIMES MULTIPLICITY PERLIO_LAYERS
PERL_DONT_CREATE_GVSV PERL_IMPLICIT_CONTEXT
PERL_MALLOC_WRAP PERL_PRESERVE_IVUV PERL_USE_DEVEL
USE_64_BIT_ALL USE_64_BIT_INT USE_ITHREADS
USE_LARGE_FILES USE_LOCALE USE_LOCALE_COLLATE
USE_LOCALE_CTYPE USE_LOCALE_NUMERIC USE_PERLIO
USE_PERL_ATOF USE_REENTRANT_API
Built under linux
Compiled at Aug 2 2012 20:54:49
%ENV:
PERL5LIB=""
PERL5OPT=""
PERL5_CPANPLUS_IS_RUNNING="4430"
PERL5_CPAN_IS_RUNNING="4430"
PERL_MM_USE_DEFAULT="1"
@INC:
/home/src/perl/repoperls/installed-perls/perl/v5.17.2-200-gbdf6ae4/9980/lib/site_perl/5.17.3/x86_64-linux-thread-multi
/home/src/perl/repoperls/installed-perls/perl/v5.17.2-200-gbdf6ae4/9980/lib/site_perl/5.17.3
/home/src/perl/repoperls/installed-perls/perl/v5.17.2-200-gbdf6ae4/9980/lib/5.17.3/x86_64-linux-thread-multi
/home/src/perl/repoperls/installed-perls/perl/v5.17.2-200-gbdf6ae4/9980/lib/5.17.3
.