Test-Run-CmdLine v0.0131 Perl 5 v5.20.3 x86_64-linux

Status
Pass
From
Slaven Rezić (SREZIC)
Dist
Test-Run-CmdLine v0.0131
Platform
Perl 5 v5.20.3 x86_64-linux
Date
2016-05-21 11:13:12
ID
01a85e9c-1f45-11e6-a05f-fca80957a6d8
This distribution has been tested as part of the CPAN Testers
project, supporting the Perl programming language.  See
http://wiki.cpantesters.org/ for more information or email
questions to cpan-testers-discuss@perl.org


--
Dear Shlomi Fish,

This is a computer-generated report for Test-Run-CmdLine-0.0131
on perl 5.20.3, created by CPAN-Reporter-1.2017.

Thank you for uploading your work to CPAN.  Congratulations!
All tests were successful.

Sections of this report:

    * Tester comments
    * Program output
    * Prerequisites
    * Environment and other context

------------------------------
TESTER COMMENTS
------------------------------

Additional comments from tester:

none provided

------------------------------
PROGRAM OUTPUT
------------------------------

Output from './Build test':

# Testing Test::Run::CmdLine 0.0131, Perl 5.020003, /bbbike/perl-5.20.3/bin/perl
t/00-load.t ............... ok
t/01-class-name.t ......... ok
t/02-run.t ................ ok
t/03-prove.t .............. ok
t/04-t-r-cl-iface.t ....... ok
t/05-prove-cl-process.t ... ok
t/07-trap-prove-app.t ..... ok
t/08-collect-plugins.t .... ok
t/09-yaml-args.t .......... ok
t/cpan-changes.t .......... ok
t/pod-coverage.t .......... ok
t/pod.t ................... ok
t/style-trailing-space.t .. skipped: Test::TrailingSpace required for trailing space test.
All tests successful.
Files=13, Tests=87, 23 wallclock secs ( 0.04 usr  0.08 sys + 18.05 cusr  4.38 csys = 22.55 CPU)
Result: PASS

------------------------------
PREREQUISITES
------------------------------

Prerequisite modules loaded:

requires:

    Module                Need   Have    
    --------------------- ------ --------
    Moose                 0      2.1801  
    MooseX::Getopt        0.26   0.69    
    MooseX::Getopt::Basic 0      0.69    
    parent                0      0.234   
    perl                  5.008  5.020003
    Test::Run::Core       0.0126 0.0304  
    UNIVERSAL::require    0      0.18    
    YAML::XS              0      0.62    

build_requires:

    Module                Need   Have    
    --------------------- ------ --------
    Test::More            0      1.302015
    Test::Trap            0      0.3.2   

configure_requires:

    Module                Need   Have    
    --------------------- ------ --------
    Module::Build         0.36   0.4218  


------------------------------
ENVIRONMENT AND OTHER CONTEXT
------------------------------

Environment variables:

    LANG = C
    PATH = /usr/local/bin:/usr/bin:/bin:/usr/local/sbin:/usr/sbin:/sbin:/home/cpansand/bin/linux-gnu:/home/cpansand/bin/sh:/home/cpansand/bin:/usr/games:/home/cpansand/devel:/home/eserte/src/srezic-misc/scripts
    PERL5LIB = /home/cpansand/.cpan/build/2016052109/Test-Run-0.0304-SPlfHd/blib/arch:/home/cpansand/.cpan/build/2016052109/Test-Run-0.0304-SPlfHd/blib/lib:/home/cpansand/.cpan/build/2016052109/Text-Sprintf-Named-0.0402-q0uzPf/blib/arch:/home/cpansand/.cpan/build/2016052109/Text-Sprintf-Named-0.0402-q0uzPf/blib/lib:/home/cpansand/.cpan/build/2016052109/CGI-Compile-0.21-yGqGFR/blib/arch:/home/cpansand/.cpan/build/2016052109/CGI-Compile-0.21-yGqGFR/blib/lib:/home/cpansand/.cpan/build/2016052109/HTML-Timeline-1.08-SVbtEj/blib/arch:/home/cpansand/.cpan/build/2016052109/HTML-Timeline-1.08-SVbtEj/blib/lib:/home/cpansand/.cpan/build/2016052109/Gedcom-Date-0.09-dtw9dx/blib/arch:/home/cpansand/.cpan/build/2016052109/Gedcom-Date-0.09-dtw9dx/blib/lib:/home/cpansand/.cpan/build/2016052109/Roman-1.24-V6QXki/blib/arch:/home/cpansand/.cpan/build/2016052109/Roman-1.24-V6QXki/blib/lib:/home/cpansand/.cpan/build/2016052109/Gedcom-1.19-gobw9n/blib/arch:/home/cpansand/.cpan/build/2016052109/Gedcom-1.19-gobw9n/blib/lib
    PERL5OPT = 
    PERL5_CPANPLUS_IS_RUNNING = 9532
    PERL5_CPAN_IS_RUNNING = 9532
    PERL5_CPAN_IS_RUNNING_IN_RECURSION = 18516,9532
    PERLDOC = -MPod::Perldoc::ToTextOverstrike
    PERL_BATCH = yes
    PERL_CANARY_STABILITY_NOPROMPT = 1
    PERL_CPAN_REPORTER_CONFIG = /run/user/1023/cpansmoker/2016052109/cpanreporter_002_config.ini
    PERL_EXTUTILS_AUTOINSTALL = --defaultdeps
    SHELL = /bin/zsh
    TERM = screen
    TMPDIR = /run/user/1023/cpansmoker/2016052109

Perl special variables (and OS-specific diagnostics, for MSWin32):

    $^X = /bbbike/perl-5.20.3/bin/perl
    $UID/$EUID = 1023 / 1023
    $GID = 1023 1023
    $EGID = 1023 1023

Perl module toolchain versions installed:

    Module              Have    
    ------------------- --------
    CPAN                2.05    
    CPAN::Meta          2.150005
    Cwd                 3.48_01 
    ExtUtils::CBuilder  0.280224
    ExtUtils::Command   7.16    
    ExtUtils::Install   1.67    
    ExtUtils::MakeMaker 7.16    
    ExtUtils::Manifest  1.70    
    ExtUtils::ParseXS   3.24    
    File::Spec          3.48_01 
    JSON                2.90    
    JSON::PP            2.27400 
    Module::Build       0.4218  
    Module::Signature   0.79    
    Parse::CPAN::Meta   1.4414  
    Test::Harness       3.36    
    Test::More          1.302015
    YAML                1.15    
    YAML::Syck          1.29    
    version             0.9916  


--

Summary of my perl5 (revision 5 version 20 subversion 3) configuration:
   
  Platform:
    osname=linux, osvers=3.16.0-4-amd64, archname=x86_64-linux
    uname='linux eserte 3.16.0-4-amd64 #1 smp debian 3.16.7-ckt25-2 (2016-04-08) x86_64 gnulinux '
    config_args='-ds -e -Dprefix=/opt/perl-5.20.3 -Dcf_email=srezic@cpan.org'
    hint=recommended, useposix=true, d_sigaction=define
    useithreads=undef, usemultiplicity=undef
    use64bitint=define, use64bitall=define, uselongdouble=undef
    usemymalloc=n, bincompat5005=undef
  Compiler:
    cc='cc', ccflags ='-fwrapv -fno-strict-aliasing -pipe -fstack-protector -I/usr/local/include -D_LARGEFILE_SOURCE -D_FILE_OFFSET_BITS=64',
    optimize='-O2',
    cppflags='-fwrapv -fno-strict-aliasing -pipe -fstack-protector -I/usr/local/include'
    ccversion='', gccversion='4.9.2', gccosandvers=''
    intsize=4, longsize=8, ptrsize=8, doublesize=8, byteorder=12345678
    d_longlong=define, longlongsize=8, d_longdbl=define, longdblsize=16
    ivtype='long', ivsize=8, nvtype='double', nvsize=8, Off_t='off_t', lseeksize=8
    alignbytes=8, prototype=define
  Linker and Libraries:
    ld='cc', ldflags =' -fstack-protector -L/usr/local/lib'
    libpth=/usr/local/lib /usr/lib/gcc/x86_64-linux-gnu/4.9/include-fixed /usr/include/x86_64-linux-gnu /usr/lib /lib/x86_64-linux-gnu /lib/../lib /usr/lib/x86_64-linux-gnu /usr/lib/../lib /lib
    libs=-lpthread -lnsl -lgdbm -ldb -ldl -lm -lcrypt -lutil -lc -lgdbm_compat
    perllibs=-lpthread -lnsl -ldl -lm -lcrypt -lutil -lc
    libc=libc-2.19.so, so=so, useshrplib=false, libperl=libperl.a
    gnulibc_version='2.19'
  Dynamic Linking:
    dlsrc=dl_dlopen.xs, dlext=so, d_dlsymun=undef, ccdlflags='-Wl,-E'
    cccdlflags='-fPIC', lddlflags='-shared -O2 -L/usr/local/lib -fstack-protector'


Characteristics of this binary (from libperl): 
  Compile-time options: HAS_TIMES PERLIO_LAYERS PERL_DONT_CREATE_GVSV
                        PERL_HASH_FUNC_ONE_AT_A_TIME_HARD PERL_MALLOC_WRAP
                        PERL_NEW_COPY_ON_WRITE PERL_PRESERVE_IVUV
                        USE_64_BIT_ALL USE_64_BIT_INT USE_LARGE_FILES
                        USE_LOCALE USE_LOCALE_COLLATE USE_LOCALE_CTYPE
                        USE_LOCALE_NUMERIC USE_PERLIO USE_PERL_ATOF
  Locally applied patches:
	Devel::PatchPerl 1.42
  Built under linux
  Compiled at May  7 2016 12:07:58
  %ENV:
    PERL5LIB="/home/cpansand/.cpan/build/2016052109/Test-Run-0.0304-SPlfHd/blib/arch:/home/cpansand/.cpan/build/2016052109/Test-Run-0.0304-SPlfHd/blib/lib:/home/cpansand/.cpan/build/2016052109/Text-Sprintf-Named-0.0402-q0uzPf/blib/arch:/home/cpansand/.cpan/build/2016052109/Text-Sprintf-Named-0.0402-q0uzPf/blib/lib:/home/cpansand/.cpan/build/2016052109/CGI-Compile-0.21-yGqGFR/blib/arch:/home/cpansand/.cpan/build/2016052109/CGI-Compile-0.21-yGqGFR/blib/lib:/home/cpansand/.cpan/build/2016052109/HTML-Timeline-1.08-SVbtEj/blib/arch:/home/cpansand/.cpan/build/2016052109/HTML-Timeline-1.08-SVbtEj/blib/lib:/home/cpansand/.cpan/build/2016052109/Gedcom-Date-0.09-dtw9dx/blib/arch:/home/cpansand/.cpan/build/2016052109/Gedcom-Date-0.09-dtw9dx/blib/lib:/home/cpansand/.cpan/build/2016052109/Roman-1.24-V6QXki/blib/arch:/home/cpansand/.cpan/build/2016052109/Roman-1.24-V6QXki/blib/lib:/home/cpansand/.cpan/build/2016052109/Gedcom-1.19-gobw9n/blib/arch:/home/cpansand/.cpan/build/2016052109/Gedcom-1.19-gobw9n/blib/lib"
    PERL5OPT=""
    PERL5_CPANPLUS_IS_RUNNING="9532"
    PERL5_CPAN_IS_RUNNING="9532"
    PERL5_CPAN_IS_RUNNING_IN_RECURSION="18516,9532"
    PERLDOC="-MPod::Perldoc::ToTextOverstrike"
    PERL_BATCH="yes"
    PERL_CANARY_STABILITY_NOPROMPT="1"
    PERL_CPAN_REPORTER_CONFIG="/run/user/1023/cpansmoker/2016052109/cpanreporter_002_config.ini"
    PERL_EXTUTILS_AUTOINSTALL="--defaultdeps"
  @INC:
    /home/cpansand/.cpan/build/2016052109/Test-Run-0.0304-SPlfHd/blib/arch
    /home/cpansand/.cpan/build/2016052109/Test-Run-0.0304-SPlfHd/blib/lib
    /home/cpansand/.cpan/build/2016052109/Text-Sprintf-Named-0.0402-q0uzPf/blib/arch
    /home/cpansand/.cpan/build/2016052109/Text-Sprintf-Named-0.0402-q0uzPf/blib/lib
    /home/cpansand/.cpan/build/2016052109/CGI-Compile-0.21-yGqGFR/blib/arch
    /home/cpansand/.cpan/build/2016052109/CGI-Compile-0.21-yGqGFR/blib/lib
    /home/cpansand/.cpan/build/2016052109/HTML-Timeline-1.08-SVbtEj/blib/arch
    /home/cpansand/.cpan/build/2016052109/HTML-Timeline-1.08-SVbtEj/blib/lib
    /home/cpansand/.cpan/build/2016052109/Gedcom-Date-0.09-dtw9dx/blib/arch
    /home/cpansand/.cpan/build/2016052109/Gedcom-Date-0.09-dtw9dx/blib/lib
    /home/cpansand/.cpan/build/2016052109/Roman-1.24-V6QXki/blib/arch
    /home/cpansand/.cpan/build/2016052109/Roman-1.24-V6QXki/blib/lib
    /home/cpansand/.cpan/build/2016052109/Gedcom-1.19-gobw9n/blib/arch
    /home/cpansand/.cpan/build/2016052109/Gedcom-1.19-gobw9n/blib/lib
    /opt/perl-5.20.3/lib/site_perl/5.20.3/x86_64-linux
    /opt/perl-5.20.3/lib/site_perl/5.20.3
    /opt/perl-5.20.3/lib/5.20.3/x86_64-linux
    /opt/perl-5.20.3/lib/5.20.3
    .