Catalyst-Controller-Combine v0.15 Perl 5 v5.22.1 x86_64-linux

Status
Pass
From
NONAME
Dist
Catalyst-Controller-Combine v0.15
Platform
Perl 5 v5.22.1 x86_64-linux
Date
2015-12-21 20:54:19
ID
01a98ed0-a825-11e5-84e5-e755c210d3ea
This distribution has been tested as part of the CPAN Testers
project, supporting the Perl programming language.  See
http://wiki.cpantesters.org/ for more information or email
questions to cpan-testers-discuss@perl.org


--
Dear WKI,

This is a computer-generated report for Catalyst-Controller-Combine-0.15
on perl 5.22.1, created by App::cpanminus::reporter 0.13 (1.7027).

Thank you for uploading your work to CPAN.  Congratulations!
All tests were successful.

Sections of this report:

    * Tester comments
    * Program output
    * Prerequisites
    * Environment and other context

------------------------------
TESTER COMMENTS
------------------------------

Additional comments from tester:

none provided

------------------------------
PROGRAM OUTPUT
------------------------------

Output from '':

Building and testing Catalyst-Controller-Combine-0.15
cp lib/Catalyst/Helper/Controller/Combine.pm blib/lib/Catalyst/Helper/Controller/Combine.pm
cp lib/Catalyst/Controller/Combine.pm blib/lib/Catalyst/Controller/Combine.pm
Manifying 2 pod documents
PERL_DL_NONLAZY=1 "/home/mojolicious/perl5/perlbrew/perls/perl-5.22.1/bin/perl" "-MExtUtils::Command::MM" "-MTest::Harness" "-e" "undef *Test::Harness::Switches; test_harness(0, 'blib/lib', 'blib/arch')" t/*.t
[warn] js1.xxx.* --> NOT EXISTING, ignored
[warn] jsxx1.* --> NOT EXISTING, ignored
[warn] jsx.* --> NOT EXISTING, ignored
[warn] jsy.* --> NOT EXISTING, ignored
t/0-basic.t ............... ok
t/1-inherit.t ............. ok
t/2-uri.t ................. ok
t/3-replace.t ............. ok
t/4-auto_minify.t ......... ok
t/5-expire.t .............. ok
[warn] ../../../xx_notexisting.* --> NOT EXISTING, ignored
t/6-security.t ............ ok
t/7-include.t ............. ok
t/99-helper.t ............. ok
t/release-pod-coverage.t .. skipped: these tests are for release candidate testing
t/release-pod-syntax.t .... skipped: these tests are for release candidate testing
All tests successful.
Files=11, Tests=92,  8 wallclock secs ( 0.05 usr  0.02 sys +  6.23 cusr  0.34 csys =  6.64 CPU)
Result: PASS

------------------------------
PREREQUISITES
------------------------------

Prerequisite modules loaded:

runtime:

    Module                Need Have    
    --------------------- ---- --------
  ! Catalyst::Controller  0    n/a     
  ! Catalyst::Runtime     5.80 n/a     
  ! DateTime              0.72 n/a     
    File::stat            1.00 1.07    
    FindBin               1.47 1.51    
    List::Util            1.21 1.41    
  ! Moose                 1.0  n/a     
  ! namespace::autoclean  0.09 n/a     
  ! Path::Class           0.23 n/a     
    strict                0    1.09    
    Test::Builder         0.86 1.001014
    Test::Builder::Tester 1.18 1.28    
  ! Test::Exception       0.27 n/a     
    Test::Harness         3.14 3.35    
    Test::More            0.86 1.001014
  ! Text::Glob            0.08 n/a     

build:

    Module                Need Have    
    --------------------- ---- --------
    base                  0    2.22    
  ! Catalyst              0    n/a     
  ! Catalyst::Runtime     0    n/a     
  ! Catalyst::Test        0    n/a     
  ! DateTime::Duration    0    n/a     
    Exporter              0    5.72    
    FindBin               0    1.51    
  ! namespace::autoclean  0    n/a     
  ! Path::Class::File     0    n/a     
  ! Test::Exception       0    n/a     
    Test::More            0    1.001014
    warnings              0    1.34    

configure:

    Module                Need Have    
    --------------------- ---- --------
    ExtUtils::MakeMaker   6.30 7.04_01 


------------------------------
ENVIRONMENT AND OTHER CONTEXT
------------------------------

Environment variables:

    PATH = /home/mojolicious/perl5/perlbrew/bin:/home/mojolicious/perl5/perlbrew/perls/perl-5.20.1/bin:/usr/local/bin:/usr/bin:/bin:/usr/local/games:/usr/games:/home/mojolicious/catalystlib/5.22.1/5.90100/bin
    PERLBREW_BASHRC_VERSION = 0.73
    PERLBREW_HOME = /home/mojolicious/.perlbrew
    PERLBREW_MANPATH = /home/mojolicious/perl5/perlbrew/perls/perl-5.20.1/man
    PERLBREW_PATH = /home/mojolicious/perl5/perlbrew/bin:/home/mojolicious/perl5/perlbrew/perls/perl-5.20.1/bin
    PERLBREW_PERL = perl-5.20.1
    PERLBREW_ROOT = /home/mojolicious/perl5/perlbrew
    PERLBREW_VERSION = 0.73
    SHELL = /bin/bash
    TERM = xterm

Perl special variables (and OS-specific diagnostics, for MSWin32):

    EGID = 1003 1003
    EUID = 1003
    EXECUTABLE_NAME = /home/mojolicious/perl5/perlbrew/perls/perl-5.22.1/bin/perl
    GID = 1003 1003
    UID = 1003

Perl module toolchain versions installed:

    Module              Have    
    ------------------- --------
    CPAN                2.11    
    CPAN::Meta          2.150001
    Cwd                 3.56    
    ExtUtils::CBuilder  0.280221
    ExtUtils::Command   1.20    
    ExtUtils::Install   2.04    
    ExtUtils::MakeMaker 7.04_01 
    ExtUtils::Manifest  1.70    
    ExtUtils::ParseXS   3.28    
    File::Spec          3.56    
    JSON                2.90    
    JSON::PP            2.27300 
    Module::Build       n/a     
    Module::Signature   n/a     
    Parse::CPAN::Meta   1.4414  
    Test::Harness       3.35    
    Test::More          1.001014
    YAML                n/a     
    YAML::Syck          n/a     
    version             0.9909  


--

Summary of my perl5 (revision 5 version 22 subversion 1) configuration:
   
  Platform:
    osname=linux, osvers=3.13.0-042stab108.7, archname=x86_64-linux
    uname='linux lvps92-51-161-142.dedicated.hosteurope.de 3.13.0-042stab108.7 #1 smp wed jul 15 15:49:08 msk 2015 x86_64 x86_64 x86_64 gnulinux '
    config_args='-de -Dprefix=/home/mojolicious/perl5/perlbrew/perls/perl-5.22.1 -Aeval:scriptdir=/home/mojolicious/perl5/perlbrew/perls/perl-5.22.1/bin'
    hint=recommended, useposix=true, d_sigaction=define
    useithreads=undef, usemultiplicity=undef
    use64bitint=define, use64bitall=define, uselongdouble=undef
    usemymalloc=n, bincompat5005=undef
  Compiler:
    cc='cc', ccflags ='-fwrapv -fno-strict-aliasing -pipe -fstack-protector -I/usr/local/include -D_LARGEFILE_SOURCE -D_FILE_OFFSET_BITS=64',
    optimize='-O2',
    cppflags='-fwrapv -fno-strict-aliasing -pipe -fstack-protector -I/usr/local/include'
    ccversion='', gccversion='4.8.4', gccosandvers=''
    intsize=4, longsize=8, ptrsize=8, doublesize=8, byteorder=12345678, doublekind=3
    d_longlong=define, longlongsize=8, d_longdbl=define, longdblsize=16, longdblkind=3
    ivtype='long', ivsize=8, nvtype='double', nvsize=8, Off_t='off_t', lseeksize=8
    alignbytes=8, prototype=define
  Linker and Libraries:
    ld='cc', ldflags =' -fstack-protector -L/usr/local/lib'
    libpth=/usr/local/lib /usr/lib/gcc/x86_64-linux-gnu/4.8/include-fixed /usr/include/x86_64-linux-gnu /usr/lib /lib/x86_64-linux-gnu /lib/../lib /usr/lib/x86_64-linux-gnu /usr/lib/../lib /lib
    libs=-lpthread -lnsl -ldl -lm -lcrypt -lutil -lc
    perllibs=-lpthread -lnsl -ldl -lm -lcrypt -lutil -lc
    libc=libc-2.19.so, so=so, useshrplib=false, libperl=libperl.a
    gnulibc_version='2.19'
  Dynamic Linking:
    dlsrc=dl_dlopen.xs, dlext=so, d_dlsymun=undef, ccdlflags='-Wl,-E'
    cccdlflags='-fPIC', lddlflags='-shared -O2 -L/usr/local/lib -fstack-protector'


Characteristics of this binary (from libperl): 
  Compile-time options: HAS_TIMES PERLIO_LAYERS PERL_DONT_CREATE_GVSV
                        PERL_HASH_FUNC_ONE_AT_A_TIME_HARD PERL_MALLOC_WRAP
                        PERL_NEW_COPY_ON_WRITE PERL_PRESERVE_IVUV
                        USE_64_BIT_ALL USE_64_BIT_INT USE_LARGE_FILES
                        USE_LOCALE USE_LOCALE_COLLATE USE_LOCALE_CTYPE
                        USE_LOCALE_NUMERIC USE_LOCALE_TIME USE_PERLIO
                        USE_PERL_ATOF
  Locally applied patches:
	Devel::PatchPerl 1.30
  Built under linux
  Compiled at Dec 14 2015 22:44:05
  %ENV:
    PERLBREW_BASHRC_VERSION="0.73"
    PERLBREW_HOME="/home/mojolicious/.perlbrew"
    PERLBREW_MANPATH="/home/mojolicious/perl5/perlbrew/perls/perl-5.20.1/man"
    PERLBREW_PATH="/home/mojolicious/perl5/perlbrew/bin:/home/mojolicious/perl5/perlbrew/perls/perl-5.20.1/bin"
    PERLBREW_PERL="perl-5.20.1"
    PERLBREW_ROOT="/home/mojolicious/perl5/perlbrew"
    PERLBREW_VERSION="0.73"
  @INC:
    /home/mojolicious/perl5/perlbrew/perls/perl-5.22.1/lib/site_perl/5.22.1/x86_64-linux
    /home/mojolicious/perl5/perlbrew/perls/perl-5.22.1/lib/site_perl/5.22.1
    /home/mojolicious/perl5/perlbrew/perls/perl-5.22.1/lib/5.22.1/x86_64-linux
    /home/mojolicious/perl5/perlbrew/perls/perl-5.22.1/lib/5.22.1
    .