Math-Complex v1.59 Perl 5 v5.8.8 i486-linux-gnu-thread-multi

Status
Pass
From
Stefan Koehler
Dist
Math-Complex v1.59
Platform
Perl 5 v5.8.8 i486-linux-gnu-thread-multi
Date
2012-09-18 17:12:20
ID
01b0ce4a-01b4-11e2-a691-45c9c21f1301
This distribution has been tested as part of the CPAN Testers
project, supporting the Perl programming language.  See
http://wiki.cpantesters.org/ for more information or email
questions to cpan-testers-discuss@perl.org


--
Dear Andrew Main (Zefram),

This is a computer-generated report for Math-Complex-1.59
on perl 5.8.8, created by CPAN-Reporter-1.1902.

Thank you for uploading your work to CPAN.  Congratulations!
All tests were successful.

Sections of this report:

    * Tester comments
    * Program output
    * Prerequisites
    * Environment and other context

------------------------------
TESTER COMMENTS
------------------------------

Additional comments from tester:

none provided

------------------------------
PROGRAM OUTPUT
------------------------------

Output from '/usr/bin/make test':

PERL_DL_NONLAZY=1 /usr/bin/perl "-MExtUtils::Command::MM" "-e" "test_harness(0, 'blib/lib', 'blib/arch')" t/*.t
t/Complex.t ....... ok
t/pod-coverage.t .. ok
t/pod.t ........... ok
t/Trig.t .......... ok
t/underbar.t ...... ok
All tests successful.
Files=5, Tests=1235,  6 wallclock secs ( 1.15 usr  0.08 sys +  3.97 cusr  0.12 csys =  5.32 CPU)
Result: PASS

------------------------------
PREREQUISITES
------------------------------

Prerequisite modules loaded:

requires:

    Module              Need Have
    ------------------- ---- ----
    Config              0    0   
    Exporter            0    5.63
    ExtUtils::MakeMaker 0    6.62
    overload            0    1.04
    Scalar::Util        1.11 1.25
    strict              0    1.03
    Test::More          0    0.98
    warnings            0    1.05

build_requires:

    Module              Need Have
    ------------------- ---- ----
    ExtUtils::MakeMaker 0    6.62

configure_requires:

    Module              Need Have
    ------------------- ---- ----
    ExtUtils::MakeMaker 0    6.62


------------------------------
ENVIRONMENT AND OTHER CONTEXT
------------------------------

Environment variables:

    LANG = en_US
    PATH = /home/stefan/perl5/bin:/usr/local/bin:/usr/bin:/bin:/usr/bin/X11:/usr/games
    PERL5LIB = /home/stefan/perl5/lib/perl5/i486-linux-gnu-thread-multi:/home/stefan/perl5/lib/perl5
    PERL5OPT = 
    PERL5_CPANPLUS_IS_RUNNING = 28833
    PERL5_CPAN_IS_RUNNING = 28833
    PERL_LOCAL_LIB_ROOT = /home/stefan/perl5
    PERL_MB_OPT = --install_base /home/stefan/perl5
    PERL_MM_OPT = INSTALL_BASE=/home/stefan/perl5
    SHELL = /bin/bash
    TERM = screen

Perl special variables (and OS-specific diagnostics, for MSWin32):

    $^X = /usr/bin/perl
    $UID/$EUID = 1001 / 1001
    $GID = 100 100
    $EGID = 100 100

Perl module toolchain versions installed:

    Module              Have    
    ------------------- --------
    CPAN                1.9600  
    Cwd                 3.33    
    ExtUtils::CBuilder  0.280202
    ExtUtils::Command   1.17    
    ExtUtils::Install   1.54    
    ExtUtils::MakeMaker 6.62    
    ExtUtils::Manifest  1.58    
    ExtUtils::ParseXS   2.2206  
    File::Spec          3.33    
    Module::Build       0.4003  
    Module::Signature   n/a     
    Test::Harness       3.25    
    Test::More          0.98    
    YAML                0.84    
    YAML::Syck          1.20    
    version             0.9901  


--

Summary of my perl5 (revision 5 version 8 subversion 8) configuration:
  Platform:
    osname=linux, osvers=2.6.18-6-686, archname=i486-linux-gnu-thread-multi
    uname='linux etch 2.6.18-6-686 #1 smp fri dec 12 16:48:28 utc 2008 i686 gnulinux '
    config_args='-Dusethreads -Duselargefiles -Dccflags=-DDEBIAN -Dcccdlflags=-fPIC -Darchname=i486-linux-gnu -Dprefix=/usr -Dprivlib=/usr/share/perl/5.8 -Darchlib=/usr/lib/perl/5.8 -Dvendorprefix=/usr -Dvendorlib=/usr/share/perl5 -Dvendorarch=/usr/lib/perl5 -Dsiteprefix=/usr/local -Dsitelib=/usr/local/share/perl/5.8.8 -Dsitearch=/usr/local/lib/perl/5.8.8 -Dman1dir=/usr/share/man/man1 -Dman3dir=/usr/share/man/man3 -Dsiteman1dir=/usr/local/man/man1 -Dsiteman3dir=/usr/local/man/man3 -Dman1ext=1 -Dman3ext=3perl -Dpager=/usr/bin/sensible-pager -Uafs -Ud_csh -Ud_ualarm -Uusesfio -Uusenm -Duseshrplib -Dlibperl=libperl.so.5.8.8 -Dd_dosuid -des'
    hint=recommended, useposix=true, d_sigaction=define
    usethreads=define use5005threads=undef useithreads=define usemultiplicity=define
    useperlio=define d_sfio=undef uselargefiles=define usesocks=undef
    use64bitint=undef use64bitall=undef uselongdouble=undef
    usemymalloc=n, bincompat5005=undef
  Compiler:
    cc='cc', ccflags ='-D_REENTRANT -D_GNU_SOURCE -DTHREADS_HAVE_PIDS -DDEBIAN -fno-strict-aliasing -pipe -I/usr/local/include -D_LARGEFILE_SOURCE -D_FILE_OFFSET_BITS=64',
    optimize='-O2',
    cppflags='-D_REENTRANT -D_GNU_SOURCE -DTHREADS_HAVE_PIDS -DDEBIAN -fno-strict-aliasing -pipe -I/usr/local/include'
    ccversion='', gccversion='4.1.2 20061115 (prerelease) (Debian 4.1.1-21)', gccosandvers=''
    intsize=4, longsize=4, ptrsize=4, doublesize=8, byteorder=1234
    d_longlong=define, longlongsize=8, d_longdbl=define, longdblsize=12
    ivtype='long', ivsize=4, nvtype='double', nvsize=8, Off_t='off_t', lseeksize=8
    alignbytes=4, prototype=define
  Linker and Libraries:
    ld='cc', ldflags =' -L/usr/local/lib'
    libpth=/usr/local/lib /lib /usr/lib
    libs=-lgdbm -lgdbm_compat -ldb -ldl -lm -lpthread -lc -lcrypt
    perllibs=-ldl -lm -lpthread -lc -lcrypt
    libc=/lib/libc-2.3.6.so, so=so, useshrplib=true, libperl=libperl.so.5.8.8
    gnulibc_version='2.3.6'
  Dynamic Linking:
    dlsrc=dl_dlopen.xs, dlext=so, d_dlsymun=undef, ccdlflags='-Wl,-E'
    cccdlflags='-fPIC', lddlflags='-shared -L/usr/local/lib'


Characteristics of this binary (from libperl): 
  Compile-time options: MULTIPLICITY PERL_IMPLICIT_CONTEXT
                        PERL_MALLOC_WRAP THREADS_HAVE_PIDS USE_ITHREADS
                        USE_LARGE_FILES USE_PERLIO USE_REENTRANT_API
  Built under linux
  Compiled at Dec 18 2008 23:13:26
  %ENV:
    PERL5LIB="/home/stefan/perl5/lib/perl5/i486-linux-gnu-thread-multi:/home/stefan/perl5/lib/perl5"
    PERL5OPT=""
    PERL5_CPANPLUS_IS_RUNNING="28833"
    PERL5_CPAN_IS_RUNNING="28833"
    PERL_LOCAL_LIB_ROOT="/home/stefan/perl5"
    PERL_MB_OPT="--install_base /home/stefan/perl5"
    PERL_MM_OPT="INSTALL_BASE=/home/stefan/perl5"
  @INC:
    /home/stefan/perl5/lib/perl5/i486-linux-gnu-thread-multi
    /home/stefan/perl5/lib/perl5/i486-linux-gnu-thread-multi
    /home/stefan/perl5/lib/perl5
    /etc/perl
    /usr/local/lib/perl/5.8.8
    /usr/local/share/perl/5.8.8
    /usr/lib/perl5
    /usr/share/perl5
    /usr/lib/perl/5.8
    /usr/share/perl/5.8
    /usr/local/lib/site_perl
    /usr/local/lib/perl/5.8.4
    /usr/local/share/perl/5.8.4
    .