JSON-Any v1.40 Perl 5 v5.36.0 x86_64-linux-ld
- Status
- Pass
- From
- Slaven Rezić
- Dist
-
JSON-Any v1.40
- Platform
- Perl 5 v5.36.0 x86_64-linux-ld
- Date
- 2023-09-13 04:14:17
- ID
- 01b68a1c-51ec-11ee-bdee-1dfc6d8775ea
This distribution has been tested as part of the CPAN Testers
project, supporting the Perl programming language. See
http://wiki.cpantesters.org/ for more information or email
questions to cpan-testers-discuss@perl.org
--
Dear Karen Etheridge,
This is a computer-generated report for JSON-Any-1.40
on perl 5.36.0, created by CPAN-Reporter-1.2018.
Thank you for uploading your work to CPAN. Congratulations!
All tests were successful.
Sections of this report:
* Tester comments
* Program output
* Prerequisites
* Environment and other context
------------------------------
TESTER COMMENTS
------------------------------
Additional comments from tester:
none provided
------------------------------
PROGRAM OUTPUT
------------------------------
Output from '/usr/bin/make test':
PERL_DL_NONLAZY=1 "/bbbike/opt/perl-5.36.0D/bin/perl" "-MExtUtils::Command::MM" "-MTest::Harness" "-e" "undef *Test::Harness::Switches; test_harness(0, 'blib/lib', 'blib/arch')" t/*.t
# Testing JSON::Any 1.40, Perl 5.036000, /bbbike/opt/perl-5.36.0D/bin/perl
t/00-load.t ............ ok
#
# Versions for all modules listed in MYMETA.json (including optional ones):
#
# === Configure Requires ===
#
# Module Want Have
# ------------------------ -------- --------
# CPAN::Meta::Requirements 2.120620 2.140
# ExtUtils::MakeMaker any 7.64
# Module::Metadata any 1.000037
# perl 5.008 5.036000
#
# === Build Requires ===
#
# Module Want Have
# ------------------- ---- ----
# ExtUtils::MakeMaker any 7.64
#
# === Test Requires ===
#
# Module Want Have
# --------------------- ----- --------
# Data::Dumper any 2.184
# ExtUtils::MakeMaker any 7.64
# File::Spec any 3.84
# Storable any 3.26
# Test::Fatal any 0.016
# Test::More 0.88 1.302190
# Test::Needs any 0.002009
# Test::Warnings 0.009 0.031
# Test::Without::Module any 0.20
# open any 1.13
# perl 5.008 5.036000
# utf8 any 1.24
#
# === Test Recommends ===
#
# Module Want Have
# ---------- -------- --------
# CPAN::Meta 2.120900 2.150010
#
# === Runtime Requires ===
#
# Module Want Have
# -------- ----- --------
# Carp any 1.52
# constant any 1.33
# perl 5.008 5.036000
# strict any 1.12
# warnings any 1.58
#
# === Other Modules ===
#
# Module Have
# ---------------- --------
# Cpanel::JSON::XS 4.29
# Encode 3.17
# File::Temp 0.2311
# JSON 4.06
# JSON::DWIW missing
# JSON::MaybeXS 1.004003
# JSON::PP 4.07
# JSON::Syck 1.34
# JSON::XS missing
# Module::Runtime 0.016
# Pod::Coverage 0.23
# Sub::Name 0.26
# YAML 1.30
# autodie 2.34
# constant 1.33
#
t/00-report-prereqs.t .. ok
# Testing JSON.pm backend
t/01-JSON.t ............ ok
t/02-JSON-XS.t ......... skipped: JSON::XS not installed: Couldn't find a JSON package. Need JSON::XS at (eval 9) line 1.
t/03-JSON-DWIW.t ....... skipped: JSON::DWIW not installed: Couldn't find a JSON package. Need JSON::DWIW at (eval 9) line 1.
t/04-ENV.t ............. ok
Found deprecated package JSON::Syck. Please upgrade to Cpanel::JSON::XS, JSON::XS, JSON::PP, JSON or JSON::DWIW at (eval 9) line 1.
t/05-JSON-Syck.t ....... ok
# Testing JSON::PP backend
t/06-JSON-PP.t ......... ok
# Testing Cpanel::JSON::XS backend
t/07-CPanel-JSON-XS.t .. ok
t/10_unicode.t ......... ok
t/11-string-escape.t ... ok
t/12-boolean.t ......... ok
t/13-no-backends.t ..... ok
t/14-deprecated.t ...... ok
All tests successful.
Files=14, Tests=186, 0 wallclock secs ( 0.04 usr 0.03 sys + 0.54 cusr 0.17 csys = 0.78 CPU)
Result: PASS
------------------------------
PREREQUISITES
------------------------------
Prerequisite modules loaded:
requires:
Module Need Have
------------------------ -------- --------
Carp 0 1.52
constant 0 1.33
perl 5.008 5.036000
strict 0 1.12
warnings 0 1.58
build_requires:
Module Need Have
------------------------ -------- --------
Data::Dumper 0 2.184
ExtUtils::MakeMaker 0 7.64
File::Spec 0 3.84
open 0 1.13
Storable 0 3.26
Test::Fatal 0 0.016
Test::More 0.88 1.302190
Test::Needs 0 0.002009
Test::Warnings 0.009 0.031
Test::Without::Module 0 0.20
utf8 0 1.24
configure_requires:
Module Need Have
------------------------ -------- --------
CPAN::Meta::Requirements 2.120620 2.140
ExtUtils::MakeMaker 0 7.64
Module::Metadata 0 1.000037
perl 5.008 5.036000
------------------------------
ENVIRONMENT AND OTHER CONTEXT
------------------------------
Environment variables:
LANG = C
PATH = /usr/local/bin:/usr/bin:/bin:/usr/local/sbin:/usr/sbin:/sbin:/home/cpansand/bin/linux-gnu:/home/cpansand/bin/sh:/home/cpansand/bin:/usr/games:/home/cpansand/devel:/home/eserte/src/srezic-misc/scripts
PERL5LIB =
PERL5OPT =
PERL5_CPANPLUS_IS_RUNNING = 1430208
PERL5_CPAN_IS_RUNNING = 1430208
PERL5_CPAN_IS_RUNNING_IN_RECURSION = 450903,1430208
PERLDOC = -MPod::Perldoc::ToTextOverstrike
PERL_BATCH = yes
PERL_CANARY_STABILITY_NOPROMPT = 1
PERL_CPAN_REPORTER_CONFIG = /var/tmp/cpansmoker-1023/2023091213/cpanreporter_000_config.ini
PERL_EXTUTILS_AUTOINSTALL = --defaultdeps
PERL_USE_UNSAFE_INC = 1
SHELL = /usr/bin/zsh
TERM = screen
TMPDIR = /var/tmp/cpansmoker-1023/2023091213
Perl special variables (and OS-specific diagnostics, for MSWin32):
$^X = /bbbike/opt/perl-5.36.0D/bin/perl
$UID/$EUID = 1023 / 1023
$GID = 1023 1023
$EGID = 1023 1023
Perl module toolchain versions installed:
Module Have
------------------- --------
CPAN 2.33
CPAN::Meta 2.150010
Cwd 3.84
ExtUtils::CBuilder 0.280236
ExtUtils::Command 7.64
ExtUtils::Install 2.20
ExtUtils::MakeMaker 7.64
ExtUtils::Manifest 1.73
ExtUtils::ParseXS 3.45
File::Spec 3.84
JSON 4.06
JSON::PP 4.07
Module::Build 0.4231
Module::Signature n/a
Parse::CPAN::Meta 2.150010
Test::Harness 3.44
Test::More 1.302190
YAML 1.30
YAML::Syck 1.34
version 0.9929
--
Summary of my perl5 (revision 5 version 36 subversion 0) configuration:
Platform:
osname=linux
osvers=5.10.0-13-amd64
archname=x86_64-linux-ld
uname='linux eserte 5.10.0-13-amd64 #1 smp debian 5.10.106-1 (2022-03-17) x86_64 gnulinux '
config_args='-ds -e -Dprefix=/opt/perl-5.36.0D -Duselongdouble -Dcf_email=srezic@cpan.org'
hint=recommended
useposix=true
d_sigaction=define
useithreads=undef
usemultiplicity=undef
use64bitint=define
use64bitall=define
uselongdouble=define
usemymalloc=n
default_inc_excludes_dot=define
Compiler:
cc='cc'
ccflags ='-fwrapv -fno-strict-aliasing -pipe -fstack-protector-strong -I/usr/local/include -D_LARGEFILE_SOURCE -D_FILE_OFFSET_BITS=64 -D_FORTIFY_SOURCE=2'
optimize='-O2'
cppflags='-fwrapv -fno-strict-aliasing -pipe -fstack-protector-strong -I/usr/local/include'
ccversion=''
gccversion='10.2.1 20210110'
gccosandvers=''
intsize=4
longsize=8
ptrsize=8
doublesize=8
byteorder=12345678
doublekind=3
d_longlong=define
longlongsize=8
d_longdbl=define
longdblsize=16
longdblkind=3
ivtype='long'
ivsize=8
nvtype='long double'
nvsize=16
Off_t='off_t'
lseeksize=8
alignbytes=16
prototype=define
Linker and Libraries:
ld='cc'
ldflags =' -fstack-protector-strong -L/usr/local/lib'
libpth=/usr/local/lib /usr/lib/x86_64-linux-gnu /usr/lib /lib/x86_64-linux-gnu /lib
libs=-lpthread -lnsl -lgdbm -ldb -ldl -lm -lcrypt -lutil -lc
perllibs=-lpthread -lnsl -ldl -lm -lcrypt -lutil -lc
libc=libc-2.31.so
so=so
useshrplib=false
libperl=libperl.a
gnulibc_version='2.31'
Dynamic Linking:
dlsrc=dl_dlopen.xs
dlext=so
d_dlsymun=undef
ccdlflags='-Wl,-E'
cccdlflags='-fPIC'
lddlflags='-shared -O2 -L/usr/local/lib -fstack-protector-strong'
Characteristics of this binary (from libperl):
Compile-time options:
HAS_TIMES
PERLIO_LAYERS
PERL_COPY_ON_WRITE
PERL_DONT_CREATE_GVSV
PERL_MALLOC_WRAP
PERL_OP_PARENT
PERL_PRESERVE_IVUV
USE_64_BIT_ALL
USE_64_BIT_INT
USE_LARGE_FILES
USE_LOCALE
USE_LOCALE_COLLATE
USE_LOCALE_CTYPE
USE_LOCALE_NUMERIC
USE_LOCALE_TIME
USE_LONG_DOUBLE
USE_PERLIO
USE_PERL_ATOF
Built under linux
Compiled at May 30 2022 19:47:12
%ENV:
PERL5LIB=""
PERL5OPT=""
PERL5_CPANPLUS_IS_RUNNING="1430208"
PERL5_CPAN_IS_RUNNING="1430208"
PERL5_CPAN_IS_RUNNING_IN_RECURSION="450903,1430208"
PERLDOC="-MPod::Perldoc::ToTextOverstrike"
PERL_BATCH="yes"
PERL_CANARY_STABILITY_NOPROMPT="1"
PERL_CPAN_REPORTER_CONFIG="/var/tmp/cpansmoker-1023/2023091213/cpanreporter_000_config.ini"
PERL_EXTUTILS_AUTOINSTALL="--defaultdeps"
PERL_USE_UNSAFE_INC="1"
@INC:
/opt/perl-5.36.0D/lib/site_perl/5.36.0/x86_64-linux-ld
/opt/perl-5.36.0D/lib/site_perl/5.36.0
/opt/perl-5.36.0D/lib/5.36.0/x86_64-linux-ld
/opt/perl-5.36.0D/lib/5.36.0
.