Net-LDAP-SimpleServer v0.0.17 Perl 5 v5.18.4 x86_64-linux

Status
Pass
From
Andreas J. König (ANDK)
Dist
Net-LDAP-SimpleServer v0.0.17
Platform
Perl 5 v5.18.4 x86_64-linux
Date
2016-08-22 09:22:54
ID
01bb9cd4-684a-11e6-976c-95bc58b9f28c
This distribution has been tested as part of the CPAN Testers
project, supporting the Perl programming language.  See
http://wiki.cpantesters.org/ for more information or email
questions to cpan-testers-discuss@perl.org


--
Dear Alexei Znamensky,

This is a computer-generated report for Net-LDAP-SimpleServer-0.0.17
on perl 5.18.4, created by CPAN-Reporter-1.2018.

Thank you for uploading your work to CPAN.  Congratulations!
All tests were successful.

Sections of this report:

    * Tester comments
    * Program output
    * Prerequisites
    * Environment and other context

------------------------------
TESTER COMMENTS
------------------------------

Additional comments from tester:

this report is from an automated smoke testing program
and was not reviewed by a human for accuracy

------------------------------
PROGRAM OUTPUT
------------------------------

Output from '/usr/bin/make test':

PERL_DL_NONLAZY=1 "/tmp/basesmoker-reloperl-LxJx/bin/perl" "-MExtUtils::Command::MM" "-MTest::Harness" "-e" "undef *Test::Harness::Switches; test_harness(0, 'blib/lib', 'blib/arch')" t/*.t
t/00-compile.t ................ ok
t/00-load.t ................... ok
# 
# 
# Generated by Dist::Zilla::Plugin::ReportVersions::Tiny v1.05
# perl: v5.18.4 (wanted 5.010) on linux from /tmp/basesmoker-reloperl-LxJx/bin/perl
# 
# Authen::SASL                                  => 2.16       (want any version)
# Carp                                          => 1.38       (want any version)
# Data::Dumper                                  => 2.161      (want any version)
# Exporter                                      => 5.68       (want any version)
# ExtUtils::MakeMaker                           => 7.24       (want 6.30)   
# File::Basename                                => 2.84       (want any version)
# File::Find                                    => 1.23       (want any version)
# File::HomeDir                                 => 1.00       (want any version)
# File::Path                                    => 2.09       (want 2.08)   
# File::Spec                                    => 3.62       (want any version)
# File::Temp                                    => 0.2304     (want any version)
# IO::Pipe                                      => 1.15       (want any version)
# Net::LDAP                                     => 0.65       (want any version)
# Net::LDAP::Constant                           => 0.23       (want any version)
# Net::LDAP::FilterMatch                        => 0.27       (want any version)
# Net::LDAP::LDIF                               => 0.26       (want any version)
# Net::LDAP::Server                             => 0.43       (want any version)
# Net::LDAP::Util                               => 0.19       (want any version)
# Net::Server                                   => 2.008      (want 2.003)  
# Proc::Fork                                    => 0.804      (want any version)
# Scalar::Util                                  => 1.45       (want any version)
# Test::More                                    => 1.302052   (want 0.88)   
# Test::UseAllModules                           => 0.17       (want any version)
# UNIVERSAL::isa                                => 1.20150614 (want any version)
# base                                          => 2.23       (want any version)
# fields                                        => 2.23       (want any version)
# strict                                        => 1.07       (want any version)
# warnings                                      => 1.18       (want any version)
# 
# Thanks for using my code.  I hope it works for you.
# If not, please try and include this output in the bug report.
# That will help me reproduce the issue and solve your problem.
# 
t/000-report-versions-tiny.t .. ok
# Testing the constructor params for ProtocolHandler
t/05-handler.t ................ ok
# Testing the constructor params for LDIFStore
t/06-store.t .................. ok
# Starting server on port: 30389
# Starting server on port: 30389
# Net::Server error below:
# Starting server on port: 30389
Couldn't open conf "/no/such/file.conf" [No such file or directory]
# Starting server on port: 30389
# Starting server on port: 30389
# Starting server on port: 30389
# Starting server on port: 30389
# Starting server on port: 30389
# Starting server on port: 30389
# Starting server on port: 30389
t/13-param.t .................. ok
# Net::LDAP::SimpleServer Instantiating    [Fork]
# Net::LDAP::SimpleServer Starting :30389  [Fork]
# Net::LDAP::SimpleServer Testing         [Knive]
# Binding anonymously
# Binding with authentication
# Upper case bind DN
# Wrong password -> no bind
# Unsupported auth mechanism
# Net::LDAP::SimpleServer Instantiating    [Fork]
# Net::LDAP::SimpleServer Starting :30389  [Fork]
# Net::LDAP::SimpleServer Testing         [Knive]
# Binding anonymously
# Binding with authentication
t/14-bind.t ................... ok
# Net::LDAP::SimpleServer Instantiating    [Fork]
# Net::LDAP::SimpleServer Starting :30389  [Fork]
# Net::LDAP::SimpleServer Testing         [Knive]
t/15-search.t ................. ok
t/author-critic.t ............. skipped: these tests are for testing by the author
t/author-test-eol.t ........... skipped: these tests are for testing by the author
t/release-dist-manifest.t ..... skipped: these tests are for release candidate testing
t/release-distmeta.t .......... skipped: these tests are for release candidate testing
t/release-kwalitee.t .......... skipped: these tests are for release candidate testing
t/release-meta-json.t ......... skipped: these tests are for release candidate testing
t/release-minimum-version.t ... skipped: these tests are for release candidate testing
t/release-mojibake.t .......... skipped: these tests are for release candidate testing
t/release-no-tabs.t ........... skipped: these tests are for release candidate testing
t/release-pod-coverage.t ...... skipped: these tests are for release candidate testing
t/release-pod-linkcheck.t ..... skipped: these tests are for release candidate testing
t/release-pod-syntax.t ........ skipped: these tests are for release candidate testing
t/release-portability.t ....... skipped: these tests are for release candidate testing
t/release-test-version.t ...... skipped: these tests are for release candidate testing
t/release-unused-vars.t ....... skipped: these tests are for release candidate testing
All tests successful.
Files=23, Tests=57, 37 wallclock secs ( 0.04 usr  0.08 sys +  1.28 cusr  0.28 csys =  1.68 CPU)
Result: PASS

------------------------------
PREREQUISITES
------------------------------

Prerequisite modules loaded:

requires:

    Module                 Need  Have      
    ---------------------- ----- ----------
    base                   0     2.23      
    Carp                   0     1.38      
    Data::Dumper           0     2.161     
    fields                 0     2.23      
    File::Basename         0     2.84      
    File::HomeDir          0     1.00      
    File::Path             2.08  2.09      
    File::Spec             0     3.62      
    Net::LDAP::Constant    0     0.23      
    Net::LDAP::FilterMatch 0     0.27      
    Net::LDAP::LDIF        0     0.26      
    Net::LDAP::Server      0     0.43      
    Net::LDAP::Util        0     0.19      
    Net::Server            2.003 2.008     
    Scalar::Util           0     1.45      
    strict                 0     1.07      
    UNIVERSAL::isa         0     1.20150614
    warnings               0     1.18      

build_requires:

    Module                 Need  Have      
    ---------------------- ----- ----------
    Authen::SASL           0     2.16      
    Exporter               0     5.68      
    File::Find             0     1.23      
    File::Temp             0     0.2304    
    IO::Pipe               0     1.15      
    Net::LDAP              0     0.65      
    Proc::Fork             0     0.804     
    Test::More             0.88  1.302052  
    Test::UseAllModules    0     0.17      

configure_requires:

    Module                 Need  Have      
    ---------------------- ----- ----------
    ExtUtils::MakeMaker    6.30  7.24      


------------------------------
ENVIRONMENT AND OTHER CONTEXT
------------------------------

Environment variables:

    AUTOMATED_TESTING = 1
    LANG = C
    PATH = /home/sand/bin:/usr/local/bin:/usr/bin:/bin:/usr/games:/usr/local/perl/bin:/usr/X11/bin:/sbin:/usr/sbin
    PERL5LIB = 
    PERL5OPT = 
    PERL5_CPANPLUS_IS_RUNNING = 13768
    PERL5_CPAN_IS_RUNNING = 13768
    PERL_CANARY_STABILITY_NOPROMPT = 1
    PERL_MM_USE_DEFAULT = 1
    SHELL = /usr/bin/zsh
    TERM = screen

Perl special variables (and OS-specific diagnostics, for MSWin32):

    $^X = /tmp/basesmoker-reloperl-LxJx/bin/perl
    $UID/$EUID = 1005 / 1005
    $GID = 1005 1005
    $EGID = 1005 1005

Perl module toolchain versions installed:

    Module              Have    
    ------------------- --------
    CPAN                2.15    
    CPAN::Meta          2.150010
    Cwd                 3.62    
    ExtUtils::CBuilder  0.280224
    ExtUtils::Command   7.24    
    ExtUtils::Install   1.59    
    ExtUtils::MakeMaker 7.24    
    ExtUtils::Manifest  1.70    
    ExtUtils::ParseXS   3.30    
    File::Spec          3.62    
    JSON                2.90    
    JSON::PP            2.27400 
    Module::Build       0.4220  
    Module::Signature   0.80    
    Parse::CPAN::Meta   2.150010
    Test::Harness       3.36    
    Test::More          1.302052
    YAML                1.18    
    YAML::Syck          1.29    
    version             0.9917  


--

Summary of my perl5 (revision 5 version 18 subversion 4) configuration:
  Derived from: 51202371ba68f3f52f13124a3ea1bc3c171e0ee2
  Platform:
    osname=linux, osvers=4.6.0-1-amd64, archname=x86_64-linux
    uname='linux k93x64sid 4.6.0-1-amd64 #1 smp debian 4.6.2-2 (2016-06-25) x86_64 gnulinux '
    config_args='-Dprefix=/home/sand/src/perl/repoperls/installed-perls/host/k93x64sid/v5.18.4/29a8 -Dmyhostname=k93x64sid -Dinstallusrbinperl=n -Uversiononly -Dusedevel -des -Ui_db -Dlibswanted=cl pthread socket inet nsl gdbm dbm malloc dl ld sun m crypt sec util c cposix posix ucb BSD gdbm_compat -Uuseithreads -Uuselongdouble -DDEBUGGING=-g'
    hint=recommended, useposix=true, d_sigaction=define
    useithreads=undef, usemultiplicity=undef
    useperlio=define, d_sfio=undef, uselargefiles=define, usesocks=undef
    use64bitint=define, use64bitall=define, uselongdouble=undef
    usemymalloc=n, bincompat5005=undef
  Compiler:
    cc='cc', ccflags ='-fno-strict-aliasing -pipe -fstack-protector -I/usr/local/include -D_LARGEFILE_SOURCE -D_FILE_OFFSET_BITS=64',
    optimize='-O2 -g',
    cppflags='-fno-strict-aliasing -pipe -fstack-protector -I/usr/local/include'
    ccversion='', gccversion='6.1.1 20160815', gccosandvers=''
    intsize=4, longsize=8, ptrsize=8, doublesize=8, byteorder=12345678
    d_longlong=define, longlongsize=8, d_longdbl=define, longdblsize=16
    ivtype='long', ivsize=8, nvtype='double', nvsize=8, Off_t='off_t', lseeksize=8
    alignbytes=8, prototype=define
  Linker and Libraries:
    ld='cc', ldflags =' -fstack-protector -L/usr/local/lib'
    libpth=/usr/local/lib /lib/x86_64-linux-gnu /lib/../lib /usr/lib/x86_64-linux-gnu /usr/lib/../lib /lib /usr/lib
    libs=-lpthread -lnsl -ldl -lm -lcrypt -lutil -lc
    perllibs=-lpthread -lnsl -ldl -lm -lcrypt -lutil -lc
    libc=libc-2.23.so, so=so, useshrplib=false, libperl=libperl.a
    gnulibc_version='2.23'
  Dynamic Linking:
    dlsrc=dl_dlopen.xs, dlext=so, d_dlsymun=undef, ccdlflags='-Wl,-E'
    cccdlflags='-fPIC', lddlflags='-shared -O2 -g -L/usr/local/lib -fstack-protector'


Characteristics of this binary (from libperl): 
  Compile-time options: HAS_TIMES PERLIO_LAYERS PERL_DONT_CREATE_GVSV
                        PERL_HASH_FUNC_ONE_AT_A_TIME_HARD PERL_MALLOC_WRAP
                        PERL_PRESERVE_IVUV PERL_SAWAMPERSAND PERL_USE_DEVEL
                        USE_64_BIT_ALL USE_64_BIT_INT USE_LARGE_FILES
                        USE_LOCALE USE_LOCALE_COLLATE USE_LOCALE_CTYPE
                        USE_LOCALE_NUMERIC USE_PERLIO USE_PERL_ATOF
  Locally applied patches:
	uncommitted-changes
  Built under linux
  Compiled at Aug 21 2016 18:53:05
  %ENV:
    PERL5LIB=""
    PERL5OPT=""
    PERL5_CPANPLUS_IS_RUNNING="13768"
    PERL5_CPAN_IS_RUNNING="13768"
    PERL_CANARY_STABILITY_NOPROMPT="1"
    PERL_MM_USE_DEFAULT="1"
  @INC:
    /home/sand/src/perl/repoperls/installed-perls/host/k93x64sid/v5.18.4/29a8/lib/site_perl/5.18.4/x86_64-linux
    /home/sand/src/perl/repoperls/installed-perls/host/k93x64sid/v5.18.4/29a8/lib/site_perl/5.18.4
    /home/sand/src/perl/repoperls/installed-perls/host/k93x64sid/v5.18.4/29a8/lib/5.18.4/x86_64-linux
    /home/sand/src/perl/repoperls/installed-perls/host/k93x64sid/v5.18.4/29a8/lib/5.18.4
    .