DataExtract-FixedWidth v0.09 Perl 5 v5.24.1 RC4 x86_64-linux

Status
Pass
From
Slaven Rezić (SREZIC)
Dist
DataExtract-FixedWidth v0.09
Platform
Perl 5 v5.24.1 RC4 x86_64-linux
Date
2016-11-02 16:54:23
ID
01d27f38-a11d-11e6-bc12-e4ecf0e4c50b
This distribution has been tested as part of the CPAN Testers
project, supporting the Perl programming language.  See
http://wiki.cpantesters.org/ for more information or email
questions to cpan-testers-discuss@perl.org


--
Dear Evan Carroll,

This is a computer-generated report for DataExtract-FixedWidth-0.09
on perl 5.24.1, created by CPAN-Reporter-1.2018.

Thank you for uploading your work to CPAN.  Congratulations!
All tests were successful.

Sections of this report:

    * Tester comments
    * Program output
    * Prerequisites
    * Environment and other context

------------------------------
TESTER COMMENTS
------------------------------

Additional comments from tester:

none provided

------------------------------
PROGRAM OUTPUT
------------------------------

Output from '/usr/bin/make test':

PERL_DL_NONLAZY=1 "/bbbike/perl-5.24.1-RC4/bin/perl" "-MExtUtils::Command::MM" "-MTest::Harness" "-e" "undef *Test::Harness::Switches; test_harness(0, 'inc', 'blib/lib', 'blib/arch')" t/00-load.t t/01-Wikipedia.t t/02-RusselAdams-Snap.t t/03-Nulls.t t/04-Fix-Overlay.t t/05-BrowserUK.t t/06-BadConstructor.t t/07-Heurisitic_ParseHash.t t/08-SingleColumn.t t/09-01-pslA.t t/09-02-pslA.t t/10-Heuristic-woHeader-wCols.t t/11-Heuristic-ShortFirstRow.t t/12-Null.t t/13-RightAlignFirstCol.t t/boilerplate.t t/pod-coverage.t t/pod.t
# Testing DataExtract::FixedWidth 0.09, Perl 5.024001, /bbbike/perl-5.24.1-RC4/bin/perl
t/00-load.t ...................... ok
given is experimental at t/01-Wikipedia.t line 28.
when is experimental at t/01-Wikipedia.t line 29.
when is experimental at t/01-Wikipedia.t line 38.
when is experimental at t/01-Wikipedia.t line 47.
t/01-Wikipedia.t ................. ok
given is experimental at t/02-RusselAdams-Snap.t line 39.
when is experimental at t/02-RusselAdams-Snap.t line 40.
when is experimental at t/02-RusselAdams-Snap.t line 49.
t/02-RusselAdams-Snap.t .......... ok
given is experimental at t/03-Nulls.t line 27.
when is experimental at t/03-Nulls.t line 28.
when is experimental at t/03-Nulls.t line 37.
t/03-Nulls.t ..................... ok
given is experimental at t/04-Fix-Overlay.t line 27.
when is experimental at t/04-Fix-Overlay.t line 28.
t/04-Fix-Overlay.t ............... ok
given is experimental at t/05-BrowserUK.t line 22.
when is experimental at t/05-BrowserUK.t line 23.
when is experimental at t/05-BrowserUK.t line 28.
t/05-BrowserUK.t ................. ok
t/06-BadConstructor.t ............ ok
given is experimental at t/07-Heurisitic_ParseHash.t line 28.
when is experimental at t/07-Heurisitic_ParseHash.t line 29.
when is experimental at t/07-Heurisitic_ParseHash.t line 38.
t/07-Heurisitic_ParseHash.t ...... ok
given is experimental at t/08-SingleColumn.t line 22.
when is experimental at t/08-SingleColumn.t line 23.
when is experimental at t/08-SingleColumn.t line 24.
when is experimental at t/08-SingleColumn.t line 25.
when is experimental at t/08-SingleColumn.t line 26.
t/08-SingleColumn.t .............. ok
t/09-01-pslA.t ................... ok
t/09-02-pslA.t ................... ok
t/10-Heuristic-woHeader-wCols.t .. ok
t/11-Heuristic-ShortFirstRow.t ... ok
t/12-Null.t ...................... ok
t/13-RightAlignFirstCol.t ........ ok
t/boilerplate.t .................. ok
t/pod-coverage.t ................. ok
t/pod.t .......................... ok
All tests successful.

Test Summary Report
-------------------
t/boilerplate.t                (Wstat: 0 Tests: 3 Failed: 0)
  TODO passed:   3
Files=18, Tests=83,  2 wallclock secs ( 0.05 usr  0.05 sys +  2.40 cusr  0.38 csys =  2.88 CPU)
Result: PASS

------------------------------
PREREQUISITES
------------------------------

Prerequisite modules loaded:

requires:

    Module              Need Have    
    ------------------- ---- --------
    ExtUtils::MakeMaker 7.24 7.24    
    Moose               0.58 2.1806  
    Test::More          0    1.302062

build_requires:

    Module              Need Have    
    ------------------- ---- --------
    ExtUtils::MakeMaker 0    7.24    


------------------------------
ENVIRONMENT AND OTHER CONTEXT
------------------------------

Environment variables:

    LANG = C
    LC_ALL = de_DE.UTF-8
    PATH = /usr/local/bin:/usr/bin:/bin:/usr/local/sbin:/usr/sbin:/sbin:/home/cpansand/bin/linux-gnu:/home/cpansand/bin/sh:/home/cpansand/bin:/usr/games:/home/cpansand/devel:/home/eserte/src/srezic-misc/scripts
    PERL5LIB = 
    PERL5OPT = 
    PERL5_CPANPLUS_IS_RUNNING = 19074
    PERL5_CPAN_IS_RUNNING = 19074
    PERL5_CPAN_IS_RUNNING_IN_RECURSION = 6653,19074
    PERLDOC = -MPod::Perldoc::ToTextOverstrike
    PERL_BATCH = yes
    PERL_CANARY_STABILITY_NOPROMPT = 1
    PERL_CPAN_REPORTER_CONFIG = /run/user/1023/cpansmoker/2016110209/cpanreporter_000_config.ini
    PERL_EXTUTILS_AUTOINSTALL = --defaultdeps
    PERL_PARALLEL_SMOKER = yes
    PERL_USE_UNSAFE_INC = 1
    SHELL = /bin/zsh
    TERM = screen
    TMPDIR = /run/user/1023/cpansmoker/2016110209

Perl special variables (and OS-specific diagnostics, for MSWin32):

    $^X = /bbbike/perl-5.24.1-RC4/bin/perl
    $UID/$EUID = 1023 / 1023
    $GID = 1023 1023
    $EGID = 1023 1023

Perl module toolchain versions installed:

    Module              Have    
    ------------------- --------
    CPAN                2.14    
    CPAN::Meta          2.150010
    Cwd                 3.62    
    ExtUtils::CBuilder  0.280224
    ExtUtils::Command   7.24    
    ExtUtils::Install   2.04    
    ExtUtils::MakeMaker 7.24    
    ExtUtils::Manifest  1.70    
    ExtUtils::ParseXS   3.30    
    File::Spec          3.62    
    JSON                2.90    
    JSON::PP            2.27400 
    Module::Build       0.4220  
    Module::Signature   0.81    
    Parse::CPAN::Meta   2.150010
    Test::Harness       3.36    
    Test::More          1.302062
    YAML                1.18    
    YAML::Syck          1.29    
    version             0.9917  


--

Summary of my perl5 (revision 5 version 24 subversion 1) configuration:
   
  Platform:
    osname=linux, osvers=3.16.0-4-amd64, archname=x86_64-linux
    uname='linux eserte 3.16.0-4-amd64 #1 smp debian 3.16.36-1+deb8u1 (2016-09-03) x86_64 gnulinux '
    config_args='-ds -e -Dprefix=/opt/perl-5.24.1-RC4 -Dcf_email=srezic@cpan.org'
    hint=recommended, useposix=true, d_sigaction=define
    useithreads=undef, usemultiplicity=undef
    use64bitint=define, use64bitall=define, uselongdouble=undef
    usemymalloc=n, bincompat5005=undef
  Compiler:
    cc='cc', ccflags ='-fwrapv -fno-strict-aliasing -pipe -fstack-protector-strong -I/usr/local/include -D_LARGEFILE_SOURCE -D_FILE_OFFSET_BITS=64 -D_FORTIFY_SOURCE=2',
    optimize='-O2',
    cppflags='-fwrapv -fno-strict-aliasing -pipe -fstack-protector-strong -I/usr/local/include'
    ccversion='', gccversion='4.9.2', gccosandvers=''
    intsize=4, longsize=8, ptrsize=8, doublesize=8, byteorder=12345678, doublekind=3
    d_longlong=define, longlongsize=8, d_longdbl=define, longdblsize=16, longdblkind=3
    ivtype='long', ivsize=8, nvtype='double', nvsize=8, Off_t='off_t', lseeksize=8
    alignbytes=8, prototype=define
  Linker and Libraries:
    ld='cc', ldflags =' -fstack-protector-strong -L/usr/local/lib'
    libpth=/usr/local/lib /usr/lib/gcc/x86_64-linux-gnu/4.9/include-fixed /usr/include/x86_64-linux-gnu /usr/lib /lib/x86_64-linux-gnu /lib/../lib /usr/lib/x86_64-linux-gnu /usr/lib/../lib /lib
    libs=-lpthread -lnsl -lgdbm -ldb -ldl -lm -lcrypt -lutil -lc -lgdbm_compat
    perllibs=-lpthread -lnsl -ldl -lm -lcrypt -lutil -lc
    libc=libc-2.19.so, so=so, useshrplib=false, libperl=libperl.a
    gnulibc_version='2.19'
  Dynamic Linking:
    dlsrc=dl_dlopen.xs, dlext=so, d_dlsymun=undef, ccdlflags='-Wl,-E'
    cccdlflags='-fPIC', lddlflags='-shared -O2 -L/usr/local/lib -fstack-protector-strong'


Characteristics of this binary (from libperl): 
  Compile-time options: HAS_TIMES PERLIO_LAYERS PERL_COPY_ON_WRITE
                        PERL_DONT_CREATE_GVSV
                        PERL_HASH_FUNC_ONE_AT_A_TIME_HARD PERL_MALLOC_WRAP
                        PERL_PRESERVE_IVUV USE_64_BIT_ALL USE_64_BIT_INT
                        USE_LARGE_FILES USE_LOCALE USE_LOCALE_COLLATE
                        USE_LOCALE_CTYPE USE_LOCALE_NUMERIC USE_LOCALE_TIME
                        USE_PERLIO USE_PERL_ATOF
  Locally applied patches:
	RC4
  Built under linux
  Compiled at Oct 13 2016 07:07:53
  %ENV:
    PERL5LIB=""
    PERL5OPT=""
    PERL5_CPANPLUS_IS_RUNNING="19074"
    PERL5_CPAN_IS_RUNNING="19074"
    PERL5_CPAN_IS_RUNNING_IN_RECURSION="6653,19074"
    PERLDOC="-MPod::Perldoc::ToTextOverstrike"
    PERL_BATCH="yes"
    PERL_CANARY_STABILITY_NOPROMPT="1"
    PERL_CPAN_REPORTER_CONFIG="/run/user/1023/cpansmoker/2016110209/cpanreporter_000_config.ini"
    PERL_EXTUTILS_AUTOINSTALL="--defaultdeps"
    PERL_PARALLEL_SMOKER="yes"
    PERL_USE_UNSAFE_INC="1"
  @INC:
    /opt/perl-5.24.1-RC4/lib/site_perl/5.24.1/x86_64-linux
    /opt/perl-5.24.1-RC4/lib/site_perl/5.24.1
    /opt/perl-5.24.1-RC4/lib/5.24.1/x86_64-linux
    /opt/perl-5.24.1-RC4/lib/5.24.1
    .