Dancer-Plugin-Auth-Twitter v0.02 Perl 5 v5.12.2 i86pc-solaris-64int

Status
Pass
From
Jost Krieger
Dist
Dancer-Plugin-Auth-Twitter v0.02
Platform
Perl 5 v5.12.2 i86pc-solaris-64int
Date
2011-01-18 08:57:41
ID
01e7fc02-22e1-11e0-afe4-bf6b4e7aadc9
This distribution has been tested as part of the CPAN Testers
project, supporting the Perl programming language.  See
http://wiki.cpantesters.org/ for more information or email
questions to cpan-testers-discuss@perl.org


--
Dear Alexis Sukrieh,

This is a computer-generated report for Dancer-Plugin-Auth-Twitter-0.02
on perl 5.12.2, created by CPAN-Reporter-1.1803.

Thank you for uploading your work to CPAN.  Congratulations!
All tests were successful.

Sections of this report:

    * Tester comments
    * Program output
    * Prerequisites
    * Environment and other context

------------------------------
TESTER COMMENTS
------------------------------

Additional comments from tester:

this report is from an automated smoke testing program
and was not reviewed by a human for accuracy

------------------------------
PROGRAM OUTPUT
------------------------------

Output from '/usr/bin/make test':

PERL_DL_NONLAZY=1 /export/home/cpant3/perl5/bin/perl5.12.2 "-MExtUtils::Command::MM" "-e" "test_harness(0, 'blib/lib', 'blib/arch')" t/*.t
# Testing Dancer::Plugin::Auth::Twitter 0.02, Perl 5.012002, /export/home/cpant3/perl5/bin/perl5.12.2
t/00-load.t ....... ok
t/manifest.t ...... skipped: Author tests not required for installation
t/pod-coverage.t .. ok
t/pod.t ........... ok
All tests successful.
Files=4, Tests=3,  2 wallclock secs ( 0.03 usr  0.02 sys +  1.26 cusr  0.38 csys =  1.69 CPU)
Result: PASS

------------------------------
PREREQUISITES
------------------------------

Prerequisite modules loaded:

requires:

    Module              Need      Have   
    ------------------- --------- -------
    Dancer              1.1999_04 1.2003 
    Net::Twitter        0         3.14002
    Test::More          0         0.96   

configure_requires:

    Module              Need      Have   
    ------------------- --------- -------
    ExtUtils::MakeMaker 0         6.56   


------------------------------
ENVIRONMENT AND OTHER CONTEXT
------------------------------

Environment variables:

    AUTOMATED_TESTING = 1
    LANG = en_US.UTF-8
    PATH = /export/home/cpant3/perl5/bin:/usr/bin
    PERL5LIB = /export/home/cpant3/.cpan/build/Net-Twitter-3.14002-_ahUEz/blib/arch:/export/home/cpant3/.cpan/build/Net-Twitter-3.14002-_ahUEz/blib/lib:/export/home/cpant3/.cpan/build/MooseX-MultiInitArg-0.01-IcyLTP/blib/arch:/export/home/cpant3/.cpan/build/MooseX-MultiInitArg-0.01-IcyLTP/blib/lib:/export/home/cpant3/.cpan/build/Net-OAuth-0.27-p8tdll/blib/arch:/export/home/cpant3/.cpan/build/Net-OAuth-0.27-p8tdll/blib/lib:/export/home/cpant3/.cpan/build/Data-Visitor-0.27-USP9lM/blib/arch:/export/home/cpant3/.cpan/build/Data-Visitor-0.27-USP9lM/blib/lib:/export/home/cpant3/.cpan/build/Dancer-1.2003-ieRqzP/blib/arch:/export/home/cpant3/.cpan/build/Dancer-1.2003-ieRqzP/blib/lib:/export/home/cpant3/.cpan/build/HTTP-Server-Simple-PSGI-0.14-Y7pEKP/blib/arch:/export/home/cpant3/.cpan/build/HTTP-Server-Simple-PSGI-0.14-Y7pEKP/blib/lib
    PERL5OPT = 
    PERL5_CPANPLUS_IS_RUNNING = 4074
    PERL5_CPAN_IS_RUNNING = 4074
    PERL5_CPAN_IS_RUNNING_IN_RECURSION = 10861,4074
    PERL_CR_SMOKER_CURRENT = Dancer-Plugin-Auth-Twitter-0.02
    PERL_CR_SMOKER_RUNONCE = 1
    PERL_EXTUTILS_AUTOINSTALL = --defaultdeps
    PERL_MM_USE_DEFAULT = 1
    SHELL = /bin/bash
    TERM = xterm

Perl special variables (and OS-specific diagnostics, for MSWin32):

    $^X = /export/home/cpant3/perl5/bin/perl5.12.2
    $UID/$EUID = 103 / 103
    $GID = 1 1
    $EGID = 1 1

Perl module toolchain versions installed:

    Module              Have   
    ------------------- -------
    CPAN                1.94_56
    Cwd                 3.33   
    ExtUtils::CBuilder  0.2802 
    ExtUtils::Command   1.16   
    ExtUtils::Install   1.55   
    ExtUtils::MakeMaker 6.56   
    ExtUtils::Manifest  1.58   
    ExtUtils::ParseXS   2.2206 
    File::Spec          3.33   
    Module::Build       0.3607 
    Module::Signature   n/a    
    Test::Harness       3.22   
    Test::More          0.96   
    YAML                0.72   
    YAML::Syck          1.17   
    version             0.88   


--

Summary of my perl5 (revision 5 version 12 subversion 2) configuration:
   
  Platform:
    osname=solaris, osvers=2.11, archname=i86pc-solaris-64int
    uname='sunos open-solaris-noc 5.11 snv_95 i86pc i386 i86pc '
    config_args='-Dcc=gcc -Dprefix=~/perl5 -Duse64bitint -Dusedevel -d'
    hint=recommended, useposix=true, d_sigaction=define
    useithreads=undef, usemultiplicity=undef
    useperlio=define, d_sfio=undef, uselargefiles=define, usesocks=undef
    use64bitint=define, use64bitall=undef, uselongdouble=undef
    usemymalloc=n, bincompat5005=undef
  Compiler:
    cc='gcc', ccflags ='-DPTR_IS_LONG -fno-strict-aliasing -pipe -D_LARGEFILE_SOURCE -D_FILE_OFFSET_BITS=64 -DPERL_USE_SAFE_PUTENV',
    optimize='-O',
    cppflags='-DPTR_IS_LONG -fno-strict-aliasing -pipe'
    ccversion='', gccversion='3.4.3 (csl-sol210-3_4-20050802)', gccosandvers='solaris2.11'
    intsize=4, longsize=4, ptrsize=4, doublesize=8, byteorder=12345678
    d_longlong=define, longlongsize=8, d_longdbl=define, longdblsize=12
    ivtype='long long', ivsize=8, nvtype='double', nvsize=8, Off_t='off_t', lseeksize=8
    alignbytes=4, prototype=define
  Linker and Libraries:
    ld='gcc', ldflags =' '
    libpth=/usr/lib /usr/ccs/lib
    libs=-lsocket -lnsl -ldl -lm -lc
    perllibs=-lsocket -lnsl -ldl -lm -lc
    libc=/lib/libc.so, so=so, useshrplib=false, libperl=libperl.a
    gnulibc_version=''
  Dynamic Linking:
    dlsrc=dl_dlopen.xs, dlext=so, d_dlsymun=undef, ccdlflags=' '
    cccdlflags='-fPIC', lddlflags='-G'


Characteristics of this binary (from libperl): 
  Compile-time options: PERL_DONT_CREATE_GVSV PERL_MALLOC_WRAP PERL_USE_DEVEL
                        PERL_USE_SAFE_PUTENV USE_64_BIT_INT USE_LARGE_FILES
                        USE_PERLIO USE_PERL_ATOF
  Built under solaris
  Compiled at Sep 26 2010 12:56:09
  %ENV:
    PERL5LIB="/export/home/cpant3/.cpan/build/Net-Twitter-3.14002-_ahUEz/blib/arch:/export/home/cpant3/.cpan/build/Net-Twitter-3.14002-_ahUEz/blib/lib:/export/home/cpant3/.cpan/build/MooseX-MultiInitArg-0.01-IcyLTP/blib/arch:/export/home/cpant3/.cpan/build/MooseX-MultiInitArg-0.01-IcyLTP/blib/lib:/export/home/cpant3/.cpan/build/Net-OAuth-0.27-p8tdll/blib/arch:/export/home/cpant3/.cpan/build/Net-OAuth-0.27-p8tdll/blib/lib:/export/home/cpant3/.cpan/build/Data-Visitor-0.27-USP9lM/blib/arch:/export/home/cpant3/.cpan/build/Data-Visitor-0.27-USP9lM/blib/lib:/export/home/cpant3/.cpan/build/Dancer-1.2003-ieRqzP/blib/arch:/export/home/cpant3/.cpan/build/Dancer-1.2003-ieRqzP/blib/lib:/export/home/cpant3/.cpan/build/HTTP-Server-Simple-PSGI-0.14-Y7pEKP/blib/arch:/export/home/cpant3/.cpan/build/HTTP-Server-Simple-PSGI-0.14-Y7pEKP/blib/lib"
    PERL5OPT=""
    PERL5_CPANPLUS_IS_RUNNING="4074"
    PERL5_CPAN_IS_RUNNING="4074"
    PERL5_CPAN_IS_RUNNING_IN_RECURSION="10861,4074"
    PERL_CR_SMOKER_CURRENT="Dancer-Plugin-Auth-Twitter-0.02"
    PERL_CR_SMOKER_RUNONCE="1"
    PERL_EXTUTILS_AUTOINSTALL="--defaultdeps"
    PERL_MM_USE_DEFAULT="1"
  @INC:
    /export/home/cpant3/.cpan/build/Net-Twitter-3.14002-_ahUEz/blib/arch
    /export/home/cpant3/.cpan/build/Net-Twitter-3.14002-_ahUEz/blib/lib
    /export/home/cpant3/.cpan/build/MooseX-MultiInitArg-0.01-IcyLTP/blib/arch
    /export/home/cpant3/.cpan/build/MooseX-MultiInitArg-0.01-IcyLTP/blib/lib
    /export/home/cpant3/.cpan/build/Net-OAuth-0.27-p8tdll/blib/arch
    /export/home/cpant3/.cpan/build/Net-OAuth-0.27-p8tdll/blib/lib
    /export/home/cpant3/.cpan/build/Data-Visitor-0.27-USP9lM/blib/arch
    /export/home/cpant3/.cpan/build/Data-Visitor-0.27-USP9lM/blib/lib
    /export/home/cpant3/.cpan/build/Dancer-1.2003-ieRqzP/blib/arch
    /export/home/cpant3/.cpan/build/Dancer-1.2003-ieRqzP/blib/lib
    /export/home/cpant3/.cpan/build/HTTP-Server-Simple-PSGI-0.14-Y7pEKP/blib/arch
    /export/home/cpant3/.cpan/build/HTTP-Server-Simple-PSGI-0.14-Y7pEKP/blib/lib
    /export/home/cpant3/perl5/lib/site_perl/5.12.2/i86pc-solaris-64int
    /export/home/cpant3/perl5/lib/site_perl/5.12.2
    /export/home/cpant3/perl5/lib/5.12.2/i86pc-solaris-64int
    /export/home/cpant3/perl5/lib/5.12.2
    /export/home/cpant3/perl5/lib/site_perl
    .