Dist-Zilla-Plugin-DynamicPrereqs v0.040 Perl 5 v5.41.8 amd64-netbsd-thread-multi

Status
Pass
From
Carlos Guevara
Dist
Dist-Zilla-Plugin-DynamicPrereqs v0.040
Platform
Perl 5 v5.41.8 amd64-netbsd-thread-multi
Date
2025-01-08 05:40:02
ID
01eaadf6-cd83-11ef-92b1-91ae8e191c20
This distribution has been tested as part of the CPAN Testers
project, supporting the Perl programming language.  See
http://wiki.cpantesters.org/ for more information or email
questions to cpan-testers-discuss@perl.org


--
Dear Karen Etheridge,

This is a computer-generated report for Dist-Zilla-Plugin-DynamicPrereqs-0.040
on perl 5.41.8, created by CPAN-Reporter-1.2020.

Thank you for uploading your work to CPAN.  Congratulations!
All tests were successful.

Sections of this report:

    * Tester comments
    * Program output
    * Prerequisites
    * Environment and other context

------------------------------
TESTER COMMENTS
------------------------------

Additional comments from tester:

this report is from an automated smoke testing program
and was not reviewed by a human for accuracy

------------------------------
PROGRAM OUTPUT
------------------------------

Output from '/usr/bin/make test':

Skip blib/lib/auto/share/module/Dist-Zilla-Plugin-DynamicPrereqs/include_subs/is_smoker (unchanged)
Skip blib/lib/auto/share/module/Dist-Zilla-Plugin-DynamicPrereqs/include_subs/parse_args (unchanged)
Skip blib/lib/auto/share/module/Dist-Zilla-Plugin-DynamicPrereqs/include_subs/maybe_command (unchanged)
Skip blib/lib/auto/share/module/Dist-Zilla-Plugin-DynamicPrereqs/include_subs/test_requires (unchanged)
Skip blib/lib/auto/share/module/Dist-Zilla-Plugin-DynamicPrereqs/include_subs/runtime_requires (unchanged)
Skip blib/lib/auto/share/module/Dist-Zilla-Plugin-DynamicPrereqs/include_subs/can_use (unchanged)
Skip blib/lib/auto/share/module/Dist-Zilla-Plugin-DynamicPrereqs/include_subs/prompt_default_yes (unchanged)
Skip blib/lib/auto/share/module/Dist-Zilla-Plugin-DynamicPrereqs/include_subs/can_run (unchanged)
Skip blib/lib/auto/share/module/Dist-Zilla-Plugin-DynamicPrereqs/include_subs/can_xs (unchanged)
Skip blib/lib/auto/share/module/Dist-Zilla-Plugin-DynamicPrereqs/include_subs/is_interactive (unchanged)
Skip blib/lib/auto/share/module/Dist-Zilla-Plugin-DynamicPrereqs/include_subs/has_module (unchanged)
Skip blib/lib/auto/share/module/Dist-Zilla-Plugin-DynamicPrereqs/include_subs/build_requires (unchanged)
Skip blib/lib/auto/share/module/Dist-Zilla-Plugin-DynamicPrereqs/include_subs/requires (unchanged)
Skip blib/lib/auto/share/module/Dist-Zilla-Plugin-DynamicPrereqs/include_subs/prompt_default_no (unchanged)
Skip blib/lib/auto/share/module/Dist-Zilla-Plugin-DynamicPrereqs/include_subs/can_cc (unchanged)
Skip blib/lib/auto/share/module/Dist-Zilla-Plugin-DynamicPrereqs/include_subs/is_os (unchanged)
Skip blib/lib/auto/share/module/Dist-Zilla-Plugin-DynamicPrereqs/include_subs/want_pp (unchanged)
Skip blib/lib/auto/share/module/Dist-Zilla-Plugin-DynamicPrereqs/include_subs/want_xs (unchanged)
Skip blib/lib/auto/share/module/Dist-Zilla-Plugin-DynamicPrereqs/include_subs/is_trial (unchanged)
Skip blib/lib/auto/share/module/Dist-Zilla-Plugin-DynamicPrereqs/include_subs/isnt_os (unchanged)
Skip blib/lib/auto/share/module/Dist-Zilla-Plugin-DynamicPrereqs/include_subs/is_miniperl (unchanged)
Skip blib/lib/auto/share/module/Dist-Zilla-Plugin-DynamicPrereqs/include_subs/_add_prereq (unchanged)
PERL_DL_NONLAZY=1 "/home/cpan/bin/perl/bin/perl5.41.8" "-MExtUtils::Command::MM" "-MTest::Harness" "-e" "undef *Test::Harness::Switches; test_harness(0, 'blib/lib', 'blib/arch')" t/*.t
# 
# Versions for all modules listed in MYMETA.json (including optional ones):
# 
# === Configure Requires ===
# 
#     Module                  Want Have
#     ----------------------- ---- ----
#     ExtUtils::MakeMaker      any 7.70
#     File::ShareDir::Install 0.06 0.14
# 
# === Build Requires ===
# 
#     Module              Want Have
#     ------------------- ---- ----
#     ExtUtils::MakeMaker  any 7.70
# 
# === Test Requires ===
# 
#     Module                          Want       Have
#     ------------------------------ ----- ----------
#     Capture::Tiny                    any       0.50
#     Dist::Zilla::Plugin::MakeMaker 5.022      6.032
#     ExtUtils::MakeMaker             6.64       7.70
#     File::Spec                       any       3.93
#     File::pushd                      any      1.016
#     Module::CoreList                3.06 5.20250120
#     PadWalker                        any        2.5
#     Test::DZil                       any      6.032
#     Test::Deep                       any      1.204
#     Test::Deep::JSON                 any       0.05
#     Test::Fatal                      any      0.017
#     Test::File::ShareDir             any   1.001002
#     Test::More                      0.88   1.302207
#     Test::Needs                      any   0.002010
#     if                               any     0.0610
#     lib                              any       0.65
# 
# === Test Recommends ===
# 
#     Module         Want     Have
#     ---------- -------- --------
#     CPAN::Meta 2.120900 2.150010
# 
# === Test Conflicts ===
# 
#     Module      Want Have
#     ----------- ---- ----
#     CPAN::Index 0.01 2.29
# 
# === Runtime Requires ===
# 
#     Module                             Want    Have
#     --------------------------------- ----- -------
#     Dist::Zilla::Plugin::MakeMaker    5.022   6.032
#     Dist::Zilla::Role::AfterBuild       any   6.032
#     Dist::Zilla::Role::FileGatherer     any   6.032
#     Dist::Zilla::Role::FileMunger       any   6.032
#     Dist::Zilla::Role::MetaProvider     any   6.032
#     Dist::Zilla::Role::ModuleMetadata   any   0.006
#     Dist::Zilla::Role::PrereqSource     any   6.032
#     Dist::Zilla::Role::TextTemplate     any   6.032
#     File::ShareDir                      any   1.118
#     List::Util                         1.45 1.68_01
#     Module::Runtime                     any   0.016
#     Moose                               any  2.2207
#     Path::Tiny                          any   0.146
#     Term::ANSIColor                    3.00    5.01
#     Try::Tiny                           any    0.32
#     namespace::autoclean                any    0.31
#     strict                              any    1.13
#     warnings                            any    1.72
# 
# === Other Modules ===
# 
#     Module                                     Have
#     --------------------------------------- -------
#     Dist::Zilla::Plugin::MakeMaker::Awesome missing
#     Encode                                     3.21
#     File::Temp                               0.2311
#     JSON::PP                                   4.16
#     Module::Runtime                           0.016
#     Pod::Coverage                              0.23
#     Sub::Name                                  0.28
#     YAML                                       1.31
#     autodie                                    2.37
# 
t/00-report-prereqs.t ........... ok
t/01-basic.t .................... ok
t/02-no-makefile.t .............. ok
t/03-build_pl.t ................. ok
t/04-two-plugins.t .............. ok
t/05-overshadow-static.t ........ ok
t/06-makemaker-awesome.t ........ skipped: Need Dist::Zilla::Plugin::MakeMaker::Awesome 0.38
t/07-unknown-arguments.t ........ ok
t/08-empty-prereqs.t ............ ok
t/09-delimiter-whitespace.t ..... ok
t/10-raw-from-file.t ............ ok
t/11-include-sub.t .............. ok
t/12-include-sub-definitions.t .. ok
t/13-two-plugins.t .............. ok
t/14-nonexistent-sub.t .......... ok
t/15-conditions-raw.t ........... ok
t/17-sub-prereqs-core.t ......... ok
t/18-subs.t ..................... ok
t/19-include-subs-requires.t .... ok
t/20-include-subs-allraw.t ...... ok
t/21-body-from-file.t ........... ok
t/22-conditions-body.t .......... ok
t/23-inlined-module.t ........... ok
t/zzz-check-breaks.t ............ ok
All tests successful.
Files=24, Tests=202, 20 wallclock secs ( 0.06 usr  0.06 sys + 16.18 cusr  3.85 csys = 20.15 CPU)
Result: PASS

------------------------------
PREREQUISITES
------------------------------

Prerequisite modules loaded:

requires:

    Module                            Need  Have      
    --------------------------------- ----- ----------
    Dist::Zilla::Plugin::MakeMaker    5.022 6.032     
    Dist::Zilla::Role::AfterBuild     0     6.032     
    Dist::Zilla::Role::FileGatherer   0     6.032     
    Dist::Zilla::Role::FileMunger     0     6.032     
    Dist::Zilla::Role::MetaProvider   0     6.032     
    Dist::Zilla::Role::ModuleMetadata 0     0.006     
    Dist::Zilla::Role::PrereqSource   0     6.032     
    Dist::Zilla::Role::TextTemplate   0     6.032     
    File::ShareDir                    0     1.118     
    List::Util                        1.45  1.68_01   
    Module::Runtime                   0     0.016     
    Moose                             0     2.2207    
    namespace::autoclean              0     0.31      
    Path::Tiny                        0     0.146     
    perl                              5.010 5.041008  
    strict                            0     1.13      
    Term::ANSIColor                   3.00  5.01      
    Try::Tiny                         0     0.32      
    warnings                          0     1.72      

build_requires:

    Module                            Need  Have      
    --------------------------------- ----- ----------
    Capture::Tiny                     0     0.50      
    Dist::Zilla::Plugin::MakeMaker    5.022 6.032     
    ExtUtils::MakeMaker               6.64  7.70      
    File::pushd                       0     1.016     
    File::Spec                        0     3.93      
    if                                0     0.0610    
    lib                               0     0.65      
    Module::CoreList                  3.06  5.20250120
    PadWalker                         0     2.5       
    Test::Deep                        0     1.204     
    Test::Deep::JSON                  0     0.05      
    Test::DZil                        0     6.032     
    Test::Fatal                       0     0.017     
    Test::File::ShareDir              0     1.001002  
    Test::More                        0.88  1.302207  
    Test::Needs                       0     0.002010  

configure_requires:

    Module                            Need  Have      
    --------------------------------- ----- ----------
    ExtUtils::MakeMaker               0     7.70      
    File::ShareDir::Install           0.06  0.14      
    perl                              5.006 5.041008  


------------------------------
ENVIRONMENT AND OTHER CONTEXT
------------------------------

Environment variables:

    AUTOMATED_TESTING = 1
    DATE_MANIP_TEST_DM5 = 1
    LC_ALL = C
    NONINTERACTIVE_TESTING = 1
    NO_NETWORK_TESTING = 1
    PATH = /home/cpan/bin/perl/bin:/home/cpan/bin:/home/cpan/bin:/bin:/sbin:/usr/bin:/usr/sbin:/usr/X11R7/bin:/usr/pkg/bin:/usr/pkg/sbin:/usr/games:/usr/local/bin:/usr/local/sbin
    PERL5LIB = 
    PERL5OPT = 
    PERL5_CPANPLUS_IS_RUNNING = 21961
    PERL5_CPAN_IS_RUNNING = 21961
    PERL_MM_USE_DEFAULT = 1
    PERL_USE_UNSAFE_INC = 1
    SHELL = /usr/pkg/bin/bash
    TERM = screen
    TMPDIR = /home/cpan/tmp

Perl special variables (and OS-specific diagnostics, for MSWin32):

    $^X = /home/cpan/bin/perl/bin/perl5.41.8
    $UID/$EUID = 1001 / 1001
    $GID = 100 100
    $EGID = 100 100

Perl module toolchain versions installed:

    Module              Have    
    ------------------- --------
    CPAN                2.38    
    CPAN::Meta          2.150010
    Cwd                 3.92    
    ExtUtils::CBuilder  0.280240
    ExtUtils::Command   7.70    
    ExtUtils::Install   2.22    
    ExtUtils::MakeMaker 7.70    
    ExtUtils::Manifest  1.75    
    ExtUtils::ParseXS   3.56    
    File::Spec          3.93    
    JSON                4.10    
    JSON::PP            4.16    
    Module::Build       0.4234  
    Module::Signature   0.89    
    Parse::CPAN::Meta   2.150010
    Test2               1.302207
    Test::Harness       3.50    
    Test::More          1.302207
    YAML                1.31    
    YAML::Syck          1.34    
    version             0.9933  


--

Summary of my perl5 (revision 5 version 41 subversion 8) configuration:
  Commit id: 3121b87a78c47abe4d441a7b8558bd27273df0c9
  Platform:
    osname=netbsd
    osvers=10.0
    archname=amd64-netbsd-thread-multi
    uname='netbsd cjg-netbsd10 10.0 netbsd 10.0 (generic) #0: thu mar 28 08:33:33 utc 2024 mkrepro@mkrepro.netbsd.org:usrsrcsysarchamd64compilegeneric amd64 '
    config_args='-des -Dprefix=/home/cpan/bin/perl -Dscriptdir=/home/cpan/bin/perl/bin -Dusedevel -Duse64bitall -Duseithreads'
    hint=recommended
    useposix=true
    d_sigaction=define
    useithreads=define
    usemultiplicity=define
    use64bitint=define
    use64bitall=define
    uselongdouble=undef
    usemymalloc=n
    default_inc_excludes_dot=define
  Compiler:
    cc='cc'
    ccflags ='-fwrapv -fno-strict-aliasing -pipe -fstack-protector-strong -I/usr/pkg/include -D_FORTIFY_SOURCE=2'
    optimize='-O'
    cppflags='-fwrapv -fno-strict-aliasing -pipe -fstack-protector-strong -I/usr/pkg/include'
    ccversion=''
    gccversion='10.5.0'
    gccosandvers=''
    intsize=4
    longsize=8
    ptrsize=8
    doublesize=8
    byteorder=12345678
    doublekind=3
    d_longlong=define
    longlongsize=8
    d_longdbl=define
    longdblsize=16
    longdblkind=3
    ivtype='long'
    ivsize=8
    nvtype='double'
    nvsize=8
    Off_t='off_t'
    lseeksize=8
    alignbytes=8
    prototype=define
  Linker and Libraries:
    ld='cc'
    ldflags =' -Wl,-rpath,/usr/pkg/lib -Wl,-rpath,/usr/local/lib -fstack-protector-strong -L/usr/pkg/lib'
    libpth=/usr/lib /usr/pkg/lib /lib
    libs=-lpthread -lm -lcrypt -lutil -lc -lposix
    perllibs=-lpthread -lm -lcrypt -lutil -lc -lposix
    libc=/lib/libc.so
    so=so
    useshrplib=false
    libperl=libperl.a
    gnulibc_version=''
  Dynamic Linking:
    dlsrc=dl_dlopen.xs
    dlext=so
    d_dlsymun=undef
    ccdlflags='-Wl,-E '
    cccdlflags='-DPIC -fPIC '
    lddlflags='-shared  -L/usr/pkg/lib -fstack-protector-strong'


Characteristics of this binary (from libperl): 
  Compile-time options:
    HAS_LONG_DOUBLE
    HAS_STRTOLD
    HAS_TIMES
    MULTIPLICITY
    PERLIO_LAYERS
    PERL_COPY_ON_WRITE
    PERL_DONT_CREATE_GVSV
    PERL_HASH_FUNC_SIPHASH13
    PERL_HASH_USE_SBOX32
    PERL_MALLOC_WRAP
    PERL_OP_PARENT
    PERL_PRESERVE_IVUV
    PERL_USE_DEVEL
    PERL_USE_SAFE_PUTENV
    USE_64_BIT_ALL
    USE_64_BIT_INT
    USE_ITHREADS
    USE_LARGE_FILES
    USE_LOCALE
    USE_LOCALE_COLLATE
    USE_LOCALE_CTYPE
    USE_LOCALE_NUMERIC
    USE_LOCALE_TIME
    USE_PERLIO
    USE_PERL_ATOF
    USE_REENTRANT_API
  Built under netbsd
  Compiled at Jan  7 2025 19:36:44
  %ENV:
    PERL5LIB=""
    PERL5OPT=""
    PERL5_CPANPLUS_IS_RUNNING="21961"
    PERL5_CPAN_IS_RUNNING="21961"
    PERL_MM_USE_DEFAULT="1"
    PERL_USE_UNSAFE_INC="1"
  @INC:
    /home/cpan/bin/perl/lib/site_perl/5.41.8/amd64-netbsd-thread-multi
    /home/cpan/bin/perl/lib/site_perl/5.41.8
    /home/cpan/bin/perl/lib/5.41.8/amd64-netbsd-thread-multi
    /home/cpan/bin/perl/lib/5.41.8
    .