Dist-Zilla-Plugin-ChangelogFromGit-CPAN-Changes v0.230680 Perl 5 v5.32.0 i686-linux-ld
- Status
- Pass
- From
- David Cantrell (DCANTRELL)
- Dist
-
Dist-Zilla-Plugin-ChangelogFromGit-CPAN-Changes v0.230680
- Platform
- Perl 5 v5.32.0 i686-linux-ld
- Date
- 2023-03-11 05:53:11
- ID
- 01ee0472-bfd1-11ed-bf2b-4f41c073100c
This distribution has been tested as part of the CPAN Testers
project, supporting the Perl programming language. See
http://wiki.cpantesters.org/ for more information or email
questions to cpan-testers-discuss@perl.org
--
Dear Ioan Rogers,
This is a computer-generated report for Dist-Zilla-Plugin-ChangelogFromGit-CPAN-Changes-0.230680
on perl 5.32.0, created by CPAN-Reporter-1.2018.
Thank you for uploading your work to CPAN. Congratulations!
All tests were successful.
Sections of this report:
* Tester comments
* Program output
* Prerequisites
* Environment and other context
------------------------------
TESTER COMMENTS
------------------------------
Additional comments from tester:
this report is from an automated smoke testing program
and was not reviewed by a human for accuracy
------------------------------
PROGRAM OUTPUT
------------------------------
Output from './Build test':
t/00-check-deps.t ...... ok
t/00-compile.t ......... ok
#
# Versions for all modules listed in MYMETA.json (including optional ones):
#
# === Configure Requires ===
#
# Module Want Have
# ------------------- ----- -----
# Module::Build::Tiny 0.034 0.039
#
# === Test Requires ===
#
# Module Want Have
# --------------------------- ----- --------
# Archive::Tar any 2.36
# Dist::Zilla::File::InMemory any 6.030
# ExtUtils::MakeMaker any 7.44
# File::Spec any 3.78
# File::chdir any 0.1011
# IO::Handle any 1.42
# IPC::Open3 any 1.21
# Path::Tiny any 0.122
# Test::CPAN::Changes any 0.400002
# Test::CheckDeps 0.010 0.010
# Test::DZil any 6.030
# Test::More 0.94 1.302193
# Test::Roo any 1.004
# Test::Roo::Role any 1.004
# Test::TempDir::Tiny any 0.018
# lib any 0.65
# strict any 1.11
# warnings any 1.47
#
# === Test Recommends ===
#
# Module Want Have
# ---------- -------- --------
# CPAN::Meta 2.120900 2.150010
#
# === Runtime Requires ===
#
# Module Want Have
# ------------------------------- -------- --------
# CPAN::Changes 0.400002 0.400002
# CPAN::Changes::Release any undef
# Class::Load any 0.25
# DateTime any 1.59
# Dist::Zilla 6.005 6.030
# Dist::Zilla::Role::AfterBuild any 6.030
# Dist::Zilla::Role::FileGatherer any 6.030
# Dist::Zilla::Role::Git::Repo any 2.048
# Encode any 3.06
# Git::Wrapper any 0.048
# Moose any 2.2203
# Moose::Util::TypeConstraints any 2.2203
# perl v5.24.0 5.032000
#
# === Runtime Recommends ===
#
# Module Want Have
# ------------------ ---- -------
# Proc::InvokeEditor any missing
#
t/00-report-prereqs.t .. ok
# Extracting /home/david/cpantesting/perl-5.32.0-longdouble/.cpan/build/Dist-Zilla-Plugin-ChangelogFromGit-CPAN-Changes-0.230680-0/t/data/repos/test_repo.tar.gz to /home/david/cpantesting/perl-5.32.0-longdouble/.cpan/build/Dist-Zilla-Plugin-ChangelogFromGit-CPAN-Changes-0.230680-0/tmp/t_changes_t/default_1
# Comparing /home/david/cpantesting/perl-5.32.0-longdouble/.cpan/build/Dist-Zilla-Plugin-ChangelogFromGit-CPAN-Changes-0.230680-0/tmp/wFNcxAmO5m/build/Changes to t/data/changes/v1_defaults
# Comparing /home/david/cpantesting/perl-5.32.0-longdouble/.cpan/build/Dist-Zilla-Plugin-ChangelogFromGit-CPAN-Changes-0.230680-0/tmp/M0_KImS8d1/build/Changes to t/data/changes/v1_no_author
# Comparing /home/david/cpantesting/perl-5.32.0-longdouble/.cpan/build/Dist-Zilla-Plugin-ChangelogFromGit-CPAN-Changes-0.230680-0/tmp/hnQV_HpTbs/build/Changes to t/data/changes/v1_email
# Comparing /home/david/cpantesting/perl-5.32.0-longdouble/.cpan/build/Dist-Zilla-Plugin-ChangelogFromGit-CPAN-Changes-0.230680-0/tmp/y4O7_G6lma/build/Changes to t/data/changes/v1_group_author
# Comparing /home/david/cpantesting/perl-5.32.0-longdouble/.cpan/build/Dist-Zilla-Plugin-ChangelogFromGit-CPAN-Changes-0.230680-0/tmp/OTQWAAj8mz/build/Changes to t/data/changes/v1_group_author_email
t/changes.t ............ ok
# Extracting /home/david/cpantesting/perl-5.32.0-longdouble/.cpan/build/Dist-Zilla-Plugin-ChangelogFromGit-CPAN-Changes-0.230680-0/t/data/repos/first_release.tar.gz to /home/david/cpantesting/perl-5.32.0-longdouble/.cpan/build/Dist-Zilla-Plugin-ChangelogFromGit-CPAN-Changes-0.230680-0/tmp/t_first_release_t/default_1
# Comparing /home/david/cpantesting/perl-5.32.0-longdouble/.cpan/build/Dist-Zilla-Plugin-ChangelogFromGit-CPAN-Changes-0.230680-0/tmp/pcRifa3Krj/build/Changes to t/data/changes/first_release
t/first_release.t ...... ok
All tests successful.
Files=5, Tests=36, 30 wallclock secs ( 0.10 usr 0.02 sys + 7.88 cusr 1.78 csys = 9.78 CPU)
Result: PASS
------------------------------
PREREQUISITES
------------------------------
Prerequisite modules loaded:
requires:
Module Need Have
------------------------------- -------- --------
Class::Load 0 0.25
CPAN::Changes 0.400002 0.400002
CPAN::Changes::Release 0 0
DateTime 0 1.59
Dist::Zilla 6.005 6.030
Dist::Zilla::Role::AfterBuild 0 6.030
Dist::Zilla::Role::FileGatherer 0 6.030
Dist::Zilla::Role::Git::Repo 0 2.048
Encode 0 3.06
Git::Wrapper 0 0.048
Moose 0 2.2203
Moose::Util::TypeConstraints 0 2.2203
perl v5.24.0 5.032000
build_requires:
Module Need Have
------------------------------- -------- --------
Archive::Tar 0 2.36
Dist::Zilla::File::InMemory 0 6.030
ExtUtils::MakeMaker 0 7.44
File::chdir 0 0.1011
File::Spec 0 3.78
IO::Handle 0 1.42
IPC::Open3 0 1.21
lib 0 0.65
Path::Tiny 0 0.122
strict 0 1.11
Test::CheckDeps 0.010 0.010
Test::CPAN::Changes 0 0.400002
Test::DZil 0 6.030
Test::More 0.94 1.302193
Test::Roo 0 1.004
Test::Roo::Role 0 1.004
Test::TempDir::Tiny 0 0.018
warnings 0 1.47
------------------------------
ENVIRONMENT AND OTHER CONTEXT
------------------------------
Environment variables:
AUTOMATED_TESTING = 1
LANG = en_GB.UTF-8
LANGUAGE = en_GB:en
LC_TERMINAL = iTerm2
LC_TERMINAL_VERSION = 3.4.19
NONINTERACTIVE_TESTING = 1
PATH = /home/david/.cargo/bin:/home/david/perl5/perlbrew/bin:/home/david/perl5/perlbrew/perls/perl-5.32.0/bin:/home/david/bin:/usr/local/bin:/usr/bin:/bin:/usr/local/games:/usr/games
PERL = 5.32.0-longdouble
PERL5LIB =
PERL5OPT =
PERL5_CPANPLUS_IS_RUNNING = 4396
PERL5_CPAN_IS_RUNNING = 4396
PERLBREW_HOME = /home/david/.perlbrew
PERLBREW_MANPATH = /home/david/perl5/perlbrew/perls/perl-5.32.0/man
PERLBREW_PATH = /home/david/perl5/perlbrew/bin:/home/david/perl5/perlbrew/perls/perl-5.32.0/bin
PERLBREW_PERL = perl-5.32.0
PERLBREW_ROOT = /home/david/perl5/perlbrew
PERLBREW_SHELLRC_VERSION = 0.89
PERLBREW_VERSION = 0.89
PERLVER = 5.32.0-longdouble
PERL_INLINE_DIRECTORY = /home/david/.Inline-5.32.0-longdouble
PERL_MM_USE_DEFAULT = 1
PERL_USE_UNSAFE_INC = 0
SHELL = /bin/bash
TERM = screen
Perl special variables (and OS-specific diagnostics, for MSWin32):
$^X = /home/david/cpantesting/perl-5.32.0-longdouble/bin/perl
$UID/$EUID = 1000 / 1000
$GID = 1000 24 25 27 29 30 44 46 109 1000
$EGID = 1000 24 25 27 29 30 44 46 109 1000
Perl module toolchain versions installed:
Module Have
------------------- --------
CPAN 2.27
CPAN::Meta 2.150010
Cwd 3.78
ExtUtils::CBuilder 0.280234
ExtUtils::Command 7.44
ExtUtils::Install 2.14
ExtUtils::MakeMaker 7.44
ExtUtils::Manifest 1.72
ExtUtils::ParseXS 3.40
File::Spec 3.78
JSON 4.10
JSON::PP 4.16
Module::Build 0.4232
Module::Signature n/a
Parse::CPAN::Meta 2.150010
Test::Harness 3.42
Test::More 1.302193
YAML 1.30
YAML::Syck n/a
version 0.9924
--
Summary of my perl5 (revision 5 version 32 subversion 0) configuration:
Platform:
osname=linux
osvers=5.10.0-11-686-pae
archname=i686-linux-ld
uname='linux cpantesting-linux-32bit-utm 5.10.0-11-686-pae #1 smp debian 5.10.92-1 (2022-01-18) i686 gnulinux '
config_args='-de -Dprefix=/home/david/cpantesting/perl-5.32.0-longdouble -Duselongdouble'
hint=recommended
useposix=true
d_sigaction=define
useithreads=undef
usemultiplicity=undef
use64bitint=undef
use64bitall=undef
uselongdouble=define
usemymalloc=n
default_inc_excludes_dot=define
bincompat5005=undef
Compiler:
cc='cc'
ccflags ='-fwrapv -fno-strict-aliasing -pipe -fstack-protector-strong -I/usr/local/include -D_LARGEFILE_SOURCE -D_FILE_OFFSET_BITS=64 -D_FORTIFY_SOURCE=2'
optimize='-O2'
cppflags='-fwrapv -fno-strict-aliasing -pipe -fstack-protector-strong -I/usr/local/include'
ccversion=''
gccversion='10.2.1 20210110'
gccosandvers=''
intsize=4
longsize=4
ptrsize=4
doublesize=8
byteorder=1234
doublekind=3
d_longlong=define
longlongsize=8
d_longdbl=define
longdblsize=12
longdblkind=3
ivtype='long'
ivsize=4
nvtype='long double'
nvsize=12
Off_t='off_t'
lseeksize=8
alignbytes=4
prototype=define
Linker and Libraries:
ld='cc'
ldflags =' -fstack-protector-strong -L/usr/local/lib'
libpth=/usr/local/lib /usr/include/i386-linux-gnu /usr/lib /lib/i386-linux-gnu /lib/../lib /usr/lib/i386-linux-gnu /usr/lib/../lib /lib /lib64 /usr/lib64
libs=-lpthread -lnsl -ldl -lm -lcrypt -lutil -lc
perllibs=-lpthread -lnsl -ldl -lm -lcrypt -lutil -lc
libc=libc-2.31.so
so=so
useshrplib=false
libperl=libperl.a
gnulibc_version='2.31'
Dynamic Linking:
dlsrc=dl_dlopen.xs
dlext=so
d_dlsymun=undef
ccdlflags='-Wl,-E'
cccdlflags='-fPIC'
lddlflags='-shared -O2 -L/usr/local/lib -fstack-protector-strong'
Characteristics of this binary (from libperl):
Compile-time options:
HAS_TIMES
PERLIO_LAYERS
PERL_COPY_ON_WRITE
PERL_DONT_CREATE_GVSV
PERL_MALLOC_WRAP
PERL_OP_PARENT
PERL_PRESERVE_IVUV
USE_LARGE_FILES
USE_LOCALE
USE_LOCALE_COLLATE
USE_LOCALE_CTYPE
USE_LOCALE_NUMERIC
USE_LOCALE_TIME
USE_LONG_DOUBLE
USE_PERLIO
USE_PERL_ATOF
Built under linux
Compiled at Feb 7 2022 23:46:16
%ENV:
PERL="5.32.0-longdouble"
PERL5LIB=""
PERL5OPT=""
PERL5_CPANPLUS_IS_RUNNING="4396"
PERL5_CPAN_IS_RUNNING="4396"
PERLBREW_HOME="/home/david/.perlbrew"
PERLBREW_MANPATH="/home/david/perl5/perlbrew/perls/perl-5.32.0/man"
PERLBREW_PATH="/home/david/perl5/perlbrew/bin:/home/david/perl5/perlbrew/perls/perl-5.32.0/bin"
PERLBREW_PERL="perl-5.32.0"
PERLBREW_ROOT="/home/david/perl5/perlbrew"
PERLBREW_SHELLRC_VERSION="0.89"
PERLBREW_VERSION="0.89"
PERLVER="5.32.0-longdouble"
PERL_INLINE_DIRECTORY="/home/david/.Inline-5.32.0-longdouble"
PERL_MM_USE_DEFAULT="1"
PERL_USE_UNSAFE_INC="0"
@INC:
/home/david/cpantesting/perl-5.32.0-longdouble/lib/site_perl/5.32.0/i686-linux-ld
/home/david/cpantesting/perl-5.32.0-longdouble/lib/site_perl/5.32.0
/home/david/cpantesting/perl-5.32.0-longdouble/lib/5.32.0/i686-linux-ld
/home/david/cpantesting/perl-5.32.0-longdouble/lib/5.32.0